BEGIN:VCALENDAR
VERSION:2.0
PRODID:-//Mt Gilead Baptist Church - ECPv6.15.15//NONSGML v1.0//EN
CALSCALE:GREGORIAN
METHOD:PUBLISH
X-ORIGINAL-URL:https://mtgileadbc.org
X-WR-CALDESC:Events for Mt Gilead Baptist Church
REFRESH-INTERVAL;VALUE=DURATION:PT1H
X-Robots-Tag:noindex
X-PUBLISHED-TTL:PT1H
BEGIN:VTIMEZONE
TZID:America/Chicago
BEGIN:DAYLIGHT
TZOFFSETFROM:-0600
TZOFFSETTO:-0500
TZNAME:CDT
DTSTART:20280312T080000
END:DAYLIGHT
BEGIN:STANDARD
TZOFFSETFROM:-0500
TZOFFSETTO:-0600
TZNAME:CST
DTSTART:20281105T070000
END:STANDARD
BEGIN:DAYLIGHT
TZOFFSETFROM:-0600
TZOFFSETTO:-0500
TZNAME:CDT
DTSTART:20290311T080000
END:DAYLIGHT
BEGIN:STANDARD
TZOFFSETFROM:-0500
TZOFFSETTO:-0600
TZNAME:CST
DTSTART:20291104T070000
END:STANDARD
BEGIN:DAYLIGHT
TZOFFSETFROM:-0600
TZOFFSETTO:-0500
TZNAME:CDT
DTSTART:20300310T080000
END:DAYLIGHT
BEGIN:STANDARD
TZOFFSETFROM:-0500
TZOFFSETTO:-0600
TZNAME:CST
DTSTART:20301103T070000
END:STANDARD
END:VTIMEZONE
BEGIN:VEVENT
DTSTART;TZID=America/Chicago:20290704T190000
DTEND;TZID=America/Chicago:20290704T200000
DTSTAMP:20260420T144339
CREATED:20260104T210101Z
LAST-MODIFIED:20260104T210101Z
UID:10003071-1877886000-1877889600@mtgileadbc.org
SUMMARY:Business Meeting
DESCRIPTION:
URL:https://mtgileadbc.org/event/business-meeting/2029-07-04/
CATEGORIES:Adult Ministry
END:VEVENT
BEGIN:VEVENT
DTSTART;TZID=America/Chicago:20290704T190000
DTEND;TZID=America/Chicago:20290704T200000
DTSTAMP:20260420T144339
CREATED:20260104T210248Z
LAST-MODIFIED:20260104T210248Z
UID:10003332-1877886000-1877889600@mtgileadbc.org
SUMMARY:Bible Study for All Ages
DESCRIPTION:
URL:https://mtgileadbc.org/event/bible-study-for-all-ages/2029-07-04/
CATEGORIES:Adult Ministry,All are Welcome,Kids Ministry,Women Ministry
END:VEVENT
BEGIN:VEVENT
DTSTART;TZID=America/Chicago:20290708T100000
DTEND;TZID=America/Chicago:20290708T110000
DTSTAMP:20260420T144339
CREATED:20260104T205141Z
LAST-MODIFIED:20260104T205141Z
UID:10002548-1878199200-1878202800@mtgileadbc.org
SUMMARY:Sunday School All-Ages
DESCRIPTION:
URL:https://mtgileadbc.org/event/sunday-school-all-ages/2029-07-08/
LOCATION:Mt Gilead Baptist Church\, 5751 Highway 104 N\, Cedar Grove\, TN\, 38321\, United States
CATEGORIES:Adult Ministry,All are Welcome,Kids Ministry,Women Ministry
END:VEVENT
BEGIN:VEVENT
DTSTART;TZID=America/Chicago:20290708T110000
DTEND;TZID=America/Chicago:20290708T120000
DTSTAMP:20260420T144339
CREATED:20260201T142652Z
LAST-MODIFIED:20260201T142753Z
UID:10002287-1878202800-1878206400@mtgileadbc.org
SUMMARY:Sunday Morning Service
DESCRIPTION:
URL:https://mtgileadbc.org/event/sunday-morning-service-2/2029-07-08/
CATEGORIES:Adult Ministry,All are Welcome,Kids Ministry,Women Ministry
END:VEVENT
BEGIN:VEVENT
DTSTART;TZID=America/Chicago:20290711T190000
DTEND;TZID=America/Chicago:20290711T200000
DTSTAMP:20260420T144339
CREATED:20260104T210101Z
LAST-MODIFIED:20260104T210101Z
UID:10003072-1878490800-1878494400@mtgileadbc.org
SUMMARY:Business Meeting
DESCRIPTION:
URL:https://mtgileadbc.org/event/business-meeting/2029-07-11/
CATEGORIES:Adult Ministry
END:VEVENT
BEGIN:VEVENT
DTSTART;TZID=America/Chicago:20290711T190000
DTEND;TZID=America/Chicago:20290711T200000
DTSTAMP:20260420T144339
CREATED:20260104T210248Z
LAST-MODIFIED:20260104T210248Z
UID:10003333-1878490800-1878494400@mtgileadbc.org
SUMMARY:Bible Study for All Ages
DESCRIPTION:
URL:https://mtgileadbc.org/event/bible-study-for-all-ages/2029-07-11/
CATEGORIES:Adult Ministry,All are Welcome,Kids Ministry,Women Ministry
END:VEVENT
BEGIN:VEVENT
DTSTART;TZID=America/Chicago:20290715T100000
DTEND;TZID=America/Chicago:20290715T110000
DTSTAMP:20260420T144339
CREATED:20260104T205141Z
LAST-MODIFIED:20260104T205141Z
UID:10002549-1878804000-1878807600@mtgileadbc.org
SUMMARY:Sunday School All-Ages
DESCRIPTION:
URL:https://mtgileadbc.org/event/sunday-school-all-ages/2029-07-15/
LOCATION:Mt Gilead Baptist Church\, 5751 Highway 104 N\, Cedar Grove\, TN\, 38321\, United States
CATEGORIES:Adult Ministry,All are Welcome,Kids Ministry,Women Ministry
END:VEVENT
BEGIN:VEVENT
DTSTART;TZID=America/Chicago:20290715T110000
DTEND;TZID=America/Chicago:20290715T120000
DTSTAMP:20260420T144339
CREATED:20260201T142652Z
LAST-MODIFIED:20260201T142753Z
UID:10002288-1878807600-1878811200@mtgileadbc.org
SUMMARY:Sunday Morning Service
DESCRIPTION:
URL:https://mtgileadbc.org/event/sunday-morning-service-2/2029-07-15/
CATEGORIES:Adult Ministry,All are Welcome,Kids Ministry,Women Ministry
END:VEVENT
BEGIN:VEVENT
DTSTART;TZID=America/Chicago:20290718T190000
DTEND;TZID=America/Chicago:20290718T200000
DTSTAMP:20260420T144339
CREATED:20260104T210101Z
LAST-MODIFIED:20260104T210101Z
UID:10003073-1879095600-1879099200@mtgileadbc.org
SUMMARY:Business Meeting
DESCRIPTION:
URL:https://mtgileadbc.org/event/business-meeting/2029-07-18/
CATEGORIES:Adult Ministry
END:VEVENT
BEGIN:VEVENT
DTSTART;TZID=America/Chicago:20290718T190000
DTEND;TZID=America/Chicago:20290718T200000
DTSTAMP:20260420T144339
CREATED:20260104T210248Z
LAST-MODIFIED:20260104T210248Z
UID:10003334-1879095600-1879099200@mtgileadbc.org
SUMMARY:Bible Study for All Ages
DESCRIPTION:
URL:https://mtgileadbc.org/event/bible-study-for-all-ages/2029-07-18/
CATEGORIES:Adult Ministry,All are Welcome,Kids Ministry,Women Ministry
END:VEVENT
BEGIN:VEVENT
DTSTART;TZID=America/Chicago:20290722T100000
DTEND;TZID=America/Chicago:20290722T110000
DTSTAMP:20260420T144339
CREATED:20260104T205141Z
LAST-MODIFIED:20260104T205141Z
UID:10002550-1879408800-1879412400@mtgileadbc.org
SUMMARY:Sunday School All-Ages
DESCRIPTION:
URL:https://mtgileadbc.org/event/sunday-school-all-ages/2029-07-22/
LOCATION:Mt Gilead Baptist Church\, 5751 Highway 104 N\, Cedar Grove\, TN\, 38321\, United States
CATEGORIES:Adult Ministry,All are Welcome,Kids Ministry,Women Ministry
END:VEVENT
BEGIN:VEVENT
DTSTART;TZID=America/Chicago:20290722T110000
DTEND;TZID=America/Chicago:20290722T120000
DTSTAMP:20260420T144339
CREATED:20260201T142652Z
LAST-MODIFIED:20260201T142753Z
UID:10002289-1879412400-1879416000@mtgileadbc.org
SUMMARY:Sunday Morning Service
DESCRIPTION:
URL:https://mtgileadbc.org/event/sunday-morning-service-2/2029-07-22/
CATEGORIES:Adult Ministry,All are Welcome,Kids Ministry,Women Ministry
END:VEVENT
BEGIN:VEVENT
DTSTART;TZID=America/Chicago:20290725T190000
DTEND;TZID=America/Chicago:20290725T200000
DTSTAMP:20260420T144339
CREATED:20260104T210101Z
LAST-MODIFIED:20260104T210101Z
UID:10003074-1879700400-1879704000@mtgileadbc.org
SUMMARY:Business Meeting
DESCRIPTION:
URL:https://mtgileadbc.org/event/business-meeting/2029-07-25/
CATEGORIES:Adult Ministry
END:VEVENT
BEGIN:VEVENT
DTSTART;TZID=America/Chicago:20290725T190000
DTEND;TZID=America/Chicago:20290725T200000
DTSTAMP:20260420T144339
CREATED:20260104T210248Z
LAST-MODIFIED:20260104T210248Z
UID:10003335-1879700400-1879704000@mtgileadbc.org
SUMMARY:Bible Study for All Ages
DESCRIPTION:
URL:https://mtgileadbc.org/event/bible-study-for-all-ages/2029-07-25/
CATEGORIES:Adult Ministry,All are Welcome,Kids Ministry,Women Ministry
END:VEVENT
BEGIN:VEVENT
DTSTART;TZID=America/Chicago:20290729T100000
DTEND;TZID=America/Chicago:20290729T110000
DTSTAMP:20260420T144339
CREATED:20260104T205141Z
LAST-MODIFIED:20260104T205141Z
UID:10002551-1880013600-1880017200@mtgileadbc.org
SUMMARY:Sunday School All-Ages
DESCRIPTION:
URL:https://mtgileadbc.org/event/sunday-school-all-ages/2029-07-29/
LOCATION:Mt Gilead Baptist Church\, 5751 Highway 104 N\, Cedar Grove\, TN\, 38321\, United States
CATEGORIES:Adult Ministry,All are Welcome,Kids Ministry,Women Ministry
END:VEVENT
BEGIN:VEVENT
DTSTART;TZID=America/Chicago:20290729T110000
DTEND;TZID=America/Chicago:20290729T120000
DTSTAMP:20260420T144339
CREATED:20260201T142652Z
LAST-MODIFIED:20260201T142753Z
UID:10002290-1880017200-1880020800@mtgileadbc.org
SUMMARY:Sunday Morning Service
DESCRIPTION:
URL:https://mtgileadbc.org/event/sunday-morning-service-2/2029-07-29/
CATEGORIES:Adult Ministry,All are Welcome,Kids Ministry,Women Ministry
END:VEVENT
BEGIN:VEVENT
DTSTART;TZID=America/Chicago:20290801T190000
DTEND;TZID=America/Chicago:20290801T200000
DTSTAMP:20260420T144339
CREATED:20260104T210101Z
LAST-MODIFIED:20260104T210101Z
UID:10003075-1880305200-1880308800@mtgileadbc.org
SUMMARY:Business Meeting
DESCRIPTION:
URL:https://mtgileadbc.org/event/business-meeting/2029-08-01/
CATEGORIES:Adult Ministry
END:VEVENT
BEGIN:VEVENT
DTSTART;TZID=America/Chicago:20290801T190000
DTEND;TZID=America/Chicago:20290801T200000
DTSTAMP:20260420T144339
CREATED:20260104T210248Z
LAST-MODIFIED:20260104T210248Z
UID:10003336-1880305200-1880308800@mtgileadbc.org
SUMMARY:Bible Study for All Ages
DESCRIPTION:
URL:https://mtgileadbc.org/event/bible-study-for-all-ages/2029-08-01/
CATEGORIES:Adult Ministry,All are Welcome,Kids Ministry,Women Ministry
END:VEVENT
BEGIN:VEVENT
DTSTART;TZID=America/Chicago:20290805T100000
DTEND;TZID=America/Chicago:20290805T110000
DTSTAMP:20260420T144339
CREATED:20260104T205141Z
LAST-MODIFIED:20260104T205141Z
UID:10002552-1880618400-1880622000@mtgileadbc.org
SUMMARY:Sunday School All-Ages
DESCRIPTION:
URL:https://mtgileadbc.org/event/sunday-school-all-ages/2029-08-05/
LOCATION:Mt Gilead Baptist Church\, 5751 Highway 104 N\, Cedar Grove\, TN\, 38321\, United States
CATEGORIES:Adult Ministry,All are Welcome,Kids Ministry,Women Ministry
END:VEVENT
BEGIN:VEVENT
DTSTART;TZID=America/Chicago:20290805T110000
DTEND;TZID=America/Chicago:20290805T120000
DTSTAMP:20260420T144339
CREATED:20260201T142652Z
LAST-MODIFIED:20260201T142753Z
UID:10002291-1880622000-1880625600@mtgileadbc.org
SUMMARY:Sunday Morning Service
DESCRIPTION:
URL:https://mtgileadbc.org/event/sunday-morning-service-2/2029-08-05/
CATEGORIES:Adult Ministry,All are Welcome,Kids Ministry,Women Ministry
END:VEVENT
BEGIN:VEVENT
DTSTART;TZID=America/Chicago:20290808T190000
DTEND;TZID=America/Chicago:20290808T200000
DTSTAMP:20260420T144339
CREATED:20260104T210101Z
LAST-MODIFIED:20260104T210101Z
UID:10003076-1880910000-1880913600@mtgileadbc.org
SUMMARY:Business Meeting
DESCRIPTION:
URL:https://mtgileadbc.org/event/business-meeting/2029-08-08/
CATEGORIES:Adult Ministry
END:VEVENT
BEGIN:VEVENT
DTSTART;TZID=America/Chicago:20290808T190000
DTEND;TZID=America/Chicago:20290808T200000
DTSTAMP:20260420T144339
CREATED:20260104T210248Z
LAST-MODIFIED:20260104T210248Z
UID:10003337-1880910000-1880913600@mtgileadbc.org
SUMMARY:Bible Study for All Ages
DESCRIPTION:
URL:https://mtgileadbc.org/event/bible-study-for-all-ages/2029-08-08/
CATEGORIES:Adult Ministry,All are Welcome,Kids Ministry,Women Ministry
END:VEVENT
BEGIN:VEVENT
DTSTART;TZID=America/Chicago:20290812T100000
DTEND;TZID=America/Chicago:20290812T110000
DTSTAMP:20260420T144339
CREATED:20260104T205141Z
LAST-MODIFIED:20260104T205141Z
UID:10002553-1881223200-1881226800@mtgileadbc.org
SUMMARY:Sunday School All-Ages
DESCRIPTION:
URL:https://mtgileadbc.org/event/sunday-school-all-ages/2029-08-12/
LOCATION:Mt Gilead Baptist Church\, 5751 Highway 104 N\, Cedar Grove\, TN\, 38321\, United States
CATEGORIES:Adult Ministry,All are Welcome,Kids Ministry,Women Ministry
END:VEVENT
BEGIN:VEVENT
DTSTART;TZID=America/Chicago:20290812T110000
DTEND;TZID=America/Chicago:20290812T120000
DTSTAMP:20260420T144339
CREATED:20260201T142652Z
LAST-MODIFIED:20260201T142753Z
UID:10002292-1881226800-1881230400@mtgileadbc.org
SUMMARY:Sunday Morning Service
DESCRIPTION:
URL:https://mtgileadbc.org/event/sunday-morning-service-2/2029-08-12/
CATEGORIES:Adult Ministry,All are Welcome,Kids Ministry,Women Ministry
END:VEVENT
BEGIN:VEVENT
DTSTART;TZID=America/Chicago:20290815T190000
DTEND;TZID=America/Chicago:20290815T200000
DTSTAMP:20260420T144339
CREATED:20260104T210101Z
LAST-MODIFIED:20260104T210101Z
UID:10003077-1881514800-1881518400@mtgileadbc.org
SUMMARY:Business Meeting
DESCRIPTION:
URL:https://mtgileadbc.org/event/business-meeting/2029-08-15/
CATEGORIES:Adult Ministry
END:VEVENT
BEGIN:VEVENT
DTSTART;TZID=America/Chicago:20290815T190000
DTEND;TZID=America/Chicago:20290815T200000
DTSTAMP:20260420T144339
CREATED:20260104T210248Z
LAST-MODIFIED:20260104T210248Z
UID:10003338-1881514800-1881518400@mtgileadbc.org
SUMMARY:Bible Study for All Ages
DESCRIPTION:
URL:https://mtgileadbc.org/event/bible-study-for-all-ages/2029-08-15/
CATEGORIES:Adult Ministry,All are Welcome,Kids Ministry,Women Ministry
END:VEVENT
BEGIN:VEVENT
DTSTART;TZID=America/Chicago:20290819T100000
DTEND;TZID=America/Chicago:20290819T110000
DTSTAMP:20260420T144339
CREATED:20260104T205141Z
LAST-MODIFIED:20260104T205141Z
UID:10002554-1881828000-1881831600@mtgileadbc.org
SUMMARY:Sunday School All-Ages
DESCRIPTION:
URL:https://mtgileadbc.org/event/sunday-school-all-ages/2029-08-19/
LOCATION:Mt Gilead Baptist Church\, 5751 Highway 104 N\, Cedar Grove\, TN\, 38321\, United States
CATEGORIES:Adult Ministry,All are Welcome,Kids Ministry,Women Ministry
END:VEVENT
BEGIN:VEVENT
DTSTART;TZID=America/Chicago:20290819T110000
DTEND;TZID=America/Chicago:20290819T120000
DTSTAMP:20260420T144339
CREATED:20260201T142652Z
LAST-MODIFIED:20260201T142753Z
UID:10002293-1881831600-1881835200@mtgileadbc.org
SUMMARY:Sunday Morning Service
DESCRIPTION:
URL:https://mtgileadbc.org/event/sunday-morning-service-2/2029-08-19/
CATEGORIES:Adult Ministry,All are Welcome,Kids Ministry,Women Ministry
END:VEVENT
BEGIN:VEVENT
DTSTART;TZID=America/Chicago:20290822T190000
DTEND;TZID=America/Chicago:20290822T200000
DTSTAMP:20260420T144339
CREATED:20260104T210101Z
LAST-MODIFIED:20260104T210101Z
UID:10003078-1882119600-1882123200@mtgileadbc.org
SUMMARY:Business Meeting
DESCRIPTION:
URL:https://mtgileadbc.org/event/business-meeting/2029-08-22/
CATEGORIES:Adult Ministry
END:VEVENT
BEGIN:VEVENT
DTSTART;TZID=America/Chicago:20290822T190000
DTEND;TZID=America/Chicago:20290822T200000
DTSTAMP:20260420T144339
CREATED:20260104T210248Z
LAST-MODIFIED:20260104T210248Z
UID:10003339-1882119600-1882123200@mtgileadbc.org
SUMMARY:Bible Study for All Ages
DESCRIPTION:
URL:https://mtgileadbc.org/event/bible-study-for-all-ages/2029-08-22/
CATEGORIES:Adult Ministry,All are Welcome,Kids Ministry,Women Ministry
END:VEVENT
END:VCALENDAR