BEGIN:VCALENDAR
VERSION:2.0
PRODID:-//Mt Gilead Baptist Church - ECPv6.15.15//NONSGML v1.0//EN
CALSCALE:GREGORIAN
METHOD:PUBLISH
X-WR-CALNAME:Mt Gilead Baptist Church
X-ORIGINAL-URL:https://mtgileadbc.org
X-WR-CALDESC:Events for Mt Gilead Baptist Church
REFRESH-INTERVAL;VALUE=DURATION:PT1H
X-Robots-Tag:noindex
X-PUBLISHED-TTL:PT1H
BEGIN:VTIMEZONE
TZID:America/Chicago
BEGIN:DAYLIGHT
TZOFFSETFROM:-0600
TZOFFSETTO:-0500
TZNAME:CDT
DTSTART:20280312T080000
END:DAYLIGHT
BEGIN:STANDARD
TZOFFSETFROM:-0500
TZOFFSETTO:-0600
TZNAME:CST
DTSTART:20281105T070000
END:STANDARD
BEGIN:DAYLIGHT
TZOFFSETFROM:-0600
TZOFFSETTO:-0500
TZNAME:CDT
DTSTART:20290311T080000
END:DAYLIGHT
BEGIN:STANDARD
TZOFFSETFROM:-0500
TZOFFSETTO:-0600
TZNAME:CST
DTSTART:20291104T070000
END:STANDARD
BEGIN:DAYLIGHT
TZOFFSETFROM:-0600
TZOFFSETTO:-0500
TZNAME:CDT
DTSTART:20300310T080000
END:DAYLIGHT
BEGIN:STANDARD
TZOFFSETFROM:-0500
TZOFFSETTO:-0600
TZNAME:CST
DTSTART:20301103T070000
END:STANDARD
END:VTIMEZONE
BEGIN:VEVENT
DTSTART;TZID=America/Chicago:20291014T100000
DTEND;TZID=America/Chicago:20291014T110000
DTSTAMP:20260420T203844
CREATED:20260104T205141Z
LAST-MODIFIED:20260104T205141Z
UID:10002562-1886666400-1886670000@mtgileadbc.org
SUMMARY:Sunday School All-Ages
DESCRIPTION:
URL:https://mtgileadbc.org/event/sunday-school-all-ages/2029-10-14/
LOCATION:Mt Gilead Baptist Church\, 5751 Highway 104 N\, Cedar Grove\, TN\, 38321\, United States
CATEGORIES:Adult Ministry,All are Welcome,Kids Ministry,Women Ministry
END:VEVENT
BEGIN:VEVENT
DTSTART;TZID=America/Chicago:20291014T110000
DTEND;TZID=America/Chicago:20291014T120000
DTSTAMP:20260420T203844
CREATED:20260201T142652Z
LAST-MODIFIED:20260201T142753Z
UID:10002301-1886670000-1886673600@mtgileadbc.org
SUMMARY:Sunday Morning Service
DESCRIPTION:
URL:https://mtgileadbc.org/event/sunday-morning-service-2/2029-10-14/
CATEGORIES:Adult Ministry,All are Welcome,Kids Ministry,Women Ministry
END:VEVENT
BEGIN:VEVENT
DTSTART;TZID=America/Chicago:20291017T190000
DTEND;TZID=America/Chicago:20291017T200000
DTSTAMP:20260420T203844
CREATED:20260104T210101Z
LAST-MODIFIED:20260104T210101Z
UID:10003086-1886958000-1886961600@mtgileadbc.org
SUMMARY:Business Meeting
DESCRIPTION:
URL:https://mtgileadbc.org/event/business-meeting/2029-10-17/
CATEGORIES:Adult Ministry
END:VEVENT
BEGIN:VEVENT
DTSTART;TZID=America/Chicago:20291017T190000
DTEND;TZID=America/Chicago:20291017T200000
DTSTAMP:20260420T203844
CREATED:20260104T210248Z
LAST-MODIFIED:20260104T210248Z
UID:10003347-1886958000-1886961600@mtgileadbc.org
SUMMARY:Bible Study for All Ages
DESCRIPTION:
URL:https://mtgileadbc.org/event/bible-study-for-all-ages/2029-10-17/
CATEGORIES:Adult Ministry,All are Welcome,Kids Ministry,Women Ministry
END:VEVENT
BEGIN:VEVENT
DTSTART;TZID=America/Chicago:20291021T100000
DTEND;TZID=America/Chicago:20291021T110000
DTSTAMP:20260420T203844
CREATED:20260104T205141Z
LAST-MODIFIED:20260104T205141Z
UID:10002563-1887271200-1887274800@mtgileadbc.org
SUMMARY:Sunday School All-Ages
DESCRIPTION:
URL:https://mtgileadbc.org/event/sunday-school-all-ages/2029-10-21/
LOCATION:Mt Gilead Baptist Church\, 5751 Highway 104 N\, Cedar Grove\, TN\, 38321\, United States
CATEGORIES:Adult Ministry,All are Welcome,Kids Ministry,Women Ministry
END:VEVENT
BEGIN:VEVENT
DTSTART;TZID=America/Chicago:20291021T110000
DTEND;TZID=America/Chicago:20291021T120000
DTSTAMP:20260420T203844
CREATED:20260201T142652Z
LAST-MODIFIED:20260201T142753Z
UID:10002302-1887274800-1887278400@mtgileadbc.org
SUMMARY:Sunday Morning Service
DESCRIPTION:
URL:https://mtgileadbc.org/event/sunday-morning-service-2/2029-10-21/
CATEGORIES:Adult Ministry,All are Welcome,Kids Ministry,Women Ministry
END:VEVENT
BEGIN:VEVENT
DTSTART;TZID=America/Chicago:20291024T190000
DTEND;TZID=America/Chicago:20291024T200000
DTSTAMP:20260420T203844
CREATED:20260104T210101Z
LAST-MODIFIED:20260104T210101Z
UID:10003087-1887562800-1887566400@mtgileadbc.org
SUMMARY:Business Meeting
DESCRIPTION:
URL:https://mtgileadbc.org/event/business-meeting/2029-10-24/
CATEGORIES:Adult Ministry
END:VEVENT
BEGIN:VEVENT
DTSTART;TZID=America/Chicago:20291024T190000
DTEND;TZID=America/Chicago:20291024T200000
DTSTAMP:20260420T203844
CREATED:20260104T210248Z
LAST-MODIFIED:20260104T210248Z
UID:10003348-1887562800-1887566400@mtgileadbc.org
SUMMARY:Bible Study for All Ages
DESCRIPTION:
URL:https://mtgileadbc.org/event/bible-study-for-all-ages/2029-10-24/
CATEGORIES:Adult Ministry,All are Welcome,Kids Ministry,Women Ministry
END:VEVENT
BEGIN:VEVENT
DTSTART;TZID=America/Chicago:20291028T100000
DTEND;TZID=America/Chicago:20291028T110000
DTSTAMP:20260420T203844
CREATED:20260104T205141Z
LAST-MODIFIED:20260104T205141Z
UID:10002564-1887876000-1887879600@mtgileadbc.org
SUMMARY:Sunday School All-Ages
DESCRIPTION:
URL:https://mtgileadbc.org/event/sunday-school-all-ages/2029-10-28/
LOCATION:Mt Gilead Baptist Church\, 5751 Highway 104 N\, Cedar Grove\, TN\, 38321\, United States
CATEGORIES:Adult Ministry,All are Welcome,Kids Ministry,Women Ministry
END:VEVENT
BEGIN:VEVENT
DTSTART;TZID=America/Chicago:20291028T110000
DTEND;TZID=America/Chicago:20291028T120000
DTSTAMP:20260420T203844
CREATED:20260201T142652Z
LAST-MODIFIED:20260201T142753Z
UID:10002303-1887879600-1887883200@mtgileadbc.org
SUMMARY:Sunday Morning Service
DESCRIPTION:
URL:https://mtgileadbc.org/event/sunday-morning-service-2/2029-10-28/
CATEGORIES:Adult Ministry,All are Welcome,Kids Ministry,Women Ministry
END:VEVENT
BEGIN:VEVENT
DTSTART;TZID=America/Chicago:20291031T190000
DTEND;TZID=America/Chicago:20291031T200000
DTSTAMP:20260420T203844
CREATED:20260104T210101Z
LAST-MODIFIED:20260104T210101Z
UID:10003088-1888167600-1888171200@mtgileadbc.org
SUMMARY:Business Meeting
DESCRIPTION:
URL:https://mtgileadbc.org/event/business-meeting/2029-10-31/
CATEGORIES:Adult Ministry
END:VEVENT
BEGIN:VEVENT
DTSTART;TZID=America/Chicago:20291031T190000
DTEND;TZID=America/Chicago:20291031T200000
DTSTAMP:20260420T203844
CREATED:20260104T210248Z
LAST-MODIFIED:20260104T210248Z
UID:10003349-1888167600-1888171200@mtgileadbc.org
SUMMARY:Bible Study for All Ages
DESCRIPTION:
URL:https://mtgileadbc.org/event/bible-study-for-all-ages/2029-10-31/
CATEGORIES:Adult Ministry,All are Welcome,Kids Ministry,Women Ministry
END:VEVENT
BEGIN:VEVENT
DTSTART;TZID=America/Chicago:20291104T100000
DTEND;TZID=America/Chicago:20291104T110000
DTSTAMP:20260420T203844
CREATED:20260104T205141Z
LAST-MODIFIED:20260104T205141Z
UID:10002565-1888480800-1888484400@mtgileadbc.org
SUMMARY:Sunday School All-Ages
DESCRIPTION:
URL:https://mtgileadbc.org/event/sunday-school-all-ages/2029-11-04/
LOCATION:Mt Gilead Baptist Church\, 5751 Highway 104 N\, Cedar Grove\, TN\, 38321\, United States
CATEGORIES:Adult Ministry,All are Welcome,Kids Ministry,Women Ministry
END:VEVENT
BEGIN:VEVENT
DTSTART;TZID=America/Chicago:20291104T110000
DTEND;TZID=America/Chicago:20291104T120000
DTSTAMP:20260420T203844
CREATED:20260201T142652Z
LAST-MODIFIED:20260201T142753Z
UID:10002304-1888484400-1888488000@mtgileadbc.org
SUMMARY:Sunday Morning Service
DESCRIPTION:
URL:https://mtgileadbc.org/event/sunday-morning-service-2/2029-11-04/
CATEGORIES:Adult Ministry,All are Welcome,Kids Ministry,Women Ministry
END:VEVENT
BEGIN:VEVENT
DTSTART;TZID=America/Chicago:20291107T190000
DTEND;TZID=America/Chicago:20291107T200000
DTSTAMP:20260420T203844
CREATED:20260104T210101Z
LAST-MODIFIED:20260104T210101Z
UID:10003089-1888772400-1888776000@mtgileadbc.org
SUMMARY:Business Meeting
DESCRIPTION:
URL:https://mtgileadbc.org/event/business-meeting/2029-11-07/
CATEGORIES:Adult Ministry
END:VEVENT
BEGIN:VEVENT
DTSTART;TZID=America/Chicago:20291107T190000
DTEND;TZID=America/Chicago:20291107T200000
DTSTAMP:20260420T203844
CREATED:20260104T210248Z
LAST-MODIFIED:20260104T210248Z
UID:10003350-1888772400-1888776000@mtgileadbc.org
SUMMARY:Bible Study for All Ages
DESCRIPTION:
URL:https://mtgileadbc.org/event/bible-study-for-all-ages/2029-11-07/
CATEGORIES:Adult Ministry,All are Welcome,Kids Ministry,Women Ministry
END:VEVENT
BEGIN:VEVENT
DTSTART;TZID=America/Chicago:20291111T100000
DTEND;TZID=America/Chicago:20291111T110000
DTSTAMP:20260420T203844
CREATED:20260104T205141Z
LAST-MODIFIED:20260104T205141Z
UID:10002566-1889085600-1889089200@mtgileadbc.org
SUMMARY:Sunday School All-Ages
DESCRIPTION:
URL:https://mtgileadbc.org/event/sunday-school-all-ages/2029-11-11/
LOCATION:Mt Gilead Baptist Church\, 5751 Highway 104 N\, Cedar Grove\, TN\, 38321\, United States
CATEGORIES:Adult Ministry,All are Welcome,Kids Ministry,Women Ministry
END:VEVENT
BEGIN:VEVENT
DTSTART;TZID=America/Chicago:20291111T110000
DTEND;TZID=America/Chicago:20291111T120000
DTSTAMP:20260420T203844
CREATED:20260201T142652Z
LAST-MODIFIED:20260201T142753Z
UID:10002305-1889089200-1889092800@mtgileadbc.org
SUMMARY:Sunday Morning Service
DESCRIPTION:
URL:https://mtgileadbc.org/event/sunday-morning-service-2/2029-11-11/
CATEGORIES:Adult Ministry,All are Welcome,Kids Ministry,Women Ministry
END:VEVENT
BEGIN:VEVENT
DTSTART;TZID=America/Chicago:20291114T190000
DTEND;TZID=America/Chicago:20291114T200000
DTSTAMP:20260420T203844
CREATED:20260104T210101Z
LAST-MODIFIED:20260104T210101Z
UID:10003090-1889377200-1889380800@mtgileadbc.org
SUMMARY:Business Meeting
DESCRIPTION:
URL:https://mtgileadbc.org/event/business-meeting/2029-11-14/
CATEGORIES:Adult Ministry
END:VEVENT
BEGIN:VEVENT
DTSTART;TZID=America/Chicago:20291114T190000
DTEND;TZID=America/Chicago:20291114T200000
DTSTAMP:20260420T203844
CREATED:20260104T210248Z
LAST-MODIFIED:20260104T210248Z
UID:10003351-1889377200-1889380800@mtgileadbc.org
SUMMARY:Bible Study for All Ages
DESCRIPTION:
URL:https://mtgileadbc.org/event/bible-study-for-all-ages/2029-11-14/
CATEGORIES:Adult Ministry,All are Welcome,Kids Ministry,Women Ministry
END:VEVENT
BEGIN:VEVENT
DTSTART;TZID=America/Chicago:20291118T100000
DTEND;TZID=America/Chicago:20291118T110000
DTSTAMP:20260420T203844
CREATED:20260104T205141Z
LAST-MODIFIED:20260104T205141Z
UID:10002567-1889690400-1889694000@mtgileadbc.org
SUMMARY:Sunday School All-Ages
DESCRIPTION:
URL:https://mtgileadbc.org/event/sunday-school-all-ages/2029-11-18/
LOCATION:Mt Gilead Baptist Church\, 5751 Highway 104 N\, Cedar Grove\, TN\, 38321\, United States
CATEGORIES:Adult Ministry,All are Welcome,Kids Ministry,Women Ministry
END:VEVENT
BEGIN:VEVENT
DTSTART;TZID=America/Chicago:20291118T110000
DTEND;TZID=America/Chicago:20291118T120000
DTSTAMP:20260420T203844
CREATED:20260201T142652Z
LAST-MODIFIED:20260201T142753Z
UID:10002306-1889694000-1889697600@mtgileadbc.org
SUMMARY:Sunday Morning Service
DESCRIPTION:
URL:https://mtgileadbc.org/event/sunday-morning-service-2/2029-11-18/
CATEGORIES:Adult Ministry,All are Welcome,Kids Ministry,Women Ministry
END:VEVENT
BEGIN:VEVENT
DTSTART;TZID=America/Chicago:20291121T190000
DTEND;TZID=America/Chicago:20291121T200000
DTSTAMP:20260420T203844
CREATED:20260104T210101Z
LAST-MODIFIED:20260104T210101Z
UID:10003091-1889982000-1889985600@mtgileadbc.org
SUMMARY:Business Meeting
DESCRIPTION:
URL:https://mtgileadbc.org/event/business-meeting/2029-11-21/
CATEGORIES:Adult Ministry
END:VEVENT
BEGIN:VEVENT
DTSTART;TZID=America/Chicago:20291121T190000
DTEND;TZID=America/Chicago:20291121T200000
DTSTAMP:20260420T203844
CREATED:20260104T210248Z
LAST-MODIFIED:20260104T210248Z
UID:10003352-1889982000-1889985600@mtgileadbc.org
SUMMARY:Bible Study for All Ages
DESCRIPTION:
URL:https://mtgileadbc.org/event/bible-study-for-all-ages/2029-11-21/
CATEGORIES:Adult Ministry,All are Welcome,Kids Ministry,Women Ministry
END:VEVENT
BEGIN:VEVENT
DTSTART;TZID=America/Chicago:20291125T100000
DTEND;TZID=America/Chicago:20291125T110000
DTSTAMP:20260420T203844
CREATED:20260104T205141Z
LAST-MODIFIED:20260104T205141Z
UID:10002568-1890295200-1890298800@mtgileadbc.org
SUMMARY:Sunday School All-Ages
DESCRIPTION:
URL:https://mtgileadbc.org/event/sunday-school-all-ages/2029-11-25/
LOCATION:Mt Gilead Baptist Church\, 5751 Highway 104 N\, Cedar Grove\, TN\, 38321\, United States
CATEGORIES:Adult Ministry,All are Welcome,Kids Ministry,Women Ministry
END:VEVENT
BEGIN:VEVENT
DTSTART;TZID=America/Chicago:20291125T110000
DTEND;TZID=America/Chicago:20291125T120000
DTSTAMP:20260420T203844
CREATED:20260201T142652Z
LAST-MODIFIED:20260201T142753Z
UID:10002307-1890298800-1890302400@mtgileadbc.org
SUMMARY:Sunday Morning Service
DESCRIPTION:
URL:https://mtgileadbc.org/event/sunday-morning-service-2/2029-11-25/
CATEGORIES:Adult Ministry,All are Welcome,Kids Ministry,Women Ministry
END:VEVENT
BEGIN:VEVENT
DTSTART;TZID=America/Chicago:20291128T190000
DTEND;TZID=America/Chicago:20291128T200000
DTSTAMP:20260420T203844
CREATED:20260104T210101Z
LAST-MODIFIED:20260104T210101Z
UID:10003092-1890586800-1890590400@mtgileadbc.org
SUMMARY:Business Meeting
DESCRIPTION:
URL:https://mtgileadbc.org/event/business-meeting/2029-11-28/
CATEGORIES:Adult Ministry
END:VEVENT
BEGIN:VEVENT
DTSTART;TZID=America/Chicago:20291128T190000
DTEND;TZID=America/Chicago:20291128T200000
DTSTAMP:20260420T203844
CREATED:20260104T210248Z
LAST-MODIFIED:20260104T210248Z
UID:10003353-1890586800-1890590400@mtgileadbc.org
SUMMARY:Bible Study for All Ages
DESCRIPTION:
URL:https://mtgileadbc.org/event/bible-study-for-all-ages/2029-11-28/
CATEGORIES:Adult Ministry,All are Welcome,Kids Ministry,Women Ministry
END:VEVENT
BEGIN:VEVENT
DTSTART;TZID=America/Chicago:20291202T100000
DTEND;TZID=America/Chicago:20291202T110000
DTSTAMP:20260420T203844
CREATED:20260104T205141Z
LAST-MODIFIED:20260104T205141Z
UID:10002569-1890900000-1890903600@mtgileadbc.org
SUMMARY:Sunday School All-Ages
DESCRIPTION:
URL:https://mtgileadbc.org/event/sunday-school-all-ages/2029-12-02/
LOCATION:Mt Gilead Baptist Church\, 5751 Highway 104 N\, Cedar Grove\, TN\, 38321\, United States
CATEGORIES:Adult Ministry,All are Welcome,Kids Ministry,Women Ministry
END:VEVENT
BEGIN:VEVENT
DTSTART;TZID=America/Chicago:20291202T110000
DTEND;TZID=America/Chicago:20291202T120000
DTSTAMP:20260420T203844
CREATED:20260201T142652Z
LAST-MODIFIED:20260201T142753Z
UID:10002308-1890903600-1890907200@mtgileadbc.org
SUMMARY:Sunday Morning Service
DESCRIPTION:
URL:https://mtgileadbc.org/event/sunday-morning-service-2/2029-12-02/
CATEGORIES:Adult Ministry,All are Welcome,Kids Ministry,Women Ministry
END:VEVENT
END:VCALENDAR