BEGIN:VCALENDAR
VERSION:2.0
PRODID:-//Mt Gilead Baptist Church - ECPv6.15.15//NONSGML v1.0//EN
CALSCALE:GREGORIAN
METHOD:PUBLISH
X-WR-CALNAME:Mt Gilead Baptist Church
X-ORIGINAL-URL:https://mtgileadbc.org
X-WR-CALDESC:Events for Mt Gilead Baptist Church
REFRESH-INTERVAL;VALUE=DURATION:PT1H
X-Robots-Tag:noindex
X-PUBLISHED-TTL:PT1H
BEGIN:VTIMEZONE
TZID:America/Chicago
BEGIN:DAYLIGHT
TZOFFSETFROM:-0600
TZOFFSETTO:-0500
TZNAME:CDT
DTSTART:20300310T080000
END:DAYLIGHT
BEGIN:STANDARD
TZOFFSETFROM:-0500
TZOFFSETTO:-0600
TZNAME:CST
DTSTART:20301103T070000
END:STANDARD
BEGIN:DAYLIGHT
TZOFFSETFROM:-0600
TZOFFSETTO:-0500
TZNAME:CDT
DTSTART:20310309T080000
END:DAYLIGHT
BEGIN:STANDARD
TZOFFSETFROM:-0500
TZOFFSETTO:-0600
TZNAME:CST
DTSTART:20311102T070000
END:STANDARD
BEGIN:DAYLIGHT
TZOFFSETFROM:-0600
TZOFFSETTO:-0500
TZNAME:CDT
DTSTART:20320314T080000
END:DAYLIGHT
BEGIN:STANDARD
TZOFFSETFROM:-0500
TZOFFSETTO:-0600
TZNAME:CST
DTSTART:20321107T070000
END:STANDARD
END:VTIMEZONE
BEGIN:VEVENT
DTSTART;TZID=America/Chicago:20310202T100000
DTEND;TZID=America/Chicago:20310202T110000
DTSTAMP:20260423T191405
CREATED:20260104T205141Z
LAST-MODIFIED:20260104T205141Z
UID:10003437-1927792800-1927796400@mtgileadbc.org
SUMMARY:Sunday School All-Ages
DESCRIPTION:
URL:https://mtgileadbc.org/event/sunday-school-all-ages/2031-02-02/
LOCATION:Mt Gilead Baptist Church\, 5751 Highway 104 N\, Cedar Grove\, TN\, 38321\, United States
CATEGORIES:Adult Ministry,All are Welcome,Kids Ministry,Women Ministry
END:VEVENT
BEGIN:VEVENT
DTSTART;TZID=America/Chicago:20310202T110000
DTEND;TZID=America/Chicago:20310202T120000
DTSTAMP:20260423T191405
CREATED:20260201T142652Z
LAST-MODIFIED:20260201T142753Z
UID:10003483-1927796400-1927800000@mtgileadbc.org
SUMMARY:Sunday Morning Service
DESCRIPTION:
URL:https://mtgileadbc.org/event/sunday-morning-service-2/2031-02-02/
CATEGORIES:Adult Ministry,All are Welcome,Kids Ministry,Women Ministry
END:VEVENT
BEGIN:VEVENT
DTSTART;TZID=America/Chicago:20310205T190000
DTEND;TZID=America/Chicago:20310205T200000
DTSTAMP:20260423T191405
CREATED:20260104T210101Z
LAST-MODIFIED:20260104T210101Z
UID:10003447-1928084400-1928088000@mtgileadbc.org
SUMMARY:Business Meeting
DESCRIPTION:
URL:https://mtgileadbc.org/event/business-meeting/2031-02-05/
CATEGORIES:Adult Ministry
END:VEVENT
BEGIN:VEVENT
DTSTART;TZID=America/Chicago:20310205T190000
DTEND;TZID=America/Chicago:20310205T200000
DTSTAMP:20260423T191405
CREATED:20260104T210248Z
LAST-MODIFIED:20260104T210248Z
UID:10003452-1928084400-1928088000@mtgileadbc.org
SUMMARY:Bible Study for All Ages
DESCRIPTION:
URL:https://mtgileadbc.org/event/bible-study-for-all-ages/2031-02-05/
CATEGORIES:Adult Ministry,All are Welcome,Kids Ministry,Women Ministry
END:VEVENT
BEGIN:VEVENT
DTSTART;TZID=America/Chicago:20310209T100000
DTEND;TZID=America/Chicago:20310209T110000
DTSTAMP:20260423T191405
CREATED:20260104T205141Z
LAST-MODIFIED:20260104T205141Z
UID:10003467-1928397600-1928401200@mtgileadbc.org
SUMMARY:Sunday School All-Ages
DESCRIPTION:
URL:https://mtgileadbc.org/event/sunday-school-all-ages/2031-02-09/
LOCATION:Mt Gilead Baptist Church\, 5751 Highway 104 N\, Cedar Grove\, TN\, 38321\, United States
CATEGORIES:Adult Ministry,All are Welcome,Kids Ministry,Women Ministry
END:VEVENT
BEGIN:VEVENT
DTSTART;TZID=America/Chicago:20310209T110000
DTEND;TZID=America/Chicago:20310209T120000
DTSTAMP:20260423T191405
CREATED:20260201T142652Z
LAST-MODIFIED:20260201T142753Z
UID:10003484-1928401200-1928404800@mtgileadbc.org
SUMMARY:Sunday Morning Service
DESCRIPTION:
URL:https://mtgileadbc.org/event/sunday-morning-service-2/2031-02-09/
CATEGORIES:Adult Ministry,All are Welcome,Kids Ministry,Women Ministry
END:VEVENT
BEGIN:VEVENT
DTSTART;TZID=America/Chicago:20310212T190000
DTEND;TZID=America/Chicago:20310212T200000
DTSTAMP:20260423T191405
CREATED:20260104T210101Z
LAST-MODIFIED:20260104T210101Z
UID:10003469-1928689200-1928692800@mtgileadbc.org
SUMMARY:Business Meeting
DESCRIPTION:
URL:https://mtgileadbc.org/event/business-meeting/2031-02-12/
CATEGORIES:Adult Ministry
END:VEVENT
BEGIN:VEVENT
DTSTART;TZID=America/Chicago:20310212T190000
DTEND;TZID=America/Chicago:20310212T200000
DTSTAMP:20260423T191405
CREATED:20260104T210248Z
LAST-MODIFIED:20260104T210248Z
UID:10003470-1928689200-1928692800@mtgileadbc.org
SUMMARY:Bible Study for All Ages
DESCRIPTION:
URL:https://mtgileadbc.org/event/bible-study-for-all-ages/2031-02-12/
CATEGORIES:Adult Ministry,All are Welcome,Kids Ministry,Women Ministry
END:VEVENT
BEGIN:VEVENT
DTSTART;TZID=America/Chicago:20310216T100000
DTEND;TZID=America/Chicago:20310216T110000
DTSTAMP:20260423T191405
CREATED:20260104T205141Z
LAST-MODIFIED:20260104T205141Z
UID:10003471-1929002400-1929006000@mtgileadbc.org
SUMMARY:Sunday School All-Ages
DESCRIPTION:
URL:https://mtgileadbc.org/event/sunday-school-all-ages/2031-02-16/
LOCATION:Mt Gilead Baptist Church\, 5751 Highway 104 N\, Cedar Grove\, TN\, 38321\, United States
CATEGORIES:Adult Ministry,All are Welcome,Kids Ministry,Women Ministry
END:VEVENT
BEGIN:VEVENT
DTSTART;TZID=America/Chicago:20310216T110000
DTEND;TZID=America/Chicago:20310216T120000
DTSTAMP:20260423T191405
CREATED:20260201T142652Z
LAST-MODIFIED:20260201T142753Z
UID:10003485-1929006000-1929009600@mtgileadbc.org
SUMMARY:Sunday Morning Service
DESCRIPTION:
URL:https://mtgileadbc.org/event/sunday-morning-service-2/2031-02-16/
CATEGORIES:Adult Ministry,All are Welcome,Kids Ministry,Women Ministry
END:VEVENT
BEGIN:VEVENT
DTSTART;TZID=America/Chicago:20310219T190000
DTEND;TZID=America/Chicago:20310219T200000
DTSTAMP:20260423T191405
CREATED:20260104T210101Z
LAST-MODIFIED:20260104T210101Z
UID:10003473-1929294000-1929297600@mtgileadbc.org
SUMMARY:Business Meeting
DESCRIPTION:
URL:https://mtgileadbc.org/event/business-meeting/2031-02-19/
CATEGORIES:Adult Ministry
END:VEVENT
BEGIN:VEVENT
DTSTART;TZID=America/Chicago:20310219T190000
DTEND;TZID=America/Chicago:20310219T200000
DTSTAMP:20260423T191405
CREATED:20260104T210248Z
LAST-MODIFIED:20260104T210248Z
UID:10003474-1929294000-1929297600@mtgileadbc.org
SUMMARY:Bible Study for All Ages
DESCRIPTION:
URL:https://mtgileadbc.org/event/bible-study-for-all-ages/2031-02-19/
CATEGORIES:Adult Ministry,All are Welcome,Kids Ministry,Women Ministry
END:VEVENT
BEGIN:VEVENT
DTSTART;TZID=America/Chicago:20310223T100000
DTEND;TZID=America/Chicago:20310223T110000
DTSTAMP:20260423T191405
CREATED:20260104T205141Z
LAST-MODIFIED:20260104T205141Z
UID:10003475-1929607200-1929610800@mtgileadbc.org
SUMMARY:Sunday School All-Ages
DESCRIPTION:
URL:https://mtgileadbc.org/event/sunday-school-all-ages/2031-02-23/
LOCATION:Mt Gilead Baptist Church\, 5751 Highway 104 N\, Cedar Grove\, TN\, 38321\, United States
CATEGORIES:Adult Ministry,All are Welcome,Kids Ministry,Women Ministry
END:VEVENT
BEGIN:VEVENT
DTSTART;TZID=America/Chicago:20310223T110000
DTEND;TZID=America/Chicago:20310223T120000
DTSTAMP:20260423T191405
CREATED:20260201T142652Z
LAST-MODIFIED:20260201T142753Z
UID:10003486-1929610800-1929614400@mtgileadbc.org
SUMMARY:Sunday Morning Service
DESCRIPTION:
URL:https://mtgileadbc.org/event/sunday-morning-service-2/2031-02-23/
CATEGORIES:Adult Ministry,All are Welcome,Kids Ministry,Women Ministry
END:VEVENT
BEGIN:VEVENT
DTSTART;TZID=America/Chicago:20310226T190000
DTEND;TZID=America/Chicago:20310226T200000
DTSTAMP:20260423T191405
CREATED:20260104T210101Z
LAST-MODIFIED:20260104T210101Z
UID:10003477-1929898800-1929902400@mtgileadbc.org
SUMMARY:Business Meeting
DESCRIPTION:
URL:https://mtgileadbc.org/event/business-meeting/2031-02-26/
CATEGORIES:Adult Ministry
END:VEVENT
BEGIN:VEVENT
DTSTART;TZID=America/Chicago:20310226T190000
DTEND;TZID=America/Chicago:20310226T200000
DTSTAMP:20260423T191405
CREATED:20260104T210248Z
LAST-MODIFIED:20260104T210248Z
UID:10003478-1929898800-1929902400@mtgileadbc.org
SUMMARY:Bible Study for All Ages
DESCRIPTION:
URL:https://mtgileadbc.org/event/bible-study-for-all-ages/2031-02-26/
CATEGORIES:Adult Ministry,All are Welcome,Kids Ministry,Women Ministry
END:VEVENT
BEGIN:VEVENT
DTSTART;TZID=America/Chicago:20310302T100000
DTEND;TZID=America/Chicago:20310302T110000
DTSTAMP:20260423T191405
CREATED:20260104T205141Z
LAST-MODIFIED:20260104T205141Z
UID:10003482-1930212000-1930215600@mtgileadbc.org
SUMMARY:Sunday School All-Ages
DESCRIPTION:
URL:https://mtgileadbc.org/event/sunday-school-all-ages/2031-03-02/
LOCATION:Mt Gilead Baptist Church\, 5751 Highway 104 N\, Cedar Grove\, TN\, 38321\, United States
CATEGORIES:Adult Ministry,All are Welcome,Kids Ministry,Women Ministry
END:VEVENT
BEGIN:VEVENT
DTSTART;TZID=America/Chicago:20310302T110000
DTEND;TZID=America/Chicago:20310302T120000
DTSTAMP:20260423T191405
CREATED:20260201T142652Z
LAST-MODIFIED:20260201T142753Z
UID:10003487-1930215600-1930219200@mtgileadbc.org
SUMMARY:Sunday Morning Service
DESCRIPTION:
URL:https://mtgileadbc.org/event/sunday-morning-service-2/2031-03-02/
CATEGORIES:Adult Ministry,All are Welcome,Kids Ministry,Women Ministry
END:VEVENT
BEGIN:VEVENT
DTSTART;TZID=America/Chicago:20310305T190000
DTEND;TZID=America/Chicago:20310305T200000
DTSTAMP:20260423T191405
CREATED:20260104T210101Z
LAST-MODIFIED:20260104T210101Z
UID:10003480-1930503600-1930507200@mtgileadbc.org
SUMMARY:Business Meeting
DESCRIPTION:
URL:https://mtgileadbc.org/event/business-meeting/2031-03-05/
CATEGORIES:Adult Ministry
END:VEVENT
BEGIN:VEVENT
DTSTART;TZID=America/Chicago:20310305T190000
DTEND;TZID=America/Chicago:20310305T200000
DTSTAMP:20260423T191405
CREATED:20260104T210248Z
LAST-MODIFIED:20260104T210248Z
UID:10003481-1930503600-1930507200@mtgileadbc.org
SUMMARY:Bible Study for All Ages
DESCRIPTION:
URL:https://mtgileadbc.org/event/bible-study-for-all-ages/2031-03-05/
CATEGORIES:Adult Ministry,All are Welcome,Kids Ministry,Women Ministry
END:VEVENT
BEGIN:VEVENT
DTSTART;TZID=America/Chicago:20310309T100000
DTEND;TZID=America/Chicago:20310309T110000
DTSTAMP:20260423T191405
CREATED:20260104T205141Z
LAST-MODIFIED:20260104T205141Z
UID:10003498-1930816800-1930820400@mtgileadbc.org
SUMMARY:Sunday School All-Ages
DESCRIPTION:
URL:https://mtgileadbc.org/event/sunday-school-all-ages/2031-03-09/
LOCATION:Mt Gilead Baptist Church\, 5751 Highway 104 N\, Cedar Grove\, TN\, 38321\, United States
CATEGORIES:Adult Ministry,All are Welcome,Kids Ministry,Women Ministry
END:VEVENT
BEGIN:VEVENT
DTSTART;TZID=America/Chicago:20310309T110000
DTEND;TZID=America/Chicago:20310309T120000
DTSTAMP:20260423T191405
CREATED:20260201T142652Z
LAST-MODIFIED:20260201T142753Z
UID:10003488-1930820400-1930824000@mtgileadbc.org
SUMMARY:Sunday Morning Service
DESCRIPTION:
URL:https://mtgileadbc.org/event/sunday-morning-service-2/2031-03-09/
CATEGORIES:Adult Ministry,All are Welcome,Kids Ministry,Women Ministry
END:VEVENT
BEGIN:VEVENT
DTSTART;TZID=America/Chicago:20310312T190000
DTEND;TZID=America/Chicago:20310312T200000
DTSTAMP:20260423T191405
CREATED:20260104T210101Z
LAST-MODIFIED:20260104T210101Z
UID:10003496-1931108400-1931112000@mtgileadbc.org
SUMMARY:Business Meeting
DESCRIPTION:
URL:https://mtgileadbc.org/event/business-meeting/2031-03-12/
CATEGORIES:Adult Ministry
END:VEVENT
BEGIN:VEVENT
DTSTART;TZID=America/Chicago:20310312T190000
DTEND;TZID=America/Chicago:20310312T200000
DTSTAMP:20260423T191405
CREATED:20260104T210248Z
LAST-MODIFIED:20260104T210248Z
UID:10003497-1931108400-1931112000@mtgileadbc.org
SUMMARY:Bible Study for All Ages
DESCRIPTION:
URL:https://mtgileadbc.org/event/bible-study-for-all-ages/2031-03-12/
CATEGORIES:Adult Ministry,All are Welcome,Kids Ministry,Women Ministry
END:VEVENT
BEGIN:VEVENT
DTSTART;TZID=America/Chicago:20310316T100000
DTEND;TZID=America/Chicago:20310316T110000
DTSTAMP:20260423T191405
CREATED:20260104T205141Z
LAST-MODIFIED:20260104T205141Z
UID:10003504-1931421600-1931425200@mtgileadbc.org
SUMMARY:Sunday School All-Ages
DESCRIPTION:
URL:https://mtgileadbc.org/event/sunday-school-all-ages/2031-03-16/
LOCATION:Mt Gilead Baptist Church\, 5751 Highway 104 N\, Cedar Grove\, TN\, 38321\, United States
CATEGORIES:Adult Ministry,All are Welcome,Kids Ministry,Women Ministry
END:VEVENT
BEGIN:VEVENT
DTSTART;TZID=America/Chicago:20310316T110000
DTEND;TZID=America/Chicago:20310316T120000
DTSTAMP:20260423T191405
CREATED:20260201T142652Z
LAST-MODIFIED:20260201T142753Z
UID:10003499-1931425200-1931428800@mtgileadbc.org
SUMMARY:Sunday Morning Service
DESCRIPTION:
URL:https://mtgileadbc.org/event/sunday-morning-service-2/2031-03-16/
CATEGORIES:Adult Ministry,All are Welcome,Kids Ministry,Women Ministry
END:VEVENT
BEGIN:VEVENT
DTSTART;TZID=America/Chicago:20310319T190000
DTEND;TZID=America/Chicago:20310319T200000
DTSTAMP:20260423T191405
CREATED:20260104T210101Z
LAST-MODIFIED:20260104T210101Z
UID:10003502-1931713200-1931716800@mtgileadbc.org
SUMMARY:Business Meeting
DESCRIPTION:
URL:https://mtgileadbc.org/event/business-meeting/2031-03-19/
CATEGORIES:Adult Ministry
END:VEVENT
BEGIN:VEVENT
DTSTART;TZID=America/Chicago:20310319T190000
DTEND;TZID=America/Chicago:20310319T200000
DTSTAMP:20260423T191405
CREATED:20260104T210248Z
LAST-MODIFIED:20260104T210248Z
UID:10003503-1931713200-1931716800@mtgileadbc.org
SUMMARY:Bible Study for All Ages
DESCRIPTION:
URL:https://mtgileadbc.org/event/bible-study-for-all-ages/2031-03-19/
CATEGORIES:Adult Ministry,All are Welcome,Kids Ministry,Women Ministry
END:VEVENT
BEGIN:VEVENT
DTSTART;TZID=America/Chicago:20310323T100000
DTEND;TZID=America/Chicago:20310323T110000
DTSTAMP:20260423T191405
CREATED:20260104T205141Z
LAST-MODIFIED:20260104T205141Z
UID:10003510-1932026400-1932030000@mtgileadbc.org
SUMMARY:Sunday School All-Ages
DESCRIPTION:
URL:https://mtgileadbc.org/event/sunday-school-all-ages/2031-03-23/
LOCATION:Mt Gilead Baptist Church\, 5751 Highway 104 N\, Cedar Grove\, TN\, 38321\, United States
CATEGORIES:Adult Ministry,All are Welcome,Kids Ministry,Women Ministry
END:VEVENT
BEGIN:VEVENT
DTSTART;TZID=America/Chicago:20310323T110000
DTEND;TZID=America/Chicago:20310323T120000
DTSTAMP:20260423T191405
CREATED:20260201T142652Z
LAST-MODIFIED:20260201T142753Z
UID:10003505-1932030000-1932033600@mtgileadbc.org
SUMMARY:Sunday Morning Service
DESCRIPTION:
URL:https://mtgileadbc.org/event/sunday-morning-service-2/2031-03-23/
CATEGORIES:Adult Ministry,All are Welcome,Kids Ministry,Women Ministry
END:VEVENT
END:VCALENDAR