BEGIN:VCALENDAR
VERSION:2.0
PRODID:-//Mt Gilead Baptist Church - ECPv6.15.15//NONSGML v1.0//EN
CALSCALE:GREGORIAN
METHOD:PUBLISH
X-WR-CALNAME:Mt Gilead Baptist Church
X-ORIGINAL-URL:https://mtgileadbc.org
X-WR-CALDESC:Events for Mt Gilead Baptist Church
REFRESH-INTERVAL;VALUE=DURATION:PT1H
X-Robots-Tag:noindex
X-PUBLISHED-TTL:PT1H
BEGIN:VTIMEZONE
TZID:America/Chicago
BEGIN:DAYLIGHT
TZOFFSETFROM:-0600
TZOFFSETTO:-0500
TZNAME:CDT
DTSTART:20280312T080000
END:DAYLIGHT
BEGIN:STANDARD
TZOFFSETFROM:-0500
TZOFFSETTO:-0600
TZNAME:CST
DTSTART:20281105T070000
END:STANDARD
BEGIN:DAYLIGHT
TZOFFSETFROM:-0600
TZOFFSETTO:-0500
TZNAME:CDT
DTSTART:20290311T080000
END:DAYLIGHT
BEGIN:STANDARD
TZOFFSETFROM:-0500
TZOFFSETTO:-0600
TZNAME:CST
DTSTART:20291104T070000
END:STANDARD
BEGIN:DAYLIGHT
TZOFFSETFROM:-0600
TZOFFSETTO:-0500
TZNAME:CDT
DTSTART:20300310T080000
END:DAYLIGHT
BEGIN:STANDARD
TZOFFSETFROM:-0500
TZOFFSETTO:-0600
TZNAME:CST
DTSTART:20301103T070000
END:STANDARD
END:VTIMEZONE
BEGIN:VEVENT
DTSTART;TZID=America/Chicago:20290513T100000
DTEND;TZID=America/Chicago:20290513T110000
DTSTAMP:20260420T130009
CREATED:20260104T205141Z
LAST-MODIFIED:20260104T205141Z
UID:10002540-1873360800-1873364400@mtgileadbc.org
SUMMARY:Sunday School All-Ages
DESCRIPTION:
URL:https://mtgileadbc.org/event/sunday-school-all-ages/2029-05-13/
LOCATION:Mt Gilead Baptist Church\, 5751 Highway 104 N\, Cedar Grove\, TN\, 38321\, United States
CATEGORIES:Adult Ministry,All are Welcome,Kids Ministry,Women Ministry
END:VEVENT
BEGIN:VEVENT
DTSTART;TZID=America/Chicago:20290513T110000
DTEND;TZID=America/Chicago:20290513T120000
DTSTAMP:20260420T130009
CREATED:20260201T142652Z
LAST-MODIFIED:20260201T142753Z
UID:10002279-1873364400-1873368000@mtgileadbc.org
SUMMARY:Sunday Morning Service
DESCRIPTION:
URL:https://mtgileadbc.org/event/sunday-morning-service-2/2029-05-13/
CATEGORIES:Adult Ministry,All are Welcome,Kids Ministry,Women Ministry
END:VEVENT
BEGIN:VEVENT
DTSTART;TZID=America/Chicago:20290516T190000
DTEND;TZID=America/Chicago:20290516T200000
DTSTAMP:20260420T130009
CREATED:20260104T210101Z
LAST-MODIFIED:20260104T210101Z
UID:10003064-1873652400-1873656000@mtgileadbc.org
SUMMARY:Business Meeting
DESCRIPTION:
URL:https://mtgileadbc.org/event/business-meeting/2029-05-16/
CATEGORIES:Adult Ministry
END:VEVENT
BEGIN:VEVENT
DTSTART;TZID=America/Chicago:20290516T190000
DTEND;TZID=America/Chicago:20290516T200000
DTSTAMP:20260420T130009
CREATED:20260104T210248Z
LAST-MODIFIED:20260104T210248Z
UID:10003325-1873652400-1873656000@mtgileadbc.org
SUMMARY:Bible Study for All Ages
DESCRIPTION:
URL:https://mtgileadbc.org/event/bible-study-for-all-ages/2029-05-16/
CATEGORIES:Adult Ministry,All are Welcome,Kids Ministry,Women Ministry
END:VEVENT
BEGIN:VEVENT
DTSTART;TZID=America/Chicago:20290520T100000
DTEND;TZID=America/Chicago:20290520T110000
DTSTAMP:20260420T130009
CREATED:20260104T205141Z
LAST-MODIFIED:20260104T205141Z
UID:10002541-1873965600-1873969200@mtgileadbc.org
SUMMARY:Sunday School All-Ages
DESCRIPTION:
URL:https://mtgileadbc.org/event/sunday-school-all-ages/2029-05-20/
LOCATION:Mt Gilead Baptist Church\, 5751 Highway 104 N\, Cedar Grove\, TN\, 38321\, United States
CATEGORIES:Adult Ministry,All are Welcome,Kids Ministry,Women Ministry
END:VEVENT
BEGIN:VEVENT
DTSTART;TZID=America/Chicago:20290520T110000
DTEND;TZID=America/Chicago:20290520T120000
DTSTAMP:20260420T130009
CREATED:20260201T142652Z
LAST-MODIFIED:20260201T142753Z
UID:10002280-1873969200-1873972800@mtgileadbc.org
SUMMARY:Sunday Morning Service
DESCRIPTION:
URL:https://mtgileadbc.org/event/sunday-morning-service-2/2029-05-20/
CATEGORIES:Adult Ministry,All are Welcome,Kids Ministry,Women Ministry
END:VEVENT
BEGIN:VEVENT
DTSTART;TZID=America/Chicago:20290523T190000
DTEND;TZID=America/Chicago:20290523T200000
DTSTAMP:20260420T130009
CREATED:20260104T210101Z
LAST-MODIFIED:20260104T210101Z
UID:10003065-1874257200-1874260800@mtgileadbc.org
SUMMARY:Business Meeting
DESCRIPTION:
URL:https://mtgileadbc.org/event/business-meeting/2029-05-23/
CATEGORIES:Adult Ministry
END:VEVENT
BEGIN:VEVENT
DTSTART;TZID=America/Chicago:20290523T190000
DTEND;TZID=America/Chicago:20290523T200000
DTSTAMP:20260420T130009
CREATED:20260104T210248Z
LAST-MODIFIED:20260104T210248Z
UID:10003326-1874257200-1874260800@mtgileadbc.org
SUMMARY:Bible Study for All Ages
DESCRIPTION:
URL:https://mtgileadbc.org/event/bible-study-for-all-ages/2029-05-23/
CATEGORIES:Adult Ministry,All are Welcome,Kids Ministry,Women Ministry
END:VEVENT
BEGIN:VEVENT
DTSTART;TZID=America/Chicago:20290527T100000
DTEND;TZID=America/Chicago:20290527T110000
DTSTAMP:20260420T130009
CREATED:20260104T205141Z
LAST-MODIFIED:20260104T205141Z
UID:10002542-1874570400-1874574000@mtgileadbc.org
SUMMARY:Sunday School All-Ages
DESCRIPTION:
URL:https://mtgileadbc.org/event/sunday-school-all-ages/2029-05-27/
LOCATION:Mt Gilead Baptist Church\, 5751 Highway 104 N\, Cedar Grove\, TN\, 38321\, United States
CATEGORIES:Adult Ministry,All are Welcome,Kids Ministry,Women Ministry
END:VEVENT
BEGIN:VEVENT
DTSTART;TZID=America/Chicago:20290527T110000
DTEND;TZID=America/Chicago:20290527T120000
DTSTAMP:20260420T130009
CREATED:20260201T142652Z
LAST-MODIFIED:20260201T142753Z
UID:10002281-1874574000-1874577600@mtgileadbc.org
SUMMARY:Sunday Morning Service
DESCRIPTION:
URL:https://mtgileadbc.org/event/sunday-morning-service-2/2029-05-27/
CATEGORIES:Adult Ministry,All are Welcome,Kids Ministry,Women Ministry
END:VEVENT
BEGIN:VEVENT
DTSTART;TZID=America/Chicago:20290530T190000
DTEND;TZID=America/Chicago:20290530T200000
DTSTAMP:20260420T130009
CREATED:20260104T210101Z
LAST-MODIFIED:20260104T210101Z
UID:10003066-1874862000-1874865600@mtgileadbc.org
SUMMARY:Business Meeting
DESCRIPTION:
URL:https://mtgileadbc.org/event/business-meeting/2029-05-30/
CATEGORIES:Adult Ministry
END:VEVENT
BEGIN:VEVENT
DTSTART;TZID=America/Chicago:20290530T190000
DTEND;TZID=America/Chicago:20290530T200000
DTSTAMP:20260420T130009
CREATED:20260104T210248Z
LAST-MODIFIED:20260104T210248Z
UID:10003327-1874862000-1874865600@mtgileadbc.org
SUMMARY:Bible Study for All Ages
DESCRIPTION:
URL:https://mtgileadbc.org/event/bible-study-for-all-ages/2029-05-30/
CATEGORIES:Adult Ministry,All are Welcome,Kids Ministry,Women Ministry
END:VEVENT
BEGIN:VEVENT
DTSTART;TZID=America/Chicago:20290603T100000
DTEND;TZID=America/Chicago:20290603T110000
DTSTAMP:20260420T130009
CREATED:20260104T205141Z
LAST-MODIFIED:20260104T205141Z
UID:10002543-1875175200-1875178800@mtgileadbc.org
SUMMARY:Sunday School All-Ages
DESCRIPTION:
URL:https://mtgileadbc.org/event/sunday-school-all-ages/2029-06-03/
LOCATION:Mt Gilead Baptist Church\, 5751 Highway 104 N\, Cedar Grove\, TN\, 38321\, United States
CATEGORIES:Adult Ministry,All are Welcome,Kids Ministry,Women Ministry
END:VEVENT
BEGIN:VEVENT
DTSTART;TZID=America/Chicago:20290603T110000
DTEND;TZID=America/Chicago:20290603T120000
DTSTAMP:20260420T130009
CREATED:20260201T142652Z
LAST-MODIFIED:20260201T142753Z
UID:10002282-1875178800-1875182400@mtgileadbc.org
SUMMARY:Sunday Morning Service
DESCRIPTION:
URL:https://mtgileadbc.org/event/sunday-morning-service-2/2029-06-03/
CATEGORIES:Adult Ministry,All are Welcome,Kids Ministry,Women Ministry
END:VEVENT
BEGIN:VEVENT
DTSTART;TZID=America/Chicago:20290606T190000
DTEND;TZID=America/Chicago:20290606T200000
DTSTAMP:20260420T130009
CREATED:20260104T210101Z
LAST-MODIFIED:20260104T210101Z
UID:10003067-1875466800-1875470400@mtgileadbc.org
SUMMARY:Business Meeting
DESCRIPTION:
URL:https://mtgileadbc.org/event/business-meeting/2029-06-06/
CATEGORIES:Adult Ministry
END:VEVENT
BEGIN:VEVENT
DTSTART;TZID=America/Chicago:20290606T190000
DTEND;TZID=America/Chicago:20290606T200000
DTSTAMP:20260420T130009
CREATED:20260104T210248Z
LAST-MODIFIED:20260104T210248Z
UID:10003328-1875466800-1875470400@mtgileadbc.org
SUMMARY:Bible Study for All Ages
DESCRIPTION:
URL:https://mtgileadbc.org/event/bible-study-for-all-ages/2029-06-06/
CATEGORIES:Adult Ministry,All are Welcome,Kids Ministry,Women Ministry
END:VEVENT
BEGIN:VEVENT
DTSTART;TZID=America/Chicago:20290610T100000
DTEND;TZID=America/Chicago:20290610T110000
DTSTAMP:20260420T130009
CREATED:20260104T205141Z
LAST-MODIFIED:20260104T205141Z
UID:10002544-1875780000-1875783600@mtgileadbc.org
SUMMARY:Sunday School All-Ages
DESCRIPTION:
URL:https://mtgileadbc.org/event/sunday-school-all-ages/2029-06-10/
LOCATION:Mt Gilead Baptist Church\, 5751 Highway 104 N\, Cedar Grove\, TN\, 38321\, United States
CATEGORIES:Adult Ministry,All are Welcome,Kids Ministry,Women Ministry
END:VEVENT
BEGIN:VEVENT
DTSTART;TZID=America/Chicago:20290610T110000
DTEND;TZID=America/Chicago:20290610T120000
DTSTAMP:20260420T130009
CREATED:20260201T142652Z
LAST-MODIFIED:20260201T142753Z
UID:10002283-1875783600-1875787200@mtgileadbc.org
SUMMARY:Sunday Morning Service
DESCRIPTION:
URL:https://mtgileadbc.org/event/sunday-morning-service-2/2029-06-10/
CATEGORIES:Adult Ministry,All are Welcome,Kids Ministry,Women Ministry
END:VEVENT
BEGIN:VEVENT
DTSTART;TZID=America/Chicago:20290613T190000
DTEND;TZID=America/Chicago:20290613T200000
DTSTAMP:20260420T130009
CREATED:20260104T210101Z
LAST-MODIFIED:20260104T210101Z
UID:10003068-1876071600-1876075200@mtgileadbc.org
SUMMARY:Business Meeting
DESCRIPTION:
URL:https://mtgileadbc.org/event/business-meeting/2029-06-13/
CATEGORIES:Adult Ministry
END:VEVENT
BEGIN:VEVENT
DTSTART;TZID=America/Chicago:20290613T190000
DTEND;TZID=America/Chicago:20290613T200000
DTSTAMP:20260420T130009
CREATED:20260104T210248Z
LAST-MODIFIED:20260104T210248Z
UID:10003329-1876071600-1876075200@mtgileadbc.org
SUMMARY:Bible Study for All Ages
DESCRIPTION:
URL:https://mtgileadbc.org/event/bible-study-for-all-ages/2029-06-13/
CATEGORIES:Adult Ministry,All are Welcome,Kids Ministry,Women Ministry
END:VEVENT
BEGIN:VEVENT
DTSTART;TZID=America/Chicago:20290617T100000
DTEND;TZID=America/Chicago:20290617T110000
DTSTAMP:20260420T130009
CREATED:20260104T205141Z
LAST-MODIFIED:20260104T205141Z
UID:10002545-1876384800-1876388400@mtgileadbc.org
SUMMARY:Sunday School All-Ages
DESCRIPTION:
URL:https://mtgileadbc.org/event/sunday-school-all-ages/2029-06-17/
LOCATION:Mt Gilead Baptist Church\, 5751 Highway 104 N\, Cedar Grove\, TN\, 38321\, United States
CATEGORIES:Adult Ministry,All are Welcome,Kids Ministry,Women Ministry
END:VEVENT
BEGIN:VEVENT
DTSTART;TZID=America/Chicago:20290617T110000
DTEND;TZID=America/Chicago:20290617T120000
DTSTAMP:20260420T130009
CREATED:20260201T142652Z
LAST-MODIFIED:20260201T142753Z
UID:10002284-1876388400-1876392000@mtgileadbc.org
SUMMARY:Sunday Morning Service
DESCRIPTION:
URL:https://mtgileadbc.org/event/sunday-morning-service-2/2029-06-17/
CATEGORIES:Adult Ministry,All are Welcome,Kids Ministry,Women Ministry
END:VEVENT
BEGIN:VEVENT
DTSTART;TZID=America/Chicago:20290620T190000
DTEND;TZID=America/Chicago:20290620T200000
DTSTAMP:20260420T130009
CREATED:20260104T210101Z
LAST-MODIFIED:20260104T210101Z
UID:10003069-1876676400-1876680000@mtgileadbc.org
SUMMARY:Business Meeting
DESCRIPTION:
URL:https://mtgileadbc.org/event/business-meeting/2029-06-20/
CATEGORIES:Adult Ministry
END:VEVENT
BEGIN:VEVENT
DTSTART;TZID=America/Chicago:20290620T190000
DTEND;TZID=America/Chicago:20290620T200000
DTSTAMP:20260420T130009
CREATED:20260104T210248Z
LAST-MODIFIED:20260104T210248Z
UID:10003330-1876676400-1876680000@mtgileadbc.org
SUMMARY:Bible Study for All Ages
DESCRIPTION:
URL:https://mtgileadbc.org/event/bible-study-for-all-ages/2029-06-20/
CATEGORIES:Adult Ministry,All are Welcome,Kids Ministry,Women Ministry
END:VEVENT
BEGIN:VEVENT
DTSTART;TZID=America/Chicago:20290624T100000
DTEND;TZID=America/Chicago:20290624T110000
DTSTAMP:20260420T130009
CREATED:20260104T205141Z
LAST-MODIFIED:20260104T205141Z
UID:10002546-1876989600-1876993200@mtgileadbc.org
SUMMARY:Sunday School All-Ages
DESCRIPTION:
URL:https://mtgileadbc.org/event/sunday-school-all-ages/2029-06-24/
LOCATION:Mt Gilead Baptist Church\, 5751 Highway 104 N\, Cedar Grove\, TN\, 38321\, United States
CATEGORIES:Adult Ministry,All are Welcome,Kids Ministry,Women Ministry
END:VEVENT
BEGIN:VEVENT
DTSTART;TZID=America/Chicago:20290624T110000
DTEND;TZID=America/Chicago:20290624T120000
DTSTAMP:20260420T130009
CREATED:20260201T142652Z
LAST-MODIFIED:20260201T142753Z
UID:10002285-1876993200-1876996800@mtgileadbc.org
SUMMARY:Sunday Morning Service
DESCRIPTION:
URL:https://mtgileadbc.org/event/sunday-morning-service-2/2029-06-24/
CATEGORIES:Adult Ministry,All are Welcome,Kids Ministry,Women Ministry
END:VEVENT
BEGIN:VEVENT
DTSTART;TZID=America/Chicago:20290627T190000
DTEND;TZID=America/Chicago:20290627T200000
DTSTAMP:20260420T130009
CREATED:20260104T210101Z
LAST-MODIFIED:20260104T210101Z
UID:10003070-1877281200-1877284800@mtgileadbc.org
SUMMARY:Business Meeting
DESCRIPTION:
URL:https://mtgileadbc.org/event/business-meeting/2029-06-27/
CATEGORIES:Adult Ministry
END:VEVENT
BEGIN:VEVENT
DTSTART;TZID=America/Chicago:20290627T190000
DTEND;TZID=America/Chicago:20290627T200000
DTSTAMP:20260420T130009
CREATED:20260104T210248Z
LAST-MODIFIED:20260104T210248Z
UID:10003331-1877281200-1877284800@mtgileadbc.org
SUMMARY:Bible Study for All Ages
DESCRIPTION:
URL:https://mtgileadbc.org/event/bible-study-for-all-ages/2029-06-27/
CATEGORIES:Adult Ministry,All are Welcome,Kids Ministry,Women Ministry
END:VEVENT
BEGIN:VEVENT
DTSTART;TZID=America/Chicago:20290701T100000
DTEND;TZID=America/Chicago:20290701T110000
DTSTAMP:20260420T130009
CREATED:20260104T205141Z
LAST-MODIFIED:20260104T205141Z
UID:10002547-1877594400-1877598000@mtgileadbc.org
SUMMARY:Sunday School All-Ages
DESCRIPTION:
URL:https://mtgileadbc.org/event/sunday-school-all-ages/2029-07-01/
LOCATION:Mt Gilead Baptist Church\, 5751 Highway 104 N\, Cedar Grove\, TN\, 38321\, United States
CATEGORIES:Adult Ministry,All are Welcome,Kids Ministry,Women Ministry
END:VEVENT
BEGIN:VEVENT
DTSTART;TZID=America/Chicago:20290701T110000
DTEND;TZID=America/Chicago:20290701T120000
DTSTAMP:20260420T130009
CREATED:20260201T142652Z
LAST-MODIFIED:20260201T142753Z
UID:10002286-1877598000-1877601600@mtgileadbc.org
SUMMARY:Sunday Morning Service
DESCRIPTION:
URL:https://mtgileadbc.org/event/sunday-morning-service-2/2029-07-01/
CATEGORIES:Adult Ministry,All are Welcome,Kids Ministry,Women Ministry
END:VEVENT
END:VCALENDAR