BEGIN:VCALENDAR
VERSION:2.0
PRODID:-//Mt Gilead Baptist Church - ECPv6.15.15//NONSGML v1.0//EN
CALSCALE:GREGORIAN
METHOD:PUBLISH
X-WR-CALNAME:Mt Gilead Baptist Church
X-ORIGINAL-URL:https://mtgileadbc.org
X-WR-CALDESC:Events for Mt Gilead Baptist Church
REFRESH-INTERVAL;VALUE=DURATION:PT1H
X-Robots-Tag:noindex
X-PUBLISHED-TTL:PT1H
BEGIN:VTIMEZONE
TZID:America/Chicago
BEGIN:DAYLIGHT
TZOFFSETFROM:-0600
TZOFFSETTO:-0500
TZNAME:CDT
DTSTART:20280312T080000
END:DAYLIGHT
BEGIN:STANDARD
TZOFFSETFROM:-0500
TZOFFSETTO:-0600
TZNAME:CST
DTSTART:20281105T070000
END:STANDARD
BEGIN:DAYLIGHT
TZOFFSETFROM:-0600
TZOFFSETTO:-0500
TZNAME:CDT
DTSTART:20290311T080000
END:DAYLIGHT
BEGIN:STANDARD
TZOFFSETFROM:-0500
TZOFFSETTO:-0600
TZNAME:CST
DTSTART:20291104T070000
END:STANDARD
BEGIN:DAYLIGHT
TZOFFSETFROM:-0600
TZOFFSETTO:-0500
TZNAME:CDT
DTSTART:20300310T080000
END:DAYLIGHT
BEGIN:STANDARD
TZOFFSETFROM:-0500
TZOFFSETTO:-0600
TZNAME:CST
DTSTART:20301103T070000
END:STANDARD
BEGIN:DAYLIGHT
TZOFFSETFROM:-0600
TZOFFSETTO:-0500
TZNAME:CDT
DTSTART:20310309T080000
END:DAYLIGHT
BEGIN:STANDARD
TZOFFSETFROM:-0500
TZOFFSETTO:-0600
TZNAME:CST
DTSTART:20311102T070000
END:STANDARD
END:VTIMEZONE
BEGIN:VEVENT
DTSTART;TZID=America/Chicago:20291114T190000
DTEND;TZID=America/Chicago:20291114T200000
DTSTAMP:20260420T230538
CREATED:20260104T210101Z
LAST-MODIFIED:20260104T210101Z
UID:10003090-1889377200-1889380800@mtgileadbc.org
SUMMARY:Business Meeting
DESCRIPTION:
URL:https://mtgileadbc.org/event/business-meeting/2029-11-14/
CATEGORIES:Adult Ministry
END:VEVENT
BEGIN:VEVENT
DTSTART;TZID=America/Chicago:20291114T190000
DTEND;TZID=America/Chicago:20291114T200000
DTSTAMP:20260420T230538
CREATED:20260104T210248Z
LAST-MODIFIED:20260104T210248Z
UID:10003351-1889377200-1889380800@mtgileadbc.org
SUMMARY:Bible Study for All Ages
DESCRIPTION:
URL:https://mtgileadbc.org/event/bible-study-for-all-ages/2029-11-14/
CATEGORIES:Adult Ministry,All are Welcome,Kids Ministry,Women Ministry
END:VEVENT
BEGIN:VEVENT
DTSTART;TZID=America/Chicago:20291118T100000
DTEND;TZID=America/Chicago:20291118T110000
DTSTAMP:20260420T230538
CREATED:20260104T205141Z
LAST-MODIFIED:20260104T205141Z
UID:10002567-1889690400-1889694000@mtgileadbc.org
SUMMARY:Sunday School All-Ages
DESCRIPTION:
URL:https://mtgileadbc.org/event/sunday-school-all-ages/2029-11-18/
LOCATION:Mt Gilead Baptist Church\, 5751 Highway 104 N\, Cedar Grove\, TN\, 38321\, United States
CATEGORIES:Adult Ministry,All are Welcome,Kids Ministry,Women Ministry
END:VEVENT
BEGIN:VEVENT
DTSTART;TZID=America/Chicago:20291118T110000
DTEND;TZID=America/Chicago:20291118T120000
DTSTAMP:20260420T230538
CREATED:20260201T142652Z
LAST-MODIFIED:20260201T142753Z
UID:10002306-1889694000-1889697600@mtgileadbc.org
SUMMARY:Sunday Morning Service
DESCRIPTION:
URL:https://mtgileadbc.org/event/sunday-morning-service-2/2029-11-18/
CATEGORIES:Adult Ministry,All are Welcome,Kids Ministry,Women Ministry
END:VEVENT
BEGIN:VEVENT
DTSTART;TZID=America/Chicago:20291121T190000
DTEND;TZID=America/Chicago:20291121T200000
DTSTAMP:20260420T230538
CREATED:20260104T210101Z
LAST-MODIFIED:20260104T210101Z
UID:10003091-1889982000-1889985600@mtgileadbc.org
SUMMARY:Business Meeting
DESCRIPTION:
URL:https://mtgileadbc.org/event/business-meeting/2029-11-21/
CATEGORIES:Adult Ministry
END:VEVENT
BEGIN:VEVENT
DTSTART;TZID=America/Chicago:20291121T190000
DTEND;TZID=America/Chicago:20291121T200000
DTSTAMP:20260420T230538
CREATED:20260104T210248Z
LAST-MODIFIED:20260104T210248Z
UID:10003352-1889982000-1889985600@mtgileadbc.org
SUMMARY:Bible Study for All Ages
DESCRIPTION:
URL:https://mtgileadbc.org/event/bible-study-for-all-ages/2029-11-21/
CATEGORIES:Adult Ministry,All are Welcome,Kids Ministry,Women Ministry
END:VEVENT
BEGIN:VEVENT
DTSTART;TZID=America/Chicago:20291125T100000
DTEND;TZID=America/Chicago:20291125T110000
DTSTAMP:20260420T230538
CREATED:20260104T205141Z
LAST-MODIFIED:20260104T205141Z
UID:10002568-1890295200-1890298800@mtgileadbc.org
SUMMARY:Sunday School All-Ages
DESCRIPTION:
URL:https://mtgileadbc.org/event/sunday-school-all-ages/2029-11-25/
LOCATION:Mt Gilead Baptist Church\, 5751 Highway 104 N\, Cedar Grove\, TN\, 38321\, United States
CATEGORIES:Adult Ministry,All are Welcome,Kids Ministry,Women Ministry
END:VEVENT
BEGIN:VEVENT
DTSTART;TZID=America/Chicago:20291125T110000
DTEND;TZID=America/Chicago:20291125T120000
DTSTAMP:20260420T230538
CREATED:20260201T142652Z
LAST-MODIFIED:20260201T142753Z
UID:10002307-1890298800-1890302400@mtgileadbc.org
SUMMARY:Sunday Morning Service
DESCRIPTION:
URL:https://mtgileadbc.org/event/sunday-morning-service-2/2029-11-25/
CATEGORIES:Adult Ministry,All are Welcome,Kids Ministry,Women Ministry
END:VEVENT
BEGIN:VEVENT
DTSTART;TZID=America/Chicago:20291128T190000
DTEND;TZID=America/Chicago:20291128T200000
DTSTAMP:20260420T230538
CREATED:20260104T210101Z
LAST-MODIFIED:20260104T210101Z
UID:10003092-1890586800-1890590400@mtgileadbc.org
SUMMARY:Business Meeting
DESCRIPTION:
URL:https://mtgileadbc.org/event/business-meeting/2029-11-28/
CATEGORIES:Adult Ministry
END:VEVENT
BEGIN:VEVENT
DTSTART;TZID=America/Chicago:20291128T190000
DTEND;TZID=America/Chicago:20291128T200000
DTSTAMP:20260420T230538
CREATED:20260104T210248Z
LAST-MODIFIED:20260104T210248Z
UID:10003353-1890586800-1890590400@mtgileadbc.org
SUMMARY:Bible Study for All Ages
DESCRIPTION:
URL:https://mtgileadbc.org/event/bible-study-for-all-ages/2029-11-28/
CATEGORIES:Adult Ministry,All are Welcome,Kids Ministry,Women Ministry
END:VEVENT
BEGIN:VEVENT
DTSTART;TZID=America/Chicago:20291202T100000
DTEND;TZID=America/Chicago:20291202T110000
DTSTAMP:20260420T230538
CREATED:20260104T205141Z
LAST-MODIFIED:20260104T205141Z
UID:10002569-1890900000-1890903600@mtgileadbc.org
SUMMARY:Sunday School All-Ages
DESCRIPTION:
URL:https://mtgileadbc.org/event/sunday-school-all-ages/2029-12-02/
LOCATION:Mt Gilead Baptist Church\, 5751 Highway 104 N\, Cedar Grove\, TN\, 38321\, United States
CATEGORIES:Adult Ministry,All are Welcome,Kids Ministry,Women Ministry
END:VEVENT
BEGIN:VEVENT
DTSTART;TZID=America/Chicago:20291202T110000
DTEND;TZID=America/Chicago:20291202T120000
DTSTAMP:20260420T230538
CREATED:20260201T142652Z
LAST-MODIFIED:20260201T142753Z
UID:10002308-1890903600-1890907200@mtgileadbc.org
SUMMARY:Sunday Morning Service
DESCRIPTION:
URL:https://mtgileadbc.org/event/sunday-morning-service-2/2029-12-02/
CATEGORIES:Adult Ministry,All are Welcome,Kids Ministry,Women Ministry
END:VEVENT
BEGIN:VEVENT
DTSTART;TZID=America/Chicago:20291205T190000
DTEND;TZID=America/Chicago:20291205T200000
DTSTAMP:20260420T230538
CREATED:20260104T210101Z
LAST-MODIFIED:20260104T210101Z
UID:10003093-1891191600-1891195200@mtgileadbc.org
SUMMARY:Business Meeting
DESCRIPTION:
URL:https://mtgileadbc.org/event/business-meeting/2029-12-05/
CATEGORIES:Adult Ministry
END:VEVENT
BEGIN:VEVENT
DTSTART;TZID=America/Chicago:20291205T190000
DTEND;TZID=America/Chicago:20291205T200000
DTSTAMP:20260420T230538
CREATED:20260104T210248Z
LAST-MODIFIED:20260104T210248Z
UID:10003354-1891191600-1891195200@mtgileadbc.org
SUMMARY:Bible Study for All Ages
DESCRIPTION:
URL:https://mtgileadbc.org/event/bible-study-for-all-ages/2029-12-05/
CATEGORIES:Adult Ministry,All are Welcome,Kids Ministry,Women Ministry
END:VEVENT
BEGIN:VEVENT
DTSTART;TZID=America/Chicago:20291209T100000
DTEND;TZID=America/Chicago:20291209T110000
DTSTAMP:20260420T230538
CREATED:20260104T205141Z
LAST-MODIFIED:20260104T205141Z
UID:10002570-1891504800-1891508400@mtgileadbc.org
SUMMARY:Sunday School All-Ages
DESCRIPTION:
URL:https://mtgileadbc.org/event/sunday-school-all-ages/2029-12-09/
LOCATION:Mt Gilead Baptist Church\, 5751 Highway 104 N\, Cedar Grove\, TN\, 38321\, United States
CATEGORIES:Adult Ministry,All are Welcome,Kids Ministry,Women Ministry
END:VEVENT
BEGIN:VEVENT
DTSTART;TZID=America/Chicago:20291209T110000
DTEND;TZID=America/Chicago:20291209T120000
DTSTAMP:20260420T230538
CREATED:20260201T142652Z
LAST-MODIFIED:20260201T142753Z
UID:10002309-1891508400-1891512000@mtgileadbc.org
SUMMARY:Sunday Morning Service
DESCRIPTION:
URL:https://mtgileadbc.org/event/sunday-morning-service-2/2029-12-09/
CATEGORIES:Adult Ministry,All are Welcome,Kids Ministry,Women Ministry
END:VEVENT
BEGIN:VEVENT
DTSTART;TZID=America/Chicago:20291212T190000
DTEND;TZID=America/Chicago:20291212T200000
DTSTAMP:20260420T230538
CREATED:20260104T210101Z
LAST-MODIFIED:20260104T210101Z
UID:10003094-1891796400-1891800000@mtgileadbc.org
SUMMARY:Business Meeting
DESCRIPTION:
URL:https://mtgileadbc.org/event/business-meeting/2029-12-12/
CATEGORIES:Adult Ministry
END:VEVENT
BEGIN:VEVENT
DTSTART;TZID=America/Chicago:20291212T190000
DTEND;TZID=America/Chicago:20291212T200000
DTSTAMP:20260420T230538
CREATED:20260104T210248Z
LAST-MODIFIED:20260104T210248Z
UID:10003355-1891796400-1891800000@mtgileadbc.org
SUMMARY:Bible Study for All Ages
DESCRIPTION:
URL:https://mtgileadbc.org/event/bible-study-for-all-ages/2029-12-12/
CATEGORIES:Adult Ministry,All are Welcome,Kids Ministry,Women Ministry
END:VEVENT
BEGIN:VEVENT
DTSTART;TZID=America/Chicago:20291216T100000
DTEND;TZID=America/Chicago:20291216T110000
DTSTAMP:20260420T230538
CREATED:20260104T205141Z
LAST-MODIFIED:20260104T205141Z
UID:10002571-1892109600-1892113200@mtgileadbc.org
SUMMARY:Sunday School All-Ages
DESCRIPTION:
URL:https://mtgileadbc.org/event/sunday-school-all-ages/2029-12-16/
LOCATION:Mt Gilead Baptist Church\, 5751 Highway 104 N\, Cedar Grove\, TN\, 38321\, United States
CATEGORIES:Adult Ministry,All are Welcome,Kids Ministry,Women Ministry
END:VEVENT
BEGIN:VEVENT
DTSTART;TZID=America/Chicago:20291216T110000
DTEND;TZID=America/Chicago:20291216T120000
DTSTAMP:20260420T230538
CREATED:20260201T142652Z
LAST-MODIFIED:20260201T142753Z
UID:10002310-1892113200-1892116800@mtgileadbc.org
SUMMARY:Sunday Morning Service
DESCRIPTION:
URL:https://mtgileadbc.org/event/sunday-morning-service-2/2029-12-16/
CATEGORIES:Adult Ministry,All are Welcome,Kids Ministry,Women Ministry
END:VEVENT
BEGIN:VEVENT
DTSTART;TZID=America/Chicago:20291219T190000
DTEND;TZID=America/Chicago:20291219T200000
DTSTAMP:20260420T230538
CREATED:20260104T210101Z
LAST-MODIFIED:20260104T210101Z
UID:10003095-1892401200-1892404800@mtgileadbc.org
SUMMARY:Business Meeting
DESCRIPTION:
URL:https://mtgileadbc.org/event/business-meeting/2029-12-19/
CATEGORIES:Adult Ministry
END:VEVENT
BEGIN:VEVENT
DTSTART;TZID=America/Chicago:20291219T190000
DTEND;TZID=America/Chicago:20291219T200000
DTSTAMP:20260420T230538
CREATED:20260104T210248Z
LAST-MODIFIED:20260104T210248Z
UID:10003356-1892401200-1892404800@mtgileadbc.org
SUMMARY:Bible Study for All Ages
DESCRIPTION:
URL:https://mtgileadbc.org/event/bible-study-for-all-ages/2029-12-19/
CATEGORIES:Adult Ministry,All are Welcome,Kids Ministry,Women Ministry
END:VEVENT
BEGIN:VEVENT
DTSTART;TZID=America/Chicago:20291223T100000
DTEND;TZID=America/Chicago:20291223T110000
DTSTAMP:20260420T230538
CREATED:20260104T205141Z
LAST-MODIFIED:20260104T205141Z
UID:10002572-1892714400-1892718000@mtgileadbc.org
SUMMARY:Sunday School All-Ages
DESCRIPTION:
URL:https://mtgileadbc.org/event/sunday-school-all-ages/2029-12-23/
LOCATION:Mt Gilead Baptist Church\, 5751 Highway 104 N\, Cedar Grove\, TN\, 38321\, United States
CATEGORIES:Adult Ministry,All are Welcome,Kids Ministry,Women Ministry
END:VEVENT
BEGIN:VEVENT
DTSTART;TZID=America/Chicago:20291223T110000
DTEND;TZID=America/Chicago:20291223T120000
DTSTAMP:20260420T230538
CREATED:20260201T142652Z
LAST-MODIFIED:20260201T142753Z
UID:10002311-1892718000-1892721600@mtgileadbc.org
SUMMARY:Sunday Morning Service
DESCRIPTION:
URL:https://mtgileadbc.org/event/sunday-morning-service-2/2029-12-23/
CATEGORIES:Adult Ministry,All are Welcome,Kids Ministry,Women Ministry
END:VEVENT
BEGIN:VEVENT
DTSTART;TZID=America/Chicago:20291226T190000
DTEND;TZID=America/Chicago:20291226T200000
DTSTAMP:20260420T230538
CREATED:20260104T210101Z
LAST-MODIFIED:20260104T210101Z
UID:10003096-1893006000-1893009600@mtgileadbc.org
SUMMARY:Business Meeting
DESCRIPTION:
URL:https://mtgileadbc.org/event/business-meeting/2029-12-26/
CATEGORIES:Adult Ministry
END:VEVENT
BEGIN:VEVENT
DTSTART;TZID=America/Chicago:20291226T190000
DTEND;TZID=America/Chicago:20291226T200000
DTSTAMP:20260420T230538
CREATED:20260104T210248Z
LAST-MODIFIED:20260104T210248Z
UID:10003357-1893006000-1893009600@mtgileadbc.org
SUMMARY:Bible Study for All Ages
DESCRIPTION:
URL:https://mtgileadbc.org/event/bible-study-for-all-ages/2029-12-26/
CATEGORIES:Adult Ministry,All are Welcome,Kids Ministry,Women Ministry
END:VEVENT
BEGIN:VEVENT
DTSTART;TZID=America/Chicago:20291230T100000
DTEND;TZID=America/Chicago:20291230T110000
DTSTAMP:20260420T230538
CREATED:20260104T205141Z
LAST-MODIFIED:20260104T205141Z
UID:10002573-1893319200-1893322800@mtgileadbc.org
SUMMARY:Sunday School All-Ages
DESCRIPTION:
URL:https://mtgileadbc.org/event/sunday-school-all-ages/2029-12-30/
LOCATION:Mt Gilead Baptist Church\, 5751 Highway 104 N\, Cedar Grove\, TN\, 38321\, United States
CATEGORIES:Adult Ministry,All are Welcome,Kids Ministry,Women Ministry
END:VEVENT
BEGIN:VEVENT
DTSTART;TZID=America/Chicago:20291230T110000
DTEND;TZID=America/Chicago:20291230T120000
DTSTAMP:20260420T230538
CREATED:20260201T142652Z
LAST-MODIFIED:20260201T142753Z
UID:10002312-1893322800-1893326400@mtgileadbc.org
SUMMARY:Sunday Morning Service
DESCRIPTION:
URL:https://mtgileadbc.org/event/sunday-morning-service-2/2029-12-30/
CATEGORIES:Adult Ministry,All are Welcome,Kids Ministry,Women Ministry
END:VEVENT
BEGIN:VEVENT
DTSTART;TZID=America/Chicago:20300102T190000
DTEND;TZID=America/Chicago:20300102T200000
DTSTAMP:20260420T230538
CREATED:20260104T210101Z
LAST-MODIFIED:20260104T210101Z
UID:10003097-1893610800-1893614400@mtgileadbc.org
SUMMARY:Business Meeting
DESCRIPTION:
URL:https://mtgileadbc.org/event/business-meeting/2030-01-02/
CATEGORIES:Adult Ministry
END:VEVENT
BEGIN:VEVENT
DTSTART;TZID=America/Chicago:20300102T190000
DTEND;TZID=America/Chicago:20300102T200000
DTSTAMP:20260420T230538
CREATED:20260104T210248Z
LAST-MODIFIED:20260104T210248Z
UID:10003358-1893610800-1893614400@mtgileadbc.org
SUMMARY:Bible Study for All Ages
DESCRIPTION:
URL:https://mtgileadbc.org/event/bible-study-for-all-ages/2030-01-02/
CATEGORIES:Adult Ministry,All are Welcome,Kids Ministry,Women Ministry
END:VEVENT
END:VCALENDAR