BEGIN:VCALENDAR
VERSION:2.0
PRODID:-//Mt Gilead Baptist Church - ECPv6.15.15//NONSGML v1.0//EN
CALSCALE:GREGORIAN
METHOD:PUBLISH
X-WR-CALNAME:Mt Gilead Baptist Church
X-ORIGINAL-URL:https://mtgileadbc.org
X-WR-CALDESC:Events for Mt Gilead Baptist Church
REFRESH-INTERVAL;VALUE=DURATION:PT1H
X-Robots-Tag:noindex
X-PUBLISHED-TTL:PT1H
BEGIN:VTIMEZONE
TZID:America/Chicago
BEGIN:DAYLIGHT
TZOFFSETFROM:-0600
TZOFFSETTO:-0500
TZNAME:CDT
DTSTART:20280312T080000
END:DAYLIGHT
BEGIN:STANDARD
TZOFFSETFROM:-0500
TZOFFSETTO:-0600
TZNAME:CST
DTSTART:20281105T070000
END:STANDARD
BEGIN:DAYLIGHT
TZOFFSETFROM:-0600
TZOFFSETTO:-0500
TZNAME:CDT
DTSTART:20290311T080000
END:DAYLIGHT
BEGIN:STANDARD
TZOFFSETFROM:-0500
TZOFFSETTO:-0600
TZNAME:CST
DTSTART:20291104T070000
END:STANDARD
BEGIN:DAYLIGHT
TZOFFSETFROM:-0600
TZOFFSETTO:-0500
TZNAME:CDT
DTSTART:20300310T080000
END:DAYLIGHT
BEGIN:STANDARD
TZOFFSETFROM:-0500
TZOFFSETTO:-0600
TZNAME:CST
DTSTART:20301103T070000
END:STANDARD
END:VTIMEZONE
BEGIN:VEVENT
DTSTART;TZID=America/Chicago:20290909T100000
DTEND;TZID=America/Chicago:20290909T110000
DTSTAMP:20260420T222406
CREATED:20260104T205141Z
LAST-MODIFIED:20260104T205141Z
UID:10002557-1883642400-1883646000@mtgileadbc.org
SUMMARY:Sunday School All-Ages
DESCRIPTION:
URL:https://mtgileadbc.org/event/sunday-school-all-ages/2029-09-09/
LOCATION:Mt Gilead Baptist Church\, 5751 Highway 104 N\, Cedar Grove\, TN\, 38321\, United States
CATEGORIES:Adult Ministry,All are Welcome,Kids Ministry,Women Ministry
END:VEVENT
BEGIN:VEVENT
DTSTART;TZID=America/Chicago:20290909T110000
DTEND;TZID=America/Chicago:20290909T120000
DTSTAMP:20260420T222406
CREATED:20260201T142652Z
LAST-MODIFIED:20260201T142753Z
UID:10002296-1883646000-1883649600@mtgileadbc.org
SUMMARY:Sunday Morning Service
DESCRIPTION:
URL:https://mtgileadbc.org/event/sunday-morning-service-2/2029-09-09/
CATEGORIES:Adult Ministry,All are Welcome,Kids Ministry,Women Ministry
END:VEVENT
BEGIN:VEVENT
DTSTART;TZID=America/Chicago:20290912T190000
DTEND;TZID=America/Chicago:20290912T200000
DTSTAMP:20260420T222406
CREATED:20260104T210101Z
LAST-MODIFIED:20260104T210101Z
UID:10003081-1883934000-1883937600@mtgileadbc.org
SUMMARY:Business Meeting
DESCRIPTION:
URL:https://mtgileadbc.org/event/business-meeting/2029-09-12/
CATEGORIES:Adult Ministry
END:VEVENT
BEGIN:VEVENT
DTSTART;TZID=America/Chicago:20290912T190000
DTEND;TZID=America/Chicago:20290912T200000
DTSTAMP:20260420T222406
CREATED:20260104T210248Z
LAST-MODIFIED:20260104T210248Z
UID:10003342-1883934000-1883937600@mtgileadbc.org
SUMMARY:Bible Study for All Ages
DESCRIPTION:
URL:https://mtgileadbc.org/event/bible-study-for-all-ages/2029-09-12/
CATEGORIES:Adult Ministry,All are Welcome,Kids Ministry,Women Ministry
END:VEVENT
BEGIN:VEVENT
DTSTART;TZID=America/Chicago:20290916T100000
DTEND;TZID=America/Chicago:20290916T110000
DTSTAMP:20260420T222406
CREATED:20260104T205141Z
LAST-MODIFIED:20260104T205141Z
UID:10002558-1884247200-1884250800@mtgileadbc.org
SUMMARY:Sunday School All-Ages
DESCRIPTION:
URL:https://mtgileadbc.org/event/sunday-school-all-ages/2029-09-16/
LOCATION:Mt Gilead Baptist Church\, 5751 Highway 104 N\, Cedar Grove\, TN\, 38321\, United States
CATEGORIES:Adult Ministry,All are Welcome,Kids Ministry,Women Ministry
END:VEVENT
BEGIN:VEVENT
DTSTART;TZID=America/Chicago:20290916T110000
DTEND;TZID=America/Chicago:20290916T120000
DTSTAMP:20260420T222406
CREATED:20260201T142652Z
LAST-MODIFIED:20260201T142753Z
UID:10002297-1884250800-1884254400@mtgileadbc.org
SUMMARY:Sunday Morning Service
DESCRIPTION:
URL:https://mtgileadbc.org/event/sunday-morning-service-2/2029-09-16/
CATEGORIES:Adult Ministry,All are Welcome,Kids Ministry,Women Ministry
END:VEVENT
BEGIN:VEVENT
DTSTART;TZID=America/Chicago:20290919T190000
DTEND;TZID=America/Chicago:20290919T200000
DTSTAMP:20260420T222406
CREATED:20260104T210101Z
LAST-MODIFIED:20260104T210101Z
UID:10003082-1884538800-1884542400@mtgileadbc.org
SUMMARY:Business Meeting
DESCRIPTION:
URL:https://mtgileadbc.org/event/business-meeting/2029-09-19/
CATEGORIES:Adult Ministry
END:VEVENT
BEGIN:VEVENT
DTSTART;TZID=America/Chicago:20290919T190000
DTEND;TZID=America/Chicago:20290919T200000
DTSTAMP:20260420T222406
CREATED:20260104T210248Z
LAST-MODIFIED:20260104T210248Z
UID:10003343-1884538800-1884542400@mtgileadbc.org
SUMMARY:Bible Study for All Ages
DESCRIPTION:
URL:https://mtgileadbc.org/event/bible-study-for-all-ages/2029-09-19/
CATEGORIES:Adult Ministry,All are Welcome,Kids Ministry,Women Ministry
END:VEVENT
BEGIN:VEVENT
DTSTART;TZID=America/Chicago:20290923T100000
DTEND;TZID=America/Chicago:20290923T110000
DTSTAMP:20260420T222406
CREATED:20260104T205141Z
LAST-MODIFIED:20260104T205141Z
UID:10002559-1884852000-1884855600@mtgileadbc.org
SUMMARY:Sunday School All-Ages
DESCRIPTION:
URL:https://mtgileadbc.org/event/sunday-school-all-ages/2029-09-23/
LOCATION:Mt Gilead Baptist Church\, 5751 Highway 104 N\, Cedar Grove\, TN\, 38321\, United States
CATEGORIES:Adult Ministry,All are Welcome,Kids Ministry,Women Ministry
END:VEVENT
BEGIN:VEVENT
DTSTART;TZID=America/Chicago:20290923T110000
DTEND;TZID=America/Chicago:20290923T120000
DTSTAMP:20260420T222406
CREATED:20260201T142652Z
LAST-MODIFIED:20260201T142753Z
UID:10002298-1884855600-1884859200@mtgileadbc.org
SUMMARY:Sunday Morning Service
DESCRIPTION:
URL:https://mtgileadbc.org/event/sunday-morning-service-2/2029-09-23/
CATEGORIES:Adult Ministry,All are Welcome,Kids Ministry,Women Ministry
END:VEVENT
BEGIN:VEVENT
DTSTART;TZID=America/Chicago:20290926T190000
DTEND;TZID=America/Chicago:20290926T200000
DTSTAMP:20260420T222406
CREATED:20260104T210101Z
LAST-MODIFIED:20260104T210101Z
UID:10003083-1885143600-1885147200@mtgileadbc.org
SUMMARY:Business Meeting
DESCRIPTION:
URL:https://mtgileadbc.org/event/business-meeting/2029-09-26/
CATEGORIES:Adult Ministry
END:VEVENT
BEGIN:VEVENT
DTSTART;TZID=America/Chicago:20290926T190000
DTEND;TZID=America/Chicago:20290926T200000
DTSTAMP:20260420T222406
CREATED:20260104T210248Z
LAST-MODIFIED:20260104T210248Z
UID:10003344-1885143600-1885147200@mtgileadbc.org
SUMMARY:Bible Study for All Ages
DESCRIPTION:
URL:https://mtgileadbc.org/event/bible-study-for-all-ages/2029-09-26/
CATEGORIES:Adult Ministry,All are Welcome,Kids Ministry,Women Ministry
END:VEVENT
BEGIN:VEVENT
DTSTART;TZID=America/Chicago:20290930T100000
DTEND;TZID=America/Chicago:20290930T110000
DTSTAMP:20260420T222406
CREATED:20260104T205141Z
LAST-MODIFIED:20260104T205141Z
UID:10002560-1885456800-1885460400@mtgileadbc.org
SUMMARY:Sunday School All-Ages
DESCRIPTION:
URL:https://mtgileadbc.org/event/sunday-school-all-ages/2029-09-30/
LOCATION:Mt Gilead Baptist Church\, 5751 Highway 104 N\, Cedar Grove\, TN\, 38321\, United States
CATEGORIES:Adult Ministry,All are Welcome,Kids Ministry,Women Ministry
END:VEVENT
BEGIN:VEVENT
DTSTART;TZID=America/Chicago:20290930T110000
DTEND;TZID=America/Chicago:20290930T120000
DTSTAMP:20260420T222406
CREATED:20260201T142652Z
LAST-MODIFIED:20260201T142753Z
UID:10002299-1885460400-1885464000@mtgileadbc.org
SUMMARY:Sunday Morning Service
DESCRIPTION:
URL:https://mtgileadbc.org/event/sunday-morning-service-2/2029-09-30/
CATEGORIES:Adult Ministry,All are Welcome,Kids Ministry,Women Ministry
END:VEVENT
BEGIN:VEVENT
DTSTART;TZID=America/Chicago:20291003T190000
DTEND;TZID=America/Chicago:20291003T200000
DTSTAMP:20260420T222406
CREATED:20260104T210101Z
LAST-MODIFIED:20260104T210101Z
UID:10003084-1885748400-1885752000@mtgileadbc.org
SUMMARY:Business Meeting
DESCRIPTION:
URL:https://mtgileadbc.org/event/business-meeting/2029-10-03/
CATEGORIES:Adult Ministry
END:VEVENT
BEGIN:VEVENT
DTSTART;TZID=America/Chicago:20291003T190000
DTEND;TZID=America/Chicago:20291003T200000
DTSTAMP:20260420T222406
CREATED:20260104T210248Z
LAST-MODIFIED:20260104T210248Z
UID:10003345-1885748400-1885752000@mtgileadbc.org
SUMMARY:Bible Study for All Ages
DESCRIPTION:
URL:https://mtgileadbc.org/event/bible-study-for-all-ages/2029-10-03/
CATEGORIES:Adult Ministry,All are Welcome,Kids Ministry,Women Ministry
END:VEVENT
BEGIN:VEVENT
DTSTART;TZID=America/Chicago:20291007T100000
DTEND;TZID=America/Chicago:20291007T110000
DTSTAMP:20260420T222406
CREATED:20260104T205141Z
LAST-MODIFIED:20260104T205141Z
UID:10002561-1886061600-1886065200@mtgileadbc.org
SUMMARY:Sunday School All-Ages
DESCRIPTION:
URL:https://mtgileadbc.org/event/sunday-school-all-ages/2029-10-07/
LOCATION:Mt Gilead Baptist Church\, 5751 Highway 104 N\, Cedar Grove\, TN\, 38321\, United States
CATEGORIES:Adult Ministry,All are Welcome,Kids Ministry,Women Ministry
END:VEVENT
BEGIN:VEVENT
DTSTART;TZID=America/Chicago:20291007T110000
DTEND;TZID=America/Chicago:20291007T120000
DTSTAMP:20260420T222406
CREATED:20260201T142652Z
LAST-MODIFIED:20260201T142753Z
UID:10002300-1886065200-1886068800@mtgileadbc.org
SUMMARY:Sunday Morning Service
DESCRIPTION:
URL:https://mtgileadbc.org/event/sunday-morning-service-2/2029-10-07/
CATEGORIES:Adult Ministry,All are Welcome,Kids Ministry,Women Ministry
END:VEVENT
BEGIN:VEVENT
DTSTART;TZID=America/Chicago:20291010T190000
DTEND;TZID=America/Chicago:20291010T200000
DTSTAMP:20260420T222406
CREATED:20260104T210101Z
LAST-MODIFIED:20260104T210101Z
UID:10003085-1886353200-1886356800@mtgileadbc.org
SUMMARY:Business Meeting
DESCRIPTION:
URL:https://mtgileadbc.org/event/business-meeting/2029-10-10/
CATEGORIES:Adult Ministry
END:VEVENT
BEGIN:VEVENT
DTSTART;TZID=America/Chicago:20291010T190000
DTEND;TZID=America/Chicago:20291010T200000
DTSTAMP:20260420T222406
CREATED:20260104T210248Z
LAST-MODIFIED:20260104T210248Z
UID:10003346-1886353200-1886356800@mtgileadbc.org
SUMMARY:Bible Study for All Ages
DESCRIPTION:
URL:https://mtgileadbc.org/event/bible-study-for-all-ages/2029-10-10/
CATEGORIES:Adult Ministry,All are Welcome,Kids Ministry,Women Ministry
END:VEVENT
BEGIN:VEVENT
DTSTART;TZID=America/Chicago:20291014T100000
DTEND;TZID=America/Chicago:20291014T110000
DTSTAMP:20260420T222406
CREATED:20260104T205141Z
LAST-MODIFIED:20260104T205141Z
UID:10002562-1886666400-1886670000@mtgileadbc.org
SUMMARY:Sunday School All-Ages
DESCRIPTION:
URL:https://mtgileadbc.org/event/sunday-school-all-ages/2029-10-14/
LOCATION:Mt Gilead Baptist Church\, 5751 Highway 104 N\, Cedar Grove\, TN\, 38321\, United States
CATEGORIES:Adult Ministry,All are Welcome,Kids Ministry,Women Ministry
END:VEVENT
BEGIN:VEVENT
DTSTART;TZID=America/Chicago:20291014T110000
DTEND;TZID=America/Chicago:20291014T120000
DTSTAMP:20260420T222406
CREATED:20260201T142652Z
LAST-MODIFIED:20260201T142753Z
UID:10002301-1886670000-1886673600@mtgileadbc.org
SUMMARY:Sunday Morning Service
DESCRIPTION:
URL:https://mtgileadbc.org/event/sunday-morning-service-2/2029-10-14/
CATEGORIES:Adult Ministry,All are Welcome,Kids Ministry,Women Ministry
END:VEVENT
BEGIN:VEVENT
DTSTART;TZID=America/Chicago:20291017T190000
DTEND;TZID=America/Chicago:20291017T200000
DTSTAMP:20260420T222406
CREATED:20260104T210101Z
LAST-MODIFIED:20260104T210101Z
UID:10003086-1886958000-1886961600@mtgileadbc.org
SUMMARY:Business Meeting
DESCRIPTION:
URL:https://mtgileadbc.org/event/business-meeting/2029-10-17/
CATEGORIES:Adult Ministry
END:VEVENT
BEGIN:VEVENT
DTSTART;TZID=America/Chicago:20291017T190000
DTEND;TZID=America/Chicago:20291017T200000
DTSTAMP:20260420T222406
CREATED:20260104T210248Z
LAST-MODIFIED:20260104T210248Z
UID:10003347-1886958000-1886961600@mtgileadbc.org
SUMMARY:Bible Study for All Ages
DESCRIPTION:
URL:https://mtgileadbc.org/event/bible-study-for-all-ages/2029-10-17/
CATEGORIES:Adult Ministry,All are Welcome,Kids Ministry,Women Ministry
END:VEVENT
BEGIN:VEVENT
DTSTART;TZID=America/Chicago:20291021T100000
DTEND;TZID=America/Chicago:20291021T110000
DTSTAMP:20260420T222406
CREATED:20260104T205141Z
LAST-MODIFIED:20260104T205141Z
UID:10002563-1887271200-1887274800@mtgileadbc.org
SUMMARY:Sunday School All-Ages
DESCRIPTION:
URL:https://mtgileadbc.org/event/sunday-school-all-ages/2029-10-21/
LOCATION:Mt Gilead Baptist Church\, 5751 Highway 104 N\, Cedar Grove\, TN\, 38321\, United States
CATEGORIES:Adult Ministry,All are Welcome,Kids Ministry,Women Ministry
END:VEVENT
BEGIN:VEVENT
DTSTART;TZID=America/Chicago:20291021T110000
DTEND;TZID=America/Chicago:20291021T120000
DTSTAMP:20260420T222406
CREATED:20260201T142652Z
LAST-MODIFIED:20260201T142753Z
UID:10002302-1887274800-1887278400@mtgileadbc.org
SUMMARY:Sunday Morning Service
DESCRIPTION:
URL:https://mtgileadbc.org/event/sunday-morning-service-2/2029-10-21/
CATEGORIES:Adult Ministry,All are Welcome,Kids Ministry,Women Ministry
END:VEVENT
BEGIN:VEVENT
DTSTART;TZID=America/Chicago:20291024T190000
DTEND;TZID=America/Chicago:20291024T200000
DTSTAMP:20260420T222406
CREATED:20260104T210101Z
LAST-MODIFIED:20260104T210101Z
UID:10003087-1887562800-1887566400@mtgileadbc.org
SUMMARY:Business Meeting
DESCRIPTION:
URL:https://mtgileadbc.org/event/business-meeting/2029-10-24/
CATEGORIES:Adult Ministry
END:VEVENT
BEGIN:VEVENT
DTSTART;TZID=America/Chicago:20291024T190000
DTEND;TZID=America/Chicago:20291024T200000
DTSTAMP:20260420T222406
CREATED:20260104T210248Z
LAST-MODIFIED:20260104T210248Z
UID:10003348-1887562800-1887566400@mtgileadbc.org
SUMMARY:Bible Study for All Ages
DESCRIPTION:
URL:https://mtgileadbc.org/event/bible-study-for-all-ages/2029-10-24/
CATEGORIES:Adult Ministry,All are Welcome,Kids Ministry,Women Ministry
END:VEVENT
BEGIN:VEVENT
DTSTART;TZID=America/Chicago:20291028T100000
DTEND;TZID=America/Chicago:20291028T110000
DTSTAMP:20260420T222406
CREATED:20260104T205141Z
LAST-MODIFIED:20260104T205141Z
UID:10002564-1887876000-1887879600@mtgileadbc.org
SUMMARY:Sunday School All-Ages
DESCRIPTION:
URL:https://mtgileadbc.org/event/sunday-school-all-ages/2029-10-28/
LOCATION:Mt Gilead Baptist Church\, 5751 Highway 104 N\, Cedar Grove\, TN\, 38321\, United States
CATEGORIES:Adult Ministry,All are Welcome,Kids Ministry,Women Ministry
END:VEVENT
BEGIN:VEVENT
DTSTART;TZID=America/Chicago:20291028T110000
DTEND;TZID=America/Chicago:20291028T120000
DTSTAMP:20260420T222406
CREATED:20260201T142652Z
LAST-MODIFIED:20260201T142753Z
UID:10002303-1887879600-1887883200@mtgileadbc.org
SUMMARY:Sunday Morning Service
DESCRIPTION:
URL:https://mtgileadbc.org/event/sunday-morning-service-2/2029-10-28/
CATEGORIES:Adult Ministry,All are Welcome,Kids Ministry,Women Ministry
END:VEVENT
END:VCALENDAR