BEGIN:VCALENDAR
VERSION:2.0
PRODID:-//Mt Gilead Baptist Church - ECPv6.15.15//NONSGML v1.0//EN
CALSCALE:GREGORIAN
METHOD:PUBLISH
X-WR-CALNAME:Mt Gilead Baptist Church
X-ORIGINAL-URL:https://mtgileadbc.org
X-WR-CALDESC:Events for Mt Gilead Baptist Church
REFRESH-INTERVAL;VALUE=DURATION:PT1H
X-Robots-Tag:noindex
X-PUBLISHED-TTL:PT1H
BEGIN:VTIMEZONE
TZID:America/Chicago
BEGIN:DAYLIGHT
TZOFFSETFROM:-0600
TZOFFSETTO:-0500
TZNAME:CDT
DTSTART:20280312T080000
END:DAYLIGHT
BEGIN:STANDARD
TZOFFSETFROM:-0500
TZOFFSETTO:-0600
TZNAME:CST
DTSTART:20281105T070000
END:STANDARD
BEGIN:DAYLIGHT
TZOFFSETFROM:-0600
TZOFFSETTO:-0500
TZNAME:CDT
DTSTART:20290311T080000
END:DAYLIGHT
BEGIN:STANDARD
TZOFFSETFROM:-0500
TZOFFSETTO:-0600
TZNAME:CST
DTSTART:20291104T070000
END:STANDARD
BEGIN:DAYLIGHT
TZOFFSETFROM:-0600
TZOFFSETTO:-0500
TZNAME:CDT
DTSTART:20300310T080000
END:DAYLIGHT
BEGIN:STANDARD
TZOFFSETFROM:-0500
TZOFFSETTO:-0600
TZNAME:CST
DTSTART:20301103T070000
END:STANDARD
END:VTIMEZONE
BEGIN:VEVENT
DTSTART;TZID=America/Chicago:20290311T100000
DTEND;TZID=America/Chicago:20290311T110000
DTSTAMP:20260420T031202
CREATED:20260104T205141Z
LAST-MODIFIED:20260104T205141Z
UID:10002531-1867917600-1867921200@mtgileadbc.org
SUMMARY:Sunday School All-Ages
DESCRIPTION:
URL:https://mtgileadbc.org/event/sunday-school-all-ages/2029-03-11/
LOCATION:Mt Gilead Baptist Church\, 5751 Highway 104 N\, Cedar Grove\, TN\, 38321\, United States
CATEGORIES:Adult Ministry,All are Welcome,Kids Ministry,Women Ministry
END:VEVENT
BEGIN:VEVENT
DTSTART;TZID=America/Chicago:20290311T110000
DTEND;TZID=America/Chicago:20290311T120000
DTSTAMP:20260420T031202
CREATED:20260201T142652Z
LAST-MODIFIED:20260201T142753Z
UID:10002270-1867921200-1867924800@mtgileadbc.org
SUMMARY:Sunday Morning Service
DESCRIPTION:
URL:https://mtgileadbc.org/event/sunday-morning-service-2/2029-03-11/
CATEGORIES:Adult Ministry,All are Welcome,Kids Ministry,Women Ministry
END:VEVENT
BEGIN:VEVENT
DTSTART;TZID=America/Chicago:20290314T190000
DTEND;TZID=America/Chicago:20290314T200000
DTSTAMP:20260420T031202
CREATED:20260104T210101Z
LAST-MODIFIED:20260104T210101Z
UID:10003055-1868209200-1868212800@mtgileadbc.org
SUMMARY:Business Meeting
DESCRIPTION:
URL:https://mtgileadbc.org/event/business-meeting/2029-03-14/
CATEGORIES:Adult Ministry
END:VEVENT
BEGIN:VEVENT
DTSTART;TZID=America/Chicago:20290314T190000
DTEND;TZID=America/Chicago:20290314T200000
DTSTAMP:20260420T031202
CREATED:20260104T210248Z
LAST-MODIFIED:20260104T210248Z
UID:10003316-1868209200-1868212800@mtgileadbc.org
SUMMARY:Bible Study for All Ages
DESCRIPTION:
URL:https://mtgileadbc.org/event/bible-study-for-all-ages/2029-03-14/
CATEGORIES:Adult Ministry,All are Welcome,Kids Ministry,Women Ministry
END:VEVENT
BEGIN:VEVENT
DTSTART;TZID=America/Chicago:20290318T100000
DTEND;TZID=America/Chicago:20290318T110000
DTSTAMP:20260420T031202
CREATED:20260104T205141Z
LAST-MODIFIED:20260104T205141Z
UID:10002532-1868522400-1868526000@mtgileadbc.org
SUMMARY:Sunday School All-Ages
DESCRIPTION:
URL:https://mtgileadbc.org/event/sunday-school-all-ages/2029-03-18/
LOCATION:Mt Gilead Baptist Church\, 5751 Highway 104 N\, Cedar Grove\, TN\, 38321\, United States
CATEGORIES:Adult Ministry,All are Welcome,Kids Ministry,Women Ministry
END:VEVENT
BEGIN:VEVENT
DTSTART;TZID=America/Chicago:20290318T110000
DTEND;TZID=America/Chicago:20290318T120000
DTSTAMP:20260420T031202
CREATED:20260201T142652Z
LAST-MODIFIED:20260201T142753Z
UID:10002271-1868526000-1868529600@mtgileadbc.org
SUMMARY:Sunday Morning Service
DESCRIPTION:
URL:https://mtgileadbc.org/event/sunday-morning-service-2/2029-03-18/
CATEGORIES:Adult Ministry,All are Welcome,Kids Ministry,Women Ministry
END:VEVENT
BEGIN:VEVENT
DTSTART;TZID=America/Chicago:20290321T190000
DTEND;TZID=America/Chicago:20290321T200000
DTSTAMP:20260420T031202
CREATED:20260104T210101Z
LAST-MODIFIED:20260104T210101Z
UID:10003056-1868814000-1868817600@mtgileadbc.org
SUMMARY:Business Meeting
DESCRIPTION:
URL:https://mtgileadbc.org/event/business-meeting/2029-03-21/
CATEGORIES:Adult Ministry
END:VEVENT
BEGIN:VEVENT
DTSTART;TZID=America/Chicago:20290321T190000
DTEND;TZID=America/Chicago:20290321T200000
DTSTAMP:20260420T031202
CREATED:20260104T210248Z
LAST-MODIFIED:20260104T210248Z
UID:10003317-1868814000-1868817600@mtgileadbc.org
SUMMARY:Bible Study for All Ages
DESCRIPTION:
URL:https://mtgileadbc.org/event/bible-study-for-all-ages/2029-03-21/
CATEGORIES:Adult Ministry,All are Welcome,Kids Ministry,Women Ministry
END:VEVENT
BEGIN:VEVENT
DTSTART;TZID=America/Chicago:20290325T100000
DTEND;TZID=America/Chicago:20290325T110000
DTSTAMP:20260420T031202
CREATED:20260104T205141Z
LAST-MODIFIED:20260104T205141Z
UID:10002533-1869127200-1869130800@mtgileadbc.org
SUMMARY:Sunday School All-Ages
DESCRIPTION:
URL:https://mtgileadbc.org/event/sunday-school-all-ages/2029-03-25/
LOCATION:Mt Gilead Baptist Church\, 5751 Highway 104 N\, Cedar Grove\, TN\, 38321\, United States
CATEGORIES:Adult Ministry,All are Welcome,Kids Ministry,Women Ministry
END:VEVENT
BEGIN:VEVENT
DTSTART;TZID=America/Chicago:20290325T110000
DTEND;TZID=America/Chicago:20290325T120000
DTSTAMP:20260420T031202
CREATED:20260201T142652Z
LAST-MODIFIED:20260201T142753Z
UID:10002272-1869130800-1869134400@mtgileadbc.org
SUMMARY:Sunday Morning Service
DESCRIPTION:
URL:https://mtgileadbc.org/event/sunday-morning-service-2/2029-03-25/
CATEGORIES:Adult Ministry,All are Welcome,Kids Ministry,Women Ministry
END:VEVENT
BEGIN:VEVENT
DTSTART;TZID=America/Chicago:20290328T190000
DTEND;TZID=America/Chicago:20290328T200000
DTSTAMP:20260420T031202
CREATED:20260104T210101Z
LAST-MODIFIED:20260104T210101Z
UID:10003057-1869418800-1869422400@mtgileadbc.org
SUMMARY:Business Meeting
DESCRIPTION:
URL:https://mtgileadbc.org/event/business-meeting/2029-03-28/
CATEGORIES:Adult Ministry
END:VEVENT
BEGIN:VEVENT
DTSTART;TZID=America/Chicago:20290328T190000
DTEND;TZID=America/Chicago:20290328T200000
DTSTAMP:20260420T031202
CREATED:20260104T210248Z
LAST-MODIFIED:20260104T210248Z
UID:10003318-1869418800-1869422400@mtgileadbc.org
SUMMARY:Bible Study for All Ages
DESCRIPTION:
URL:https://mtgileadbc.org/event/bible-study-for-all-ages/2029-03-28/
CATEGORIES:Adult Ministry,All are Welcome,Kids Ministry,Women Ministry
END:VEVENT
BEGIN:VEVENT
DTSTART;TZID=America/Chicago:20290401T100000
DTEND;TZID=America/Chicago:20290401T110000
DTSTAMP:20260420T031202
CREATED:20260104T205141Z
LAST-MODIFIED:20260104T205141Z
UID:10002534-1869732000-1869735600@mtgileadbc.org
SUMMARY:Sunday School All-Ages
DESCRIPTION:
URL:https://mtgileadbc.org/event/sunday-school-all-ages/2029-04-01/
LOCATION:Mt Gilead Baptist Church\, 5751 Highway 104 N\, Cedar Grove\, TN\, 38321\, United States
CATEGORIES:Adult Ministry,All are Welcome,Kids Ministry,Women Ministry
END:VEVENT
BEGIN:VEVENT
DTSTART;TZID=America/Chicago:20290401T110000
DTEND;TZID=America/Chicago:20290401T120000
DTSTAMP:20260420T031202
CREATED:20260201T142652Z
LAST-MODIFIED:20260201T142753Z
UID:10002273-1869735600-1869739200@mtgileadbc.org
SUMMARY:Sunday Morning Service
DESCRIPTION:
URL:https://mtgileadbc.org/event/sunday-morning-service-2/2029-04-01/
CATEGORIES:Adult Ministry,All are Welcome,Kids Ministry,Women Ministry
END:VEVENT
BEGIN:VEVENT
DTSTART;TZID=America/Chicago:20290404T190000
DTEND;TZID=America/Chicago:20290404T200000
DTSTAMP:20260420T031202
CREATED:20260104T210101Z
LAST-MODIFIED:20260104T210101Z
UID:10003058-1870023600-1870027200@mtgileadbc.org
SUMMARY:Business Meeting
DESCRIPTION:
URL:https://mtgileadbc.org/event/business-meeting/2029-04-04/
CATEGORIES:Adult Ministry
END:VEVENT
BEGIN:VEVENT
DTSTART;TZID=America/Chicago:20290404T190000
DTEND;TZID=America/Chicago:20290404T200000
DTSTAMP:20260420T031202
CREATED:20260104T210248Z
LAST-MODIFIED:20260104T210248Z
UID:10003319-1870023600-1870027200@mtgileadbc.org
SUMMARY:Bible Study for All Ages
DESCRIPTION:
URL:https://mtgileadbc.org/event/bible-study-for-all-ages/2029-04-04/
CATEGORIES:Adult Ministry,All are Welcome,Kids Ministry,Women Ministry
END:VEVENT
BEGIN:VEVENT
DTSTART;TZID=America/Chicago:20290408T100000
DTEND;TZID=America/Chicago:20290408T110000
DTSTAMP:20260420T031202
CREATED:20260104T205141Z
LAST-MODIFIED:20260104T205141Z
UID:10002535-1870336800-1870340400@mtgileadbc.org
SUMMARY:Sunday School All-Ages
DESCRIPTION:
URL:https://mtgileadbc.org/event/sunday-school-all-ages/2029-04-08/
LOCATION:Mt Gilead Baptist Church\, 5751 Highway 104 N\, Cedar Grove\, TN\, 38321\, United States
CATEGORIES:Adult Ministry,All are Welcome,Kids Ministry,Women Ministry
END:VEVENT
BEGIN:VEVENT
DTSTART;TZID=America/Chicago:20290408T110000
DTEND;TZID=America/Chicago:20290408T120000
DTSTAMP:20260420T031202
CREATED:20260201T142652Z
LAST-MODIFIED:20260201T142753Z
UID:10002274-1870340400-1870344000@mtgileadbc.org
SUMMARY:Sunday Morning Service
DESCRIPTION:
URL:https://mtgileadbc.org/event/sunday-morning-service-2/2029-04-08/
CATEGORIES:Adult Ministry,All are Welcome,Kids Ministry,Women Ministry
END:VEVENT
BEGIN:VEVENT
DTSTART;TZID=America/Chicago:20290411T190000
DTEND;TZID=America/Chicago:20290411T200000
DTSTAMP:20260420T031202
CREATED:20260104T210101Z
LAST-MODIFIED:20260104T210101Z
UID:10003059-1870628400-1870632000@mtgileadbc.org
SUMMARY:Business Meeting
DESCRIPTION:
URL:https://mtgileadbc.org/event/business-meeting/2029-04-11/
CATEGORIES:Adult Ministry
END:VEVENT
BEGIN:VEVENT
DTSTART;TZID=America/Chicago:20290411T190000
DTEND;TZID=America/Chicago:20290411T200000
DTSTAMP:20260420T031202
CREATED:20260104T210248Z
LAST-MODIFIED:20260104T210248Z
UID:10003320-1870628400-1870632000@mtgileadbc.org
SUMMARY:Bible Study for All Ages
DESCRIPTION:
URL:https://mtgileadbc.org/event/bible-study-for-all-ages/2029-04-11/
CATEGORIES:Adult Ministry,All are Welcome,Kids Ministry,Women Ministry
END:VEVENT
BEGIN:VEVENT
DTSTART;TZID=America/Chicago:20290415T100000
DTEND;TZID=America/Chicago:20290415T110000
DTSTAMP:20260420T031202
CREATED:20260104T205141Z
LAST-MODIFIED:20260104T205141Z
UID:10002536-1870941600-1870945200@mtgileadbc.org
SUMMARY:Sunday School All-Ages
DESCRIPTION:
URL:https://mtgileadbc.org/event/sunday-school-all-ages/2029-04-15/
LOCATION:Mt Gilead Baptist Church\, 5751 Highway 104 N\, Cedar Grove\, TN\, 38321\, United States
CATEGORIES:Adult Ministry,All are Welcome,Kids Ministry,Women Ministry
END:VEVENT
BEGIN:VEVENT
DTSTART;TZID=America/Chicago:20290415T110000
DTEND;TZID=America/Chicago:20290415T120000
DTSTAMP:20260420T031202
CREATED:20260201T142652Z
LAST-MODIFIED:20260201T142753Z
UID:10002275-1870945200-1870948800@mtgileadbc.org
SUMMARY:Sunday Morning Service
DESCRIPTION:
URL:https://mtgileadbc.org/event/sunday-morning-service-2/2029-04-15/
CATEGORIES:Adult Ministry,All are Welcome,Kids Ministry,Women Ministry
END:VEVENT
BEGIN:VEVENT
DTSTART;TZID=America/Chicago:20290418T190000
DTEND;TZID=America/Chicago:20290418T200000
DTSTAMP:20260420T031202
CREATED:20260104T210101Z
LAST-MODIFIED:20260104T210101Z
UID:10003060-1871233200-1871236800@mtgileadbc.org
SUMMARY:Business Meeting
DESCRIPTION:
URL:https://mtgileadbc.org/event/business-meeting/2029-04-18/
CATEGORIES:Adult Ministry
END:VEVENT
BEGIN:VEVENT
DTSTART;TZID=America/Chicago:20290418T190000
DTEND;TZID=America/Chicago:20290418T200000
DTSTAMP:20260420T031202
CREATED:20260104T210248Z
LAST-MODIFIED:20260104T210248Z
UID:10003321-1871233200-1871236800@mtgileadbc.org
SUMMARY:Bible Study for All Ages
DESCRIPTION:
URL:https://mtgileadbc.org/event/bible-study-for-all-ages/2029-04-18/
CATEGORIES:Adult Ministry,All are Welcome,Kids Ministry,Women Ministry
END:VEVENT
BEGIN:VEVENT
DTSTART;TZID=America/Chicago:20290422T100000
DTEND;TZID=America/Chicago:20290422T110000
DTSTAMP:20260420T031202
CREATED:20260104T205141Z
LAST-MODIFIED:20260104T205141Z
UID:10002537-1871546400-1871550000@mtgileadbc.org
SUMMARY:Sunday School All-Ages
DESCRIPTION:
URL:https://mtgileadbc.org/event/sunday-school-all-ages/2029-04-22/
LOCATION:Mt Gilead Baptist Church\, 5751 Highway 104 N\, Cedar Grove\, TN\, 38321\, United States
CATEGORIES:Adult Ministry,All are Welcome,Kids Ministry,Women Ministry
END:VEVENT
BEGIN:VEVENT
DTSTART;TZID=America/Chicago:20290422T110000
DTEND;TZID=America/Chicago:20290422T120000
DTSTAMP:20260420T031202
CREATED:20260201T142652Z
LAST-MODIFIED:20260201T142753Z
UID:10002276-1871550000-1871553600@mtgileadbc.org
SUMMARY:Sunday Morning Service
DESCRIPTION:
URL:https://mtgileadbc.org/event/sunday-morning-service-2/2029-04-22/
CATEGORIES:Adult Ministry,All are Welcome,Kids Ministry,Women Ministry
END:VEVENT
BEGIN:VEVENT
DTSTART;TZID=America/Chicago:20290425T190000
DTEND;TZID=America/Chicago:20290425T200000
DTSTAMP:20260420T031202
CREATED:20260104T210101Z
LAST-MODIFIED:20260104T210101Z
UID:10003061-1871838000-1871841600@mtgileadbc.org
SUMMARY:Business Meeting
DESCRIPTION:
URL:https://mtgileadbc.org/event/business-meeting/2029-04-25/
CATEGORIES:Adult Ministry
END:VEVENT
BEGIN:VEVENT
DTSTART;TZID=America/Chicago:20290425T190000
DTEND;TZID=America/Chicago:20290425T200000
DTSTAMP:20260420T031202
CREATED:20260104T210248Z
LAST-MODIFIED:20260104T210248Z
UID:10003322-1871838000-1871841600@mtgileadbc.org
SUMMARY:Bible Study for All Ages
DESCRIPTION:
URL:https://mtgileadbc.org/event/bible-study-for-all-ages/2029-04-25/
CATEGORIES:Adult Ministry,All are Welcome,Kids Ministry,Women Ministry
END:VEVENT
BEGIN:VEVENT
DTSTART;TZID=America/Chicago:20290429T100000
DTEND;TZID=America/Chicago:20290429T110000
DTSTAMP:20260420T031202
CREATED:20260104T205141Z
LAST-MODIFIED:20260104T205141Z
UID:10002538-1872151200-1872154800@mtgileadbc.org
SUMMARY:Sunday School All-Ages
DESCRIPTION:
URL:https://mtgileadbc.org/event/sunday-school-all-ages/2029-04-29/
LOCATION:Mt Gilead Baptist Church\, 5751 Highway 104 N\, Cedar Grove\, TN\, 38321\, United States
CATEGORIES:Adult Ministry,All are Welcome,Kids Ministry,Women Ministry
END:VEVENT
BEGIN:VEVENT
DTSTART;TZID=America/Chicago:20290429T110000
DTEND;TZID=America/Chicago:20290429T120000
DTSTAMP:20260420T031202
CREATED:20260201T142652Z
LAST-MODIFIED:20260201T142753Z
UID:10002277-1872154800-1872158400@mtgileadbc.org
SUMMARY:Sunday Morning Service
DESCRIPTION:
URL:https://mtgileadbc.org/event/sunday-morning-service-2/2029-04-29/
CATEGORIES:Adult Ministry,All are Welcome,Kids Ministry,Women Ministry
END:VEVENT
END:VCALENDAR