BEGIN:VCALENDAR
VERSION:2.0
PRODID:-//Mt Gilead Baptist Church - ECPv6.15.15//NONSGML v1.0//EN
CALSCALE:GREGORIAN
METHOD:PUBLISH
X-ORIGINAL-URL:https://mtgileadbc.org
X-WR-CALDESC:Events for Mt Gilead Baptist Church
REFRESH-INTERVAL;VALUE=DURATION:PT1H
X-Robots-Tag:noindex
X-PUBLISHED-TTL:PT1H
BEGIN:VTIMEZONE
TZID:America/Chicago
BEGIN:DAYLIGHT
TZOFFSETFROM:-0600
TZOFFSETTO:-0500
TZNAME:CDT
DTSTART:20290311T080000
END:DAYLIGHT
BEGIN:STANDARD
TZOFFSETFROM:-0500
TZOFFSETTO:-0600
TZNAME:CST
DTSTART:20291104T070000
END:STANDARD
BEGIN:DAYLIGHT
TZOFFSETFROM:-0600
TZOFFSETTO:-0500
TZNAME:CDT
DTSTART:20300310T080000
END:DAYLIGHT
BEGIN:STANDARD
TZOFFSETFROM:-0500
TZOFFSETTO:-0600
TZNAME:CST
DTSTART:20301103T070000
END:STANDARD
BEGIN:DAYLIGHT
TZOFFSETFROM:-0600
TZOFFSETTO:-0500
TZNAME:CDT
DTSTART:20310309T080000
END:DAYLIGHT
BEGIN:STANDARD
TZOFFSETFROM:-0500
TZOFFSETTO:-0600
TZNAME:CST
DTSTART:20311102T070000
END:STANDARD
END:VTIMEZONE
BEGIN:VEVENT
DTSTART;TZID=America/Chicago:20300922T100000
DTEND;TZID=America/Chicago:20300922T110000
DTSTAMP:20260423T050149
CREATED:20260104T205141Z
LAST-MODIFIED:20260104T205141Z
UID:10002611-1916301600-1916305200@mtgileadbc.org
SUMMARY:Sunday School All-Ages
DESCRIPTION:
URL:https://mtgileadbc.org/event/sunday-school-all-ages/2030-09-22/
LOCATION:Mt Gilead Baptist Church\, 5751 Highway 104 N\, Cedar Grove\, TN\, 38321\, United States
CATEGORIES:Adult Ministry,All are Welcome,Kids Ministry,Women Ministry
END:VEVENT
BEGIN:VEVENT
DTSTART;TZID=America/Chicago:20300922T110000
DTEND;TZID=America/Chicago:20300922T120000
DTSTAMP:20260423T050149
CREATED:20260201T142652Z
LAST-MODIFIED:20260201T142753Z
UID:10002350-1916305200-1916308800@mtgileadbc.org
SUMMARY:Sunday Morning Service
DESCRIPTION:
URL:https://mtgileadbc.org/event/sunday-morning-service-2/2030-09-22/
CATEGORIES:Adult Ministry,All are Welcome,Kids Ministry,Women Ministry
END:VEVENT
BEGIN:VEVENT
DTSTART;TZID=America/Chicago:20300925T190000
DTEND;TZID=America/Chicago:20300925T200000
DTSTAMP:20260423T050149
CREATED:20260104T210101Z
LAST-MODIFIED:20260104T210101Z
UID:10003135-1916593200-1916596800@mtgileadbc.org
SUMMARY:Business Meeting
DESCRIPTION:
URL:https://mtgileadbc.org/event/business-meeting/2030-09-25/
CATEGORIES:Adult Ministry
END:VEVENT
BEGIN:VEVENT
DTSTART;TZID=America/Chicago:20300925T190000
DTEND;TZID=America/Chicago:20300925T200000
DTSTAMP:20260423T050149
CREATED:20260104T210248Z
LAST-MODIFIED:20260104T210248Z
UID:10003396-1916593200-1916596800@mtgileadbc.org
SUMMARY:Bible Study for All Ages
DESCRIPTION:
URL:https://mtgileadbc.org/event/bible-study-for-all-ages/2030-09-25/
CATEGORIES:Adult Ministry,All are Welcome,Kids Ministry,Women Ministry
END:VEVENT
BEGIN:VEVENT
DTSTART;TZID=America/Chicago:20300929T100000
DTEND;TZID=America/Chicago:20300929T110000
DTSTAMP:20260423T050149
CREATED:20260104T205141Z
LAST-MODIFIED:20260104T205141Z
UID:10002612-1916906400-1916910000@mtgileadbc.org
SUMMARY:Sunday School All-Ages
DESCRIPTION:
URL:https://mtgileadbc.org/event/sunday-school-all-ages/2030-09-29/
LOCATION:Mt Gilead Baptist Church\, 5751 Highway 104 N\, Cedar Grove\, TN\, 38321\, United States
CATEGORIES:Adult Ministry,All are Welcome,Kids Ministry,Women Ministry
END:VEVENT
BEGIN:VEVENT
DTSTART;TZID=America/Chicago:20300929T110000
DTEND;TZID=America/Chicago:20300929T120000
DTSTAMP:20260423T050149
CREATED:20260201T142652Z
LAST-MODIFIED:20260201T142753Z
UID:10002351-1916910000-1916913600@mtgileadbc.org
SUMMARY:Sunday Morning Service
DESCRIPTION:
URL:https://mtgileadbc.org/event/sunday-morning-service-2/2030-09-29/
CATEGORIES:Adult Ministry,All are Welcome,Kids Ministry,Women Ministry
END:VEVENT
BEGIN:VEVENT
DTSTART;TZID=America/Chicago:20301002T190000
DTEND;TZID=America/Chicago:20301002T200000
DTSTAMP:20260423T050149
CREATED:20260104T210101Z
LAST-MODIFIED:20260104T210101Z
UID:10003136-1917198000-1917201600@mtgileadbc.org
SUMMARY:Business Meeting
DESCRIPTION:
URL:https://mtgileadbc.org/event/business-meeting/2030-10-02/
CATEGORIES:Adult Ministry
END:VEVENT
BEGIN:VEVENT
DTSTART;TZID=America/Chicago:20301002T190000
DTEND;TZID=America/Chicago:20301002T200000
DTSTAMP:20260423T050149
CREATED:20260104T210248Z
LAST-MODIFIED:20260104T210248Z
UID:10003397-1917198000-1917201600@mtgileadbc.org
SUMMARY:Bible Study for All Ages
DESCRIPTION:
URL:https://mtgileadbc.org/event/bible-study-for-all-ages/2030-10-02/
CATEGORIES:Adult Ministry,All are Welcome,Kids Ministry,Women Ministry
END:VEVENT
BEGIN:VEVENT
DTSTART;TZID=America/Chicago:20301006T100000
DTEND;TZID=America/Chicago:20301006T110000
DTSTAMP:20260423T050149
CREATED:20260104T205141Z
LAST-MODIFIED:20260104T205141Z
UID:10002613-1917511200-1917514800@mtgileadbc.org
SUMMARY:Sunday School All-Ages
DESCRIPTION:
URL:https://mtgileadbc.org/event/sunday-school-all-ages/2030-10-06/
LOCATION:Mt Gilead Baptist Church\, 5751 Highway 104 N\, Cedar Grove\, TN\, 38321\, United States
CATEGORIES:Adult Ministry,All are Welcome,Kids Ministry,Women Ministry
END:VEVENT
BEGIN:VEVENT
DTSTART;TZID=America/Chicago:20301006T110000
DTEND;TZID=America/Chicago:20301006T120000
DTSTAMP:20260423T050149
CREATED:20260201T142652Z
LAST-MODIFIED:20260201T142753Z
UID:10002352-1917514800-1917518400@mtgileadbc.org
SUMMARY:Sunday Morning Service
DESCRIPTION:
URL:https://mtgileadbc.org/event/sunday-morning-service-2/2030-10-06/
CATEGORIES:Adult Ministry,All are Welcome,Kids Ministry,Women Ministry
END:VEVENT
BEGIN:VEVENT
DTSTART;TZID=America/Chicago:20301009T190000
DTEND;TZID=America/Chicago:20301009T200000
DTSTAMP:20260423T050149
CREATED:20260104T210101Z
LAST-MODIFIED:20260104T210101Z
UID:10003137-1917802800-1917806400@mtgileadbc.org
SUMMARY:Business Meeting
DESCRIPTION:
URL:https://mtgileadbc.org/event/business-meeting/2030-10-09/
CATEGORIES:Adult Ministry
END:VEVENT
BEGIN:VEVENT
DTSTART;TZID=America/Chicago:20301009T190000
DTEND;TZID=America/Chicago:20301009T200000
DTSTAMP:20260423T050149
CREATED:20260104T210248Z
LAST-MODIFIED:20260104T210248Z
UID:10003398-1917802800-1917806400@mtgileadbc.org
SUMMARY:Bible Study for All Ages
DESCRIPTION:
URL:https://mtgileadbc.org/event/bible-study-for-all-ages/2030-10-09/
CATEGORIES:Adult Ministry,All are Welcome,Kids Ministry,Women Ministry
END:VEVENT
BEGIN:VEVENT
DTSTART;TZID=America/Chicago:20301013T100000
DTEND;TZID=America/Chicago:20301013T110000
DTSTAMP:20260423T050149
CREATED:20260104T205141Z
LAST-MODIFIED:20260104T205141Z
UID:10002614-1918116000-1918119600@mtgileadbc.org
SUMMARY:Sunday School All-Ages
DESCRIPTION:
URL:https://mtgileadbc.org/event/sunday-school-all-ages/2030-10-13/
LOCATION:Mt Gilead Baptist Church\, 5751 Highway 104 N\, Cedar Grove\, TN\, 38321\, United States
CATEGORIES:Adult Ministry,All are Welcome,Kids Ministry,Women Ministry
END:VEVENT
BEGIN:VEVENT
DTSTART;TZID=America/Chicago:20301013T110000
DTEND;TZID=America/Chicago:20301013T120000
DTSTAMP:20260423T050149
CREATED:20260201T142652Z
LAST-MODIFIED:20260201T142753Z
UID:10002353-1918119600-1918123200@mtgileadbc.org
SUMMARY:Sunday Morning Service
DESCRIPTION:
URL:https://mtgileadbc.org/event/sunday-morning-service-2/2030-10-13/
CATEGORIES:Adult Ministry,All are Welcome,Kids Ministry,Women Ministry
END:VEVENT
BEGIN:VEVENT
DTSTART;TZID=America/Chicago:20301016T190000
DTEND;TZID=America/Chicago:20301016T200000
DTSTAMP:20260423T050149
CREATED:20260104T210101Z
LAST-MODIFIED:20260104T210101Z
UID:10003138-1918407600-1918411200@mtgileadbc.org
SUMMARY:Business Meeting
DESCRIPTION:
URL:https://mtgileadbc.org/event/business-meeting/2030-10-16/
CATEGORIES:Adult Ministry
END:VEVENT
BEGIN:VEVENT
DTSTART;TZID=America/Chicago:20301016T190000
DTEND;TZID=America/Chicago:20301016T200000
DTSTAMP:20260423T050149
CREATED:20260104T210248Z
LAST-MODIFIED:20260104T210248Z
UID:10003399-1918407600-1918411200@mtgileadbc.org
SUMMARY:Bible Study for All Ages
DESCRIPTION:
URL:https://mtgileadbc.org/event/bible-study-for-all-ages/2030-10-16/
CATEGORIES:Adult Ministry,All are Welcome,Kids Ministry,Women Ministry
END:VEVENT
BEGIN:VEVENT
DTSTART;TZID=America/Chicago:20301020T100000
DTEND;TZID=America/Chicago:20301020T110000
DTSTAMP:20260423T050149
CREATED:20260104T205141Z
LAST-MODIFIED:20260104T205141Z
UID:10002615-1918720800-1918724400@mtgileadbc.org
SUMMARY:Sunday School All-Ages
DESCRIPTION:
URL:https://mtgileadbc.org/event/sunday-school-all-ages/2030-10-20/
LOCATION:Mt Gilead Baptist Church\, 5751 Highway 104 N\, Cedar Grove\, TN\, 38321\, United States
CATEGORIES:Adult Ministry,All are Welcome,Kids Ministry,Women Ministry
END:VEVENT
BEGIN:VEVENT
DTSTART;TZID=America/Chicago:20301020T110000
DTEND;TZID=America/Chicago:20301020T120000
DTSTAMP:20260423T050149
CREATED:20260201T142652Z
LAST-MODIFIED:20260201T142753Z
UID:10002354-1918724400-1918728000@mtgileadbc.org
SUMMARY:Sunday Morning Service
DESCRIPTION:
URL:https://mtgileadbc.org/event/sunday-morning-service-2/2030-10-20/
CATEGORIES:Adult Ministry,All are Welcome,Kids Ministry,Women Ministry
END:VEVENT
BEGIN:VEVENT
DTSTART;TZID=America/Chicago:20301023T190000
DTEND;TZID=America/Chicago:20301023T200000
DTSTAMP:20260423T050149
CREATED:20260104T210101Z
LAST-MODIFIED:20260104T210101Z
UID:10003139-1919012400-1919016000@mtgileadbc.org
SUMMARY:Business Meeting
DESCRIPTION:
URL:https://mtgileadbc.org/event/business-meeting/2030-10-23/
CATEGORIES:Adult Ministry
END:VEVENT
BEGIN:VEVENT
DTSTART;TZID=America/Chicago:20301023T190000
DTEND;TZID=America/Chicago:20301023T200000
DTSTAMP:20260423T050149
CREATED:20260104T210248Z
LAST-MODIFIED:20260104T210248Z
UID:10003400-1919012400-1919016000@mtgileadbc.org
SUMMARY:Bible Study for All Ages
DESCRIPTION:
URL:https://mtgileadbc.org/event/bible-study-for-all-ages/2030-10-23/
CATEGORIES:Adult Ministry,All are Welcome,Kids Ministry,Women Ministry
END:VEVENT
BEGIN:VEVENT
DTSTART;TZID=America/Chicago:20301027T100000
DTEND;TZID=America/Chicago:20301027T110000
DTSTAMP:20260423T050149
CREATED:20260104T205141Z
LAST-MODIFIED:20260104T205141Z
UID:10002616-1919325600-1919329200@mtgileadbc.org
SUMMARY:Sunday School All-Ages
DESCRIPTION:
URL:https://mtgileadbc.org/event/sunday-school-all-ages/2030-10-27/
LOCATION:Mt Gilead Baptist Church\, 5751 Highway 104 N\, Cedar Grove\, TN\, 38321\, United States
CATEGORIES:Adult Ministry,All are Welcome,Kids Ministry,Women Ministry
END:VEVENT
BEGIN:VEVENT
DTSTART;TZID=America/Chicago:20301027T110000
DTEND;TZID=America/Chicago:20301027T120000
DTSTAMP:20260423T050149
CREATED:20260201T142652Z
LAST-MODIFIED:20260201T142753Z
UID:10002355-1919329200-1919332800@mtgileadbc.org
SUMMARY:Sunday Morning Service
DESCRIPTION:
URL:https://mtgileadbc.org/event/sunday-morning-service-2/2030-10-27/
CATEGORIES:Adult Ministry,All are Welcome,Kids Ministry,Women Ministry
END:VEVENT
BEGIN:VEVENT
DTSTART;TZID=America/Chicago:20301030T190000
DTEND;TZID=America/Chicago:20301030T200000
DTSTAMP:20260423T050149
CREATED:20260104T210101Z
LAST-MODIFIED:20260104T210101Z
UID:10003140-1919617200-1919620800@mtgileadbc.org
SUMMARY:Business Meeting
DESCRIPTION:
URL:https://mtgileadbc.org/event/business-meeting/2030-10-30/
CATEGORIES:Adult Ministry
END:VEVENT
BEGIN:VEVENT
DTSTART;TZID=America/Chicago:20301030T190000
DTEND;TZID=America/Chicago:20301030T200000
DTSTAMP:20260423T050149
CREATED:20260104T210248Z
LAST-MODIFIED:20260104T210248Z
UID:10003401-1919617200-1919620800@mtgileadbc.org
SUMMARY:Bible Study for All Ages
DESCRIPTION:
URL:https://mtgileadbc.org/event/bible-study-for-all-ages/2030-10-30/
CATEGORIES:Adult Ministry,All are Welcome,Kids Ministry,Women Ministry
END:VEVENT
BEGIN:VEVENT
DTSTART;TZID=America/Chicago:20301103T100000
DTEND;TZID=America/Chicago:20301103T110000
DTSTAMP:20260423T050149
CREATED:20260104T205141Z
LAST-MODIFIED:20260104T205141Z
UID:10002617-1919930400-1919934000@mtgileadbc.org
SUMMARY:Sunday School All-Ages
DESCRIPTION:
URL:https://mtgileadbc.org/event/sunday-school-all-ages/2030-11-03/
LOCATION:Mt Gilead Baptist Church\, 5751 Highway 104 N\, Cedar Grove\, TN\, 38321\, United States
CATEGORIES:Adult Ministry,All are Welcome,Kids Ministry,Women Ministry
END:VEVENT
BEGIN:VEVENT
DTSTART;TZID=America/Chicago:20301103T110000
DTEND;TZID=America/Chicago:20301103T120000
DTSTAMP:20260423T050149
CREATED:20260201T142652Z
LAST-MODIFIED:20260201T142753Z
UID:10002356-1919934000-1919937600@mtgileadbc.org
SUMMARY:Sunday Morning Service
DESCRIPTION:
URL:https://mtgileadbc.org/event/sunday-morning-service-2/2030-11-03/
CATEGORIES:Adult Ministry,All are Welcome,Kids Ministry,Women Ministry
END:VEVENT
BEGIN:VEVENT
DTSTART;TZID=America/Chicago:20301106T190000
DTEND;TZID=America/Chicago:20301106T200000
DTSTAMP:20260423T050149
CREATED:20260104T210101Z
LAST-MODIFIED:20260104T210101Z
UID:10003141-1920222000-1920225600@mtgileadbc.org
SUMMARY:Business Meeting
DESCRIPTION:
URL:https://mtgileadbc.org/event/business-meeting/2030-11-06/
CATEGORIES:Adult Ministry
END:VEVENT
BEGIN:VEVENT
DTSTART;TZID=America/Chicago:20301106T190000
DTEND;TZID=America/Chicago:20301106T200000
DTSTAMP:20260423T050149
CREATED:20260104T210248Z
LAST-MODIFIED:20260104T210248Z
UID:10003402-1920222000-1920225600@mtgileadbc.org
SUMMARY:Bible Study for All Ages
DESCRIPTION:
URL:https://mtgileadbc.org/event/bible-study-for-all-ages/2030-11-06/
CATEGORIES:Adult Ministry,All are Welcome,Kids Ministry,Women Ministry
END:VEVENT
BEGIN:VEVENT
DTSTART;TZID=America/Chicago:20301110T100000
DTEND;TZID=America/Chicago:20301110T110000
DTSTAMP:20260423T050149
CREATED:20260104T205141Z
LAST-MODIFIED:20260104T205141Z
UID:10002618-1920535200-1920538800@mtgileadbc.org
SUMMARY:Sunday School All-Ages
DESCRIPTION:
URL:https://mtgileadbc.org/event/sunday-school-all-ages/2030-11-10/
LOCATION:Mt Gilead Baptist Church\, 5751 Highway 104 N\, Cedar Grove\, TN\, 38321\, United States
CATEGORIES:Adult Ministry,All are Welcome,Kids Ministry,Women Ministry
END:VEVENT
BEGIN:VEVENT
DTSTART;TZID=America/Chicago:20301110T110000
DTEND;TZID=America/Chicago:20301110T120000
DTSTAMP:20260423T050149
CREATED:20260201T142652Z
LAST-MODIFIED:20260201T142753Z
UID:10002357-1920538800-1920542400@mtgileadbc.org
SUMMARY:Sunday Morning Service
DESCRIPTION:
URL:https://mtgileadbc.org/event/sunday-morning-service-2/2030-11-10/
CATEGORIES:Adult Ministry,All are Welcome,Kids Ministry,Women Ministry
END:VEVENT
END:VCALENDAR