BEGIN:VCALENDAR
VERSION:2.0
PRODID:-//Mt Gilead Baptist Church - ECPv6.15.15//NONSGML v1.0//EN
CALSCALE:GREGORIAN
METHOD:PUBLISH
X-WR-CALNAME:Mt Gilead Baptist Church
X-ORIGINAL-URL:https://mtgileadbc.org
X-WR-CALDESC:Events for Mt Gilead Baptist Church
REFRESH-INTERVAL;VALUE=DURATION:PT1H
X-Robots-Tag:noindex
X-PUBLISHED-TTL:PT1H
BEGIN:VTIMEZONE
TZID:America/Chicago
BEGIN:DAYLIGHT
TZOFFSETFROM:-0600
TZOFFSETTO:-0500
TZNAME:CDT
DTSTART:20290311T080000
END:DAYLIGHT
BEGIN:STANDARD
TZOFFSETFROM:-0500
TZOFFSETTO:-0600
TZNAME:CST
DTSTART:20291104T070000
END:STANDARD
BEGIN:DAYLIGHT
TZOFFSETFROM:-0600
TZOFFSETTO:-0500
TZNAME:CDT
DTSTART:20300310T080000
END:DAYLIGHT
BEGIN:STANDARD
TZOFFSETFROM:-0500
TZOFFSETTO:-0600
TZNAME:CST
DTSTART:20301103T070000
END:STANDARD
BEGIN:DAYLIGHT
TZOFFSETFROM:-0600
TZOFFSETTO:-0500
TZNAME:CDT
DTSTART:20310309T080000
END:DAYLIGHT
BEGIN:STANDARD
TZOFFSETFROM:-0500
TZOFFSETTO:-0600
TZNAME:CST
DTSTART:20311102T070000
END:STANDARD
END:VTIMEZONE
BEGIN:VEVENT
DTSTART;TZID=America/Chicago:20300428T100000
DTEND;TZID=America/Chicago:20300428T110000
DTSTAMP:20260421T181146
CREATED:20260104T205141Z
LAST-MODIFIED:20260104T205141Z
UID:10002590-1903600800-1903604400@mtgileadbc.org
SUMMARY:Sunday School All-Ages
DESCRIPTION:
URL:https://mtgileadbc.org/event/sunday-school-all-ages/2030-04-28/
LOCATION:Mt Gilead Baptist Church\, 5751 Highway 104 N\, Cedar Grove\, TN\, 38321\, United States
CATEGORIES:Adult Ministry,All are Welcome,Kids Ministry,Women Ministry
END:VEVENT
BEGIN:VEVENT
DTSTART;TZID=America/Chicago:20300428T110000
DTEND;TZID=America/Chicago:20300428T120000
DTSTAMP:20260421T181146
CREATED:20260201T142652Z
LAST-MODIFIED:20260201T142753Z
UID:10002329-1903604400-1903608000@mtgileadbc.org
SUMMARY:Sunday Morning Service
DESCRIPTION:
URL:https://mtgileadbc.org/event/sunday-morning-service-2/2030-04-28/
CATEGORIES:Adult Ministry,All are Welcome,Kids Ministry,Women Ministry
END:VEVENT
BEGIN:VEVENT
DTSTART;TZID=America/Chicago:20300501T190000
DTEND;TZID=America/Chicago:20300501T200000
DTSTAMP:20260421T181146
CREATED:20260104T210101Z
LAST-MODIFIED:20260104T210101Z
UID:10003114-1903892400-1903896000@mtgileadbc.org
SUMMARY:Business Meeting
DESCRIPTION:
URL:https://mtgileadbc.org/event/business-meeting/2030-05-01/
CATEGORIES:Adult Ministry
END:VEVENT
BEGIN:VEVENT
DTSTART;TZID=America/Chicago:20300501T190000
DTEND;TZID=America/Chicago:20300501T200000
DTSTAMP:20260421T181146
CREATED:20260104T210248Z
LAST-MODIFIED:20260104T210248Z
UID:10003375-1903892400-1903896000@mtgileadbc.org
SUMMARY:Bible Study for All Ages
DESCRIPTION:
URL:https://mtgileadbc.org/event/bible-study-for-all-ages/2030-05-01/
CATEGORIES:Adult Ministry,All are Welcome,Kids Ministry,Women Ministry
END:VEVENT
BEGIN:VEVENT
DTSTART;TZID=America/Chicago:20300505T100000
DTEND;TZID=America/Chicago:20300505T110000
DTSTAMP:20260421T181146
CREATED:20260104T205141Z
LAST-MODIFIED:20260104T205141Z
UID:10002591-1904205600-1904209200@mtgileadbc.org
SUMMARY:Sunday School All-Ages
DESCRIPTION:
URL:https://mtgileadbc.org/event/sunday-school-all-ages/2030-05-05/
LOCATION:Mt Gilead Baptist Church\, 5751 Highway 104 N\, Cedar Grove\, TN\, 38321\, United States
CATEGORIES:Adult Ministry,All are Welcome,Kids Ministry,Women Ministry
END:VEVENT
BEGIN:VEVENT
DTSTART;TZID=America/Chicago:20300505T110000
DTEND;TZID=America/Chicago:20300505T120000
DTSTAMP:20260421T181146
CREATED:20260201T142652Z
LAST-MODIFIED:20260201T142753Z
UID:10002330-1904209200-1904212800@mtgileadbc.org
SUMMARY:Sunday Morning Service
DESCRIPTION:
URL:https://mtgileadbc.org/event/sunday-morning-service-2/2030-05-05/
CATEGORIES:Adult Ministry,All are Welcome,Kids Ministry,Women Ministry
END:VEVENT
BEGIN:VEVENT
DTSTART;TZID=America/Chicago:20300508T190000
DTEND;TZID=America/Chicago:20300508T200000
DTSTAMP:20260421T181146
CREATED:20260104T210101Z
LAST-MODIFIED:20260104T210101Z
UID:10003115-1904497200-1904500800@mtgileadbc.org
SUMMARY:Business Meeting
DESCRIPTION:
URL:https://mtgileadbc.org/event/business-meeting/2030-05-08/
CATEGORIES:Adult Ministry
END:VEVENT
BEGIN:VEVENT
DTSTART;TZID=America/Chicago:20300508T190000
DTEND;TZID=America/Chicago:20300508T200000
DTSTAMP:20260421T181146
CREATED:20260104T210248Z
LAST-MODIFIED:20260104T210248Z
UID:10003376-1904497200-1904500800@mtgileadbc.org
SUMMARY:Bible Study for All Ages
DESCRIPTION:
URL:https://mtgileadbc.org/event/bible-study-for-all-ages/2030-05-08/
CATEGORIES:Adult Ministry,All are Welcome,Kids Ministry,Women Ministry
END:VEVENT
BEGIN:VEVENT
DTSTART;TZID=America/Chicago:20300512T100000
DTEND;TZID=America/Chicago:20300512T110000
DTSTAMP:20260421T181146
CREATED:20260104T205141Z
LAST-MODIFIED:20260104T205141Z
UID:10002592-1904810400-1904814000@mtgileadbc.org
SUMMARY:Sunday School All-Ages
DESCRIPTION:
URL:https://mtgileadbc.org/event/sunday-school-all-ages/2030-05-12/
LOCATION:Mt Gilead Baptist Church\, 5751 Highway 104 N\, Cedar Grove\, TN\, 38321\, United States
CATEGORIES:Adult Ministry,All are Welcome,Kids Ministry,Women Ministry
END:VEVENT
BEGIN:VEVENT
DTSTART;TZID=America/Chicago:20300512T110000
DTEND;TZID=America/Chicago:20300512T120000
DTSTAMP:20260421T181146
CREATED:20260201T142652Z
LAST-MODIFIED:20260201T142753Z
UID:10002331-1904814000-1904817600@mtgileadbc.org
SUMMARY:Sunday Morning Service
DESCRIPTION:
URL:https://mtgileadbc.org/event/sunday-morning-service-2/2030-05-12/
CATEGORIES:Adult Ministry,All are Welcome,Kids Ministry,Women Ministry
END:VEVENT
BEGIN:VEVENT
DTSTART;TZID=America/Chicago:20300515T190000
DTEND;TZID=America/Chicago:20300515T200000
DTSTAMP:20260421T181146
CREATED:20260104T210101Z
LAST-MODIFIED:20260104T210101Z
UID:10003116-1905102000-1905105600@mtgileadbc.org
SUMMARY:Business Meeting
DESCRIPTION:
URL:https://mtgileadbc.org/event/business-meeting/2030-05-15/
CATEGORIES:Adult Ministry
END:VEVENT
BEGIN:VEVENT
DTSTART;TZID=America/Chicago:20300515T190000
DTEND;TZID=America/Chicago:20300515T200000
DTSTAMP:20260421T181146
CREATED:20260104T210248Z
LAST-MODIFIED:20260104T210248Z
UID:10003377-1905102000-1905105600@mtgileadbc.org
SUMMARY:Bible Study for All Ages
DESCRIPTION:
URL:https://mtgileadbc.org/event/bible-study-for-all-ages/2030-05-15/
CATEGORIES:Adult Ministry,All are Welcome,Kids Ministry,Women Ministry
END:VEVENT
BEGIN:VEVENT
DTSTART;TZID=America/Chicago:20300519T100000
DTEND;TZID=America/Chicago:20300519T110000
DTSTAMP:20260421T181146
CREATED:20260104T205141Z
LAST-MODIFIED:20260104T205141Z
UID:10002593-1905415200-1905418800@mtgileadbc.org
SUMMARY:Sunday School All-Ages
DESCRIPTION:
URL:https://mtgileadbc.org/event/sunday-school-all-ages/2030-05-19/
LOCATION:Mt Gilead Baptist Church\, 5751 Highway 104 N\, Cedar Grove\, TN\, 38321\, United States
CATEGORIES:Adult Ministry,All are Welcome,Kids Ministry,Women Ministry
END:VEVENT
BEGIN:VEVENT
DTSTART;TZID=America/Chicago:20300519T110000
DTEND;TZID=America/Chicago:20300519T120000
DTSTAMP:20260421T181146
CREATED:20260201T142652Z
LAST-MODIFIED:20260201T142753Z
UID:10002332-1905418800-1905422400@mtgileadbc.org
SUMMARY:Sunday Morning Service
DESCRIPTION:
URL:https://mtgileadbc.org/event/sunday-morning-service-2/2030-05-19/
CATEGORIES:Adult Ministry,All are Welcome,Kids Ministry,Women Ministry
END:VEVENT
BEGIN:VEVENT
DTSTART;TZID=America/Chicago:20300522T190000
DTEND;TZID=America/Chicago:20300522T200000
DTSTAMP:20260421T181146
CREATED:20260104T210101Z
LAST-MODIFIED:20260104T210101Z
UID:10003117-1905706800-1905710400@mtgileadbc.org
SUMMARY:Business Meeting
DESCRIPTION:
URL:https://mtgileadbc.org/event/business-meeting/2030-05-22/
CATEGORIES:Adult Ministry
END:VEVENT
BEGIN:VEVENT
DTSTART;TZID=America/Chicago:20300522T190000
DTEND;TZID=America/Chicago:20300522T200000
DTSTAMP:20260421T181146
CREATED:20260104T210248Z
LAST-MODIFIED:20260104T210248Z
UID:10003378-1905706800-1905710400@mtgileadbc.org
SUMMARY:Bible Study for All Ages
DESCRIPTION:
URL:https://mtgileadbc.org/event/bible-study-for-all-ages/2030-05-22/
CATEGORIES:Adult Ministry,All are Welcome,Kids Ministry,Women Ministry
END:VEVENT
BEGIN:VEVENT
DTSTART;TZID=America/Chicago:20300526T100000
DTEND;TZID=America/Chicago:20300526T110000
DTSTAMP:20260421T181146
CREATED:20260104T205141Z
LAST-MODIFIED:20260104T205141Z
UID:10002594-1906020000-1906023600@mtgileadbc.org
SUMMARY:Sunday School All-Ages
DESCRIPTION:
URL:https://mtgileadbc.org/event/sunday-school-all-ages/2030-05-26/
LOCATION:Mt Gilead Baptist Church\, 5751 Highway 104 N\, Cedar Grove\, TN\, 38321\, United States
CATEGORIES:Adult Ministry,All are Welcome,Kids Ministry,Women Ministry
END:VEVENT
BEGIN:VEVENT
DTSTART;TZID=America/Chicago:20300526T110000
DTEND;TZID=America/Chicago:20300526T120000
DTSTAMP:20260421T181146
CREATED:20260201T142652Z
LAST-MODIFIED:20260201T142753Z
UID:10002333-1906023600-1906027200@mtgileadbc.org
SUMMARY:Sunday Morning Service
DESCRIPTION:
URL:https://mtgileadbc.org/event/sunday-morning-service-2/2030-05-26/
CATEGORIES:Adult Ministry,All are Welcome,Kids Ministry,Women Ministry
END:VEVENT
BEGIN:VEVENT
DTSTART;TZID=America/Chicago:20300529T190000
DTEND;TZID=America/Chicago:20300529T200000
DTSTAMP:20260421T181146
CREATED:20260104T210101Z
LAST-MODIFIED:20260104T210101Z
UID:10003118-1906311600-1906315200@mtgileadbc.org
SUMMARY:Business Meeting
DESCRIPTION:
URL:https://mtgileadbc.org/event/business-meeting/2030-05-29/
CATEGORIES:Adult Ministry
END:VEVENT
BEGIN:VEVENT
DTSTART;TZID=America/Chicago:20300529T190000
DTEND;TZID=America/Chicago:20300529T200000
DTSTAMP:20260421T181146
CREATED:20260104T210248Z
LAST-MODIFIED:20260104T210248Z
UID:10003379-1906311600-1906315200@mtgileadbc.org
SUMMARY:Bible Study for All Ages
DESCRIPTION:
URL:https://mtgileadbc.org/event/bible-study-for-all-ages/2030-05-29/
CATEGORIES:Adult Ministry,All are Welcome,Kids Ministry,Women Ministry
END:VEVENT
BEGIN:VEVENT
DTSTART;TZID=America/Chicago:20300602T100000
DTEND;TZID=America/Chicago:20300602T110000
DTSTAMP:20260421T181146
CREATED:20260104T205141Z
LAST-MODIFIED:20260104T205141Z
UID:10002595-1906624800-1906628400@mtgileadbc.org
SUMMARY:Sunday School All-Ages
DESCRIPTION:
URL:https://mtgileadbc.org/event/sunday-school-all-ages/2030-06-02/
LOCATION:Mt Gilead Baptist Church\, 5751 Highway 104 N\, Cedar Grove\, TN\, 38321\, United States
CATEGORIES:Adult Ministry,All are Welcome,Kids Ministry,Women Ministry
END:VEVENT
BEGIN:VEVENT
DTSTART;TZID=America/Chicago:20300602T110000
DTEND;TZID=America/Chicago:20300602T120000
DTSTAMP:20260421T181146
CREATED:20260201T142652Z
LAST-MODIFIED:20260201T142753Z
UID:10002334-1906628400-1906632000@mtgileadbc.org
SUMMARY:Sunday Morning Service
DESCRIPTION:
URL:https://mtgileadbc.org/event/sunday-morning-service-2/2030-06-02/
CATEGORIES:Adult Ministry,All are Welcome,Kids Ministry,Women Ministry
END:VEVENT
BEGIN:VEVENT
DTSTART;TZID=America/Chicago:20300605T190000
DTEND;TZID=America/Chicago:20300605T200000
DTSTAMP:20260421T181146
CREATED:20260104T210101Z
LAST-MODIFIED:20260104T210101Z
UID:10003119-1906916400-1906920000@mtgileadbc.org
SUMMARY:Business Meeting
DESCRIPTION:
URL:https://mtgileadbc.org/event/business-meeting/2030-06-05/
CATEGORIES:Adult Ministry
END:VEVENT
BEGIN:VEVENT
DTSTART;TZID=America/Chicago:20300605T190000
DTEND;TZID=America/Chicago:20300605T200000
DTSTAMP:20260421T181146
CREATED:20260104T210248Z
LAST-MODIFIED:20260104T210248Z
UID:10003380-1906916400-1906920000@mtgileadbc.org
SUMMARY:Bible Study for All Ages
DESCRIPTION:
URL:https://mtgileadbc.org/event/bible-study-for-all-ages/2030-06-05/
CATEGORIES:Adult Ministry,All are Welcome,Kids Ministry,Women Ministry
END:VEVENT
BEGIN:VEVENT
DTSTART;TZID=America/Chicago:20300609T100000
DTEND;TZID=America/Chicago:20300609T110000
DTSTAMP:20260421T181146
CREATED:20260104T205141Z
LAST-MODIFIED:20260104T205141Z
UID:10002596-1907229600-1907233200@mtgileadbc.org
SUMMARY:Sunday School All-Ages
DESCRIPTION:
URL:https://mtgileadbc.org/event/sunday-school-all-ages/2030-06-09/
LOCATION:Mt Gilead Baptist Church\, 5751 Highway 104 N\, Cedar Grove\, TN\, 38321\, United States
CATEGORIES:Adult Ministry,All are Welcome,Kids Ministry,Women Ministry
END:VEVENT
BEGIN:VEVENT
DTSTART;TZID=America/Chicago:20300609T110000
DTEND;TZID=America/Chicago:20300609T120000
DTSTAMP:20260421T181146
CREATED:20260201T142652Z
LAST-MODIFIED:20260201T142753Z
UID:10002335-1907233200-1907236800@mtgileadbc.org
SUMMARY:Sunday Morning Service
DESCRIPTION:
URL:https://mtgileadbc.org/event/sunday-morning-service-2/2030-06-09/
CATEGORIES:Adult Ministry,All are Welcome,Kids Ministry,Women Ministry
END:VEVENT
BEGIN:VEVENT
DTSTART;TZID=America/Chicago:20300612T190000
DTEND;TZID=America/Chicago:20300612T200000
DTSTAMP:20260421T181146
CREATED:20260104T210101Z
LAST-MODIFIED:20260104T210101Z
UID:10003120-1907521200-1907524800@mtgileadbc.org
SUMMARY:Business Meeting
DESCRIPTION:
URL:https://mtgileadbc.org/event/business-meeting/2030-06-12/
CATEGORIES:Adult Ministry
END:VEVENT
BEGIN:VEVENT
DTSTART;TZID=America/Chicago:20300612T190000
DTEND;TZID=America/Chicago:20300612T200000
DTSTAMP:20260421T181146
CREATED:20260104T210248Z
LAST-MODIFIED:20260104T210248Z
UID:10003381-1907521200-1907524800@mtgileadbc.org
SUMMARY:Bible Study for All Ages
DESCRIPTION:
URL:https://mtgileadbc.org/event/bible-study-for-all-ages/2030-06-12/
CATEGORIES:Adult Ministry,All are Welcome,Kids Ministry,Women Ministry
END:VEVENT
BEGIN:VEVENT
DTSTART;TZID=America/Chicago:20300616T100000
DTEND;TZID=America/Chicago:20300616T110000
DTSTAMP:20260421T181146
CREATED:20260104T205141Z
LAST-MODIFIED:20260104T205141Z
UID:10002597-1907834400-1907838000@mtgileadbc.org
SUMMARY:Sunday School All-Ages
DESCRIPTION:
URL:https://mtgileadbc.org/event/sunday-school-all-ages/2030-06-16/
LOCATION:Mt Gilead Baptist Church\, 5751 Highway 104 N\, Cedar Grove\, TN\, 38321\, United States
CATEGORIES:Adult Ministry,All are Welcome,Kids Ministry,Women Ministry
END:VEVENT
BEGIN:VEVENT
DTSTART;TZID=America/Chicago:20300616T110000
DTEND;TZID=America/Chicago:20300616T120000
DTSTAMP:20260421T181146
CREATED:20260201T142652Z
LAST-MODIFIED:20260201T142753Z
UID:10002336-1907838000-1907841600@mtgileadbc.org
SUMMARY:Sunday Morning Service
DESCRIPTION:
URL:https://mtgileadbc.org/event/sunday-morning-service-2/2030-06-16/
CATEGORIES:Adult Ministry,All are Welcome,Kids Ministry,Women Ministry
END:VEVENT
END:VCALENDAR