BEGIN:VCALENDAR
VERSION:2.0
PRODID:-//Mt Gilead Baptist Church - ECPv6.15.15//NONSGML v1.0//EN
CALSCALE:GREGORIAN
METHOD:PUBLISH
X-ORIGINAL-URL:https://mtgileadbc.org
X-WR-CALDESC:Events for Mt Gilead Baptist Church
REFRESH-INTERVAL;VALUE=DURATION:PT1H
X-Robots-Tag:noindex
X-PUBLISHED-TTL:PT1H
BEGIN:VTIMEZONE
TZID:America/Chicago
BEGIN:DAYLIGHT
TZOFFSETFROM:-0600
TZOFFSETTO:-0500
TZNAME:CDT
DTSTART:20290311T080000
END:DAYLIGHT
BEGIN:STANDARD
TZOFFSETFROM:-0500
TZOFFSETTO:-0600
TZNAME:CST
DTSTART:20291104T070000
END:STANDARD
BEGIN:DAYLIGHT
TZOFFSETFROM:-0600
TZOFFSETTO:-0500
TZNAME:CDT
DTSTART:20300310T080000
END:DAYLIGHT
BEGIN:STANDARD
TZOFFSETFROM:-0500
TZOFFSETTO:-0600
TZNAME:CST
DTSTART:20301103T070000
END:STANDARD
BEGIN:DAYLIGHT
TZOFFSETFROM:-0600
TZOFFSETTO:-0500
TZNAME:CDT
DTSTART:20310309T080000
END:DAYLIGHT
BEGIN:STANDARD
TZOFFSETFROM:-0500
TZOFFSETTO:-0600
TZNAME:CST
DTSTART:20311102T070000
END:STANDARD
END:VTIMEZONE
BEGIN:VEVENT
DTSTART;TZID=America/Chicago:20300116T190000
DTEND;TZID=America/Chicago:20300116T200000
DTSTAMP:20260421T135919
CREATED:20260104T210101Z
LAST-MODIFIED:20260104T210101Z
UID:10003099-1894820400-1894824000@mtgileadbc.org
SUMMARY:Business Meeting
DESCRIPTION:
URL:https://mtgileadbc.org/event/business-meeting/2030-01-16/
CATEGORIES:Adult Ministry
END:VEVENT
BEGIN:VEVENT
DTSTART;TZID=America/Chicago:20300116T190000
DTEND;TZID=America/Chicago:20300116T200000
DTSTAMP:20260421T135919
CREATED:20260104T210248Z
LAST-MODIFIED:20260104T210248Z
UID:10003360-1894820400-1894824000@mtgileadbc.org
SUMMARY:Bible Study for All Ages
DESCRIPTION:
URL:https://mtgileadbc.org/event/bible-study-for-all-ages/2030-01-16/
CATEGORIES:Adult Ministry,All are Welcome,Kids Ministry,Women Ministry
END:VEVENT
BEGIN:VEVENT
DTSTART;TZID=America/Chicago:20300120T100000
DTEND;TZID=America/Chicago:20300120T110000
DTSTAMP:20260421T135919
CREATED:20260104T205141Z
LAST-MODIFIED:20260104T205141Z
UID:10002576-1895133600-1895137200@mtgileadbc.org
SUMMARY:Sunday School All-Ages
DESCRIPTION:
URL:https://mtgileadbc.org/event/sunday-school-all-ages/2030-01-20/
LOCATION:Mt Gilead Baptist Church\, 5751 Highway 104 N\, Cedar Grove\, TN\, 38321\, United States
CATEGORIES:Adult Ministry,All are Welcome,Kids Ministry,Women Ministry
END:VEVENT
BEGIN:VEVENT
DTSTART;TZID=America/Chicago:20300120T110000
DTEND;TZID=America/Chicago:20300120T120000
DTSTAMP:20260421T135919
CREATED:20260201T142652Z
LAST-MODIFIED:20260201T142753Z
UID:10002315-1895137200-1895140800@mtgileadbc.org
SUMMARY:Sunday Morning Service
DESCRIPTION:
URL:https://mtgileadbc.org/event/sunday-morning-service-2/2030-01-20/
CATEGORIES:Adult Ministry,All are Welcome,Kids Ministry,Women Ministry
END:VEVENT
BEGIN:VEVENT
DTSTART;TZID=America/Chicago:20300123T190000
DTEND;TZID=America/Chicago:20300123T200000
DTSTAMP:20260421T135919
CREATED:20260104T210101Z
LAST-MODIFIED:20260104T210101Z
UID:10003100-1895425200-1895428800@mtgileadbc.org
SUMMARY:Business Meeting
DESCRIPTION:
URL:https://mtgileadbc.org/event/business-meeting/2030-01-23/
CATEGORIES:Adult Ministry
END:VEVENT
BEGIN:VEVENT
DTSTART;TZID=America/Chicago:20300123T190000
DTEND;TZID=America/Chicago:20300123T200000
DTSTAMP:20260421T135919
CREATED:20260104T210248Z
LAST-MODIFIED:20260104T210248Z
UID:10003361-1895425200-1895428800@mtgileadbc.org
SUMMARY:Bible Study for All Ages
DESCRIPTION:
URL:https://mtgileadbc.org/event/bible-study-for-all-ages/2030-01-23/
CATEGORIES:Adult Ministry,All are Welcome,Kids Ministry,Women Ministry
END:VEVENT
BEGIN:VEVENT
DTSTART;TZID=America/Chicago:20300127T100000
DTEND;TZID=America/Chicago:20300127T110000
DTSTAMP:20260421T135919
CREATED:20260104T205141Z
LAST-MODIFIED:20260104T205141Z
UID:10002577-1895738400-1895742000@mtgileadbc.org
SUMMARY:Sunday School All-Ages
DESCRIPTION:
URL:https://mtgileadbc.org/event/sunday-school-all-ages/2030-01-27/
LOCATION:Mt Gilead Baptist Church\, 5751 Highway 104 N\, Cedar Grove\, TN\, 38321\, United States
CATEGORIES:Adult Ministry,All are Welcome,Kids Ministry,Women Ministry
END:VEVENT
BEGIN:VEVENT
DTSTART;TZID=America/Chicago:20300127T110000
DTEND;TZID=America/Chicago:20300127T120000
DTSTAMP:20260421T135919
CREATED:20260201T142652Z
LAST-MODIFIED:20260201T142753Z
UID:10002316-1895742000-1895745600@mtgileadbc.org
SUMMARY:Sunday Morning Service
DESCRIPTION:
URL:https://mtgileadbc.org/event/sunday-morning-service-2/2030-01-27/
CATEGORIES:Adult Ministry,All are Welcome,Kids Ministry,Women Ministry
END:VEVENT
BEGIN:VEVENT
DTSTART;TZID=America/Chicago:20300130T190000
DTEND;TZID=America/Chicago:20300130T200000
DTSTAMP:20260421T135919
CREATED:20260104T210101Z
LAST-MODIFIED:20260104T210101Z
UID:10003101-1896030000-1896033600@mtgileadbc.org
SUMMARY:Business Meeting
DESCRIPTION:
URL:https://mtgileadbc.org/event/business-meeting/2030-01-30/
CATEGORIES:Adult Ministry
END:VEVENT
BEGIN:VEVENT
DTSTART;TZID=America/Chicago:20300130T190000
DTEND;TZID=America/Chicago:20300130T200000
DTSTAMP:20260421T135919
CREATED:20260104T210248Z
LAST-MODIFIED:20260104T210248Z
UID:10003362-1896030000-1896033600@mtgileadbc.org
SUMMARY:Bible Study for All Ages
DESCRIPTION:
URL:https://mtgileadbc.org/event/bible-study-for-all-ages/2030-01-30/
CATEGORIES:Adult Ministry,All are Welcome,Kids Ministry,Women Ministry
END:VEVENT
BEGIN:VEVENT
DTSTART;TZID=America/Chicago:20300203T100000
DTEND;TZID=America/Chicago:20300203T110000
DTSTAMP:20260421T135919
CREATED:20260104T205141Z
LAST-MODIFIED:20260104T205141Z
UID:10002578-1896343200-1896346800@mtgileadbc.org
SUMMARY:Sunday School All-Ages
DESCRIPTION:
URL:https://mtgileadbc.org/event/sunday-school-all-ages/2030-02-03/
LOCATION:Mt Gilead Baptist Church\, 5751 Highway 104 N\, Cedar Grove\, TN\, 38321\, United States
CATEGORIES:Adult Ministry,All are Welcome,Kids Ministry,Women Ministry
END:VEVENT
BEGIN:VEVENT
DTSTART;TZID=America/Chicago:20300203T110000
DTEND;TZID=America/Chicago:20300203T120000
DTSTAMP:20260421T135919
CREATED:20260201T142652Z
LAST-MODIFIED:20260201T142753Z
UID:10002317-1896346800-1896350400@mtgileadbc.org
SUMMARY:Sunday Morning Service
DESCRIPTION:
URL:https://mtgileadbc.org/event/sunday-morning-service-2/2030-02-03/
CATEGORIES:Adult Ministry,All are Welcome,Kids Ministry,Women Ministry
END:VEVENT
BEGIN:VEVENT
DTSTART;TZID=America/Chicago:20300206T190000
DTEND;TZID=America/Chicago:20300206T200000
DTSTAMP:20260421T135919
CREATED:20260104T210101Z
LAST-MODIFIED:20260104T210101Z
UID:10003102-1896634800-1896638400@mtgileadbc.org
SUMMARY:Business Meeting
DESCRIPTION:
URL:https://mtgileadbc.org/event/business-meeting/2030-02-06/
CATEGORIES:Adult Ministry
END:VEVENT
BEGIN:VEVENT
DTSTART;TZID=America/Chicago:20300206T190000
DTEND;TZID=America/Chicago:20300206T200000
DTSTAMP:20260421T135919
CREATED:20260104T210248Z
LAST-MODIFIED:20260104T210248Z
UID:10003363-1896634800-1896638400@mtgileadbc.org
SUMMARY:Bible Study for All Ages
DESCRIPTION:
URL:https://mtgileadbc.org/event/bible-study-for-all-ages/2030-02-06/
CATEGORIES:Adult Ministry,All are Welcome,Kids Ministry,Women Ministry
END:VEVENT
BEGIN:VEVENT
DTSTART;TZID=America/Chicago:20300210T100000
DTEND;TZID=America/Chicago:20300210T110000
DTSTAMP:20260421T135919
CREATED:20260104T205141Z
LAST-MODIFIED:20260104T205141Z
UID:10002579-1896948000-1896951600@mtgileadbc.org
SUMMARY:Sunday School All-Ages
DESCRIPTION:
URL:https://mtgileadbc.org/event/sunday-school-all-ages/2030-02-10/
LOCATION:Mt Gilead Baptist Church\, 5751 Highway 104 N\, Cedar Grove\, TN\, 38321\, United States
CATEGORIES:Adult Ministry,All are Welcome,Kids Ministry,Women Ministry
END:VEVENT
BEGIN:VEVENT
DTSTART;TZID=America/Chicago:20300210T110000
DTEND;TZID=America/Chicago:20300210T120000
DTSTAMP:20260421T135919
CREATED:20260201T142652Z
LAST-MODIFIED:20260201T142753Z
UID:10002318-1896951600-1896955200@mtgileadbc.org
SUMMARY:Sunday Morning Service
DESCRIPTION:
URL:https://mtgileadbc.org/event/sunday-morning-service-2/2030-02-10/
CATEGORIES:Adult Ministry,All are Welcome,Kids Ministry,Women Ministry
END:VEVENT
BEGIN:VEVENT
DTSTART;TZID=America/Chicago:20300213T190000
DTEND;TZID=America/Chicago:20300213T200000
DTSTAMP:20260421T135919
CREATED:20260104T210101Z
LAST-MODIFIED:20260104T210101Z
UID:10003103-1897239600-1897243200@mtgileadbc.org
SUMMARY:Business Meeting
DESCRIPTION:
URL:https://mtgileadbc.org/event/business-meeting/2030-02-13/
CATEGORIES:Adult Ministry
END:VEVENT
BEGIN:VEVENT
DTSTART;TZID=America/Chicago:20300213T190000
DTEND;TZID=America/Chicago:20300213T200000
DTSTAMP:20260421T135919
CREATED:20260104T210248Z
LAST-MODIFIED:20260104T210248Z
UID:10003364-1897239600-1897243200@mtgileadbc.org
SUMMARY:Bible Study for All Ages
DESCRIPTION:
URL:https://mtgileadbc.org/event/bible-study-for-all-ages/2030-02-13/
CATEGORIES:Adult Ministry,All are Welcome,Kids Ministry,Women Ministry
END:VEVENT
BEGIN:VEVENT
DTSTART;TZID=America/Chicago:20300217T100000
DTEND;TZID=America/Chicago:20300217T110000
DTSTAMP:20260421T135919
CREATED:20260104T205141Z
LAST-MODIFIED:20260104T205141Z
UID:10002580-1897552800-1897556400@mtgileadbc.org
SUMMARY:Sunday School All-Ages
DESCRIPTION:
URL:https://mtgileadbc.org/event/sunday-school-all-ages/2030-02-17/
LOCATION:Mt Gilead Baptist Church\, 5751 Highway 104 N\, Cedar Grove\, TN\, 38321\, United States
CATEGORIES:Adult Ministry,All are Welcome,Kids Ministry,Women Ministry
END:VEVENT
BEGIN:VEVENT
DTSTART;TZID=America/Chicago:20300217T110000
DTEND;TZID=America/Chicago:20300217T120000
DTSTAMP:20260421T135919
CREATED:20260201T142652Z
LAST-MODIFIED:20260201T142753Z
UID:10002319-1897556400-1897560000@mtgileadbc.org
SUMMARY:Sunday Morning Service
DESCRIPTION:
URL:https://mtgileadbc.org/event/sunday-morning-service-2/2030-02-17/
CATEGORIES:Adult Ministry,All are Welcome,Kids Ministry,Women Ministry
END:VEVENT
BEGIN:VEVENT
DTSTART;TZID=America/Chicago:20300220T190000
DTEND;TZID=America/Chicago:20300220T200000
DTSTAMP:20260421T135919
CREATED:20260104T210101Z
LAST-MODIFIED:20260104T210101Z
UID:10003104-1897844400-1897848000@mtgileadbc.org
SUMMARY:Business Meeting
DESCRIPTION:
URL:https://mtgileadbc.org/event/business-meeting/2030-02-20/
CATEGORIES:Adult Ministry
END:VEVENT
BEGIN:VEVENT
DTSTART;TZID=America/Chicago:20300220T190000
DTEND;TZID=America/Chicago:20300220T200000
DTSTAMP:20260421T135919
CREATED:20260104T210248Z
LAST-MODIFIED:20260104T210248Z
UID:10003365-1897844400-1897848000@mtgileadbc.org
SUMMARY:Bible Study for All Ages
DESCRIPTION:
URL:https://mtgileadbc.org/event/bible-study-for-all-ages/2030-02-20/
CATEGORIES:Adult Ministry,All are Welcome,Kids Ministry,Women Ministry
END:VEVENT
BEGIN:VEVENT
DTSTART;TZID=America/Chicago:20300224T100000
DTEND;TZID=America/Chicago:20300224T110000
DTSTAMP:20260421T135919
CREATED:20260104T205141Z
LAST-MODIFIED:20260104T205141Z
UID:10002581-1898157600-1898161200@mtgileadbc.org
SUMMARY:Sunday School All-Ages
DESCRIPTION:
URL:https://mtgileadbc.org/event/sunday-school-all-ages/2030-02-24/
LOCATION:Mt Gilead Baptist Church\, 5751 Highway 104 N\, Cedar Grove\, TN\, 38321\, United States
CATEGORIES:Adult Ministry,All are Welcome,Kids Ministry,Women Ministry
END:VEVENT
BEGIN:VEVENT
DTSTART;TZID=America/Chicago:20300224T110000
DTEND;TZID=America/Chicago:20300224T120000
DTSTAMP:20260421T135919
CREATED:20260201T142652Z
LAST-MODIFIED:20260201T142753Z
UID:10002320-1898161200-1898164800@mtgileadbc.org
SUMMARY:Sunday Morning Service
DESCRIPTION:
URL:https://mtgileadbc.org/event/sunday-morning-service-2/2030-02-24/
CATEGORIES:Adult Ministry,All are Welcome,Kids Ministry,Women Ministry
END:VEVENT
BEGIN:VEVENT
DTSTART;TZID=America/Chicago:20300227T190000
DTEND;TZID=America/Chicago:20300227T200000
DTSTAMP:20260421T135919
CREATED:20260104T210101Z
LAST-MODIFIED:20260104T210101Z
UID:10003105-1898449200-1898452800@mtgileadbc.org
SUMMARY:Business Meeting
DESCRIPTION:
URL:https://mtgileadbc.org/event/business-meeting/2030-02-27/
CATEGORIES:Adult Ministry
END:VEVENT
BEGIN:VEVENT
DTSTART;TZID=America/Chicago:20300227T190000
DTEND;TZID=America/Chicago:20300227T200000
DTSTAMP:20260421T135919
CREATED:20260104T210248Z
LAST-MODIFIED:20260104T210248Z
UID:10003366-1898449200-1898452800@mtgileadbc.org
SUMMARY:Bible Study for All Ages
DESCRIPTION:
URL:https://mtgileadbc.org/event/bible-study-for-all-ages/2030-02-27/
CATEGORIES:Adult Ministry,All are Welcome,Kids Ministry,Women Ministry
END:VEVENT
BEGIN:VEVENT
DTSTART;TZID=America/Chicago:20300303T100000
DTEND;TZID=America/Chicago:20300303T110000
DTSTAMP:20260421T135919
CREATED:20260104T205141Z
LAST-MODIFIED:20260104T205141Z
UID:10002582-1898762400-1898766000@mtgileadbc.org
SUMMARY:Sunday School All-Ages
DESCRIPTION:
URL:https://mtgileadbc.org/event/sunday-school-all-ages/2030-03-03/
LOCATION:Mt Gilead Baptist Church\, 5751 Highway 104 N\, Cedar Grove\, TN\, 38321\, United States
CATEGORIES:Adult Ministry,All are Welcome,Kids Ministry,Women Ministry
END:VEVENT
BEGIN:VEVENT
DTSTART;TZID=America/Chicago:20300303T110000
DTEND;TZID=America/Chicago:20300303T120000
DTSTAMP:20260421T135919
CREATED:20260201T142652Z
LAST-MODIFIED:20260201T142753Z
UID:10002321-1898766000-1898769600@mtgileadbc.org
SUMMARY:Sunday Morning Service
DESCRIPTION:
URL:https://mtgileadbc.org/event/sunday-morning-service-2/2030-03-03/
CATEGORIES:Adult Ministry,All are Welcome,Kids Ministry,Women Ministry
END:VEVENT
BEGIN:VEVENT
DTSTART;TZID=America/Chicago:20300306T190000
DTEND;TZID=America/Chicago:20300306T200000
DTSTAMP:20260421T135919
CREATED:20260104T210101Z
LAST-MODIFIED:20260104T210101Z
UID:10003106-1899054000-1899057600@mtgileadbc.org
SUMMARY:Business Meeting
DESCRIPTION:
URL:https://mtgileadbc.org/event/business-meeting/2030-03-06/
CATEGORIES:Adult Ministry
END:VEVENT
BEGIN:VEVENT
DTSTART;TZID=America/Chicago:20300306T190000
DTEND;TZID=America/Chicago:20300306T200000
DTSTAMP:20260421T135919
CREATED:20260104T210248Z
LAST-MODIFIED:20260104T210248Z
UID:10003367-1899054000-1899057600@mtgileadbc.org
SUMMARY:Bible Study for All Ages
DESCRIPTION:
URL:https://mtgileadbc.org/event/bible-study-for-all-ages/2030-03-06/
CATEGORIES:Adult Ministry,All are Welcome,Kids Ministry,Women Ministry
END:VEVENT
END:VCALENDAR