BEGIN:VCALENDAR
VERSION:2.0
PRODID:-//Mt Gilead Baptist Church - ECPv6.15.15//NONSGML v1.0//EN
CALSCALE:GREGORIAN
METHOD:PUBLISH
X-ORIGINAL-URL:https://mtgileadbc.org
X-WR-CALDESC:Events for Mt Gilead Baptist Church
REFRESH-INTERVAL;VALUE=DURATION:PT1H
X-Robots-Tag:noindex
X-PUBLISHED-TTL:PT1H
BEGIN:VTIMEZONE
TZID:America/Chicago
BEGIN:DAYLIGHT
TZOFFSETFROM:-0600
TZOFFSETTO:-0500
TZNAME:CDT
DTSTART:20290311T080000
END:DAYLIGHT
BEGIN:STANDARD
TZOFFSETFROM:-0500
TZOFFSETTO:-0600
TZNAME:CST
DTSTART:20291104T070000
END:STANDARD
BEGIN:DAYLIGHT
TZOFFSETFROM:-0600
TZOFFSETTO:-0500
TZNAME:CDT
DTSTART:20300310T080000
END:DAYLIGHT
BEGIN:STANDARD
TZOFFSETFROM:-0500
TZOFFSETTO:-0600
TZNAME:CST
DTSTART:20301103T070000
END:STANDARD
BEGIN:DAYLIGHT
TZOFFSETFROM:-0600
TZOFFSETTO:-0500
TZNAME:CDT
DTSTART:20310309T080000
END:DAYLIGHT
BEGIN:STANDARD
TZOFFSETFROM:-0500
TZOFFSETTO:-0600
TZNAME:CST
DTSTART:20311102T070000
END:STANDARD
END:VTIMEZONE
BEGIN:VEVENT
DTSTART;TZID=America/Chicago:20300724T190000
DTEND;TZID=America/Chicago:20300724T200000
DTSTAMP:20260421T180252
CREATED:20260104T210101Z
LAST-MODIFIED:20260104T210101Z
UID:10003126-1911150000-1911153600@mtgileadbc.org
SUMMARY:Business Meeting
DESCRIPTION:
URL:https://mtgileadbc.org/event/business-meeting/2030-07-24/
CATEGORIES:Adult Ministry
END:VEVENT
BEGIN:VEVENT
DTSTART;TZID=America/Chicago:20300724T190000
DTEND;TZID=America/Chicago:20300724T200000
DTSTAMP:20260421T180252
CREATED:20260104T210248Z
LAST-MODIFIED:20260104T210248Z
UID:10003387-1911150000-1911153600@mtgileadbc.org
SUMMARY:Bible Study for All Ages
DESCRIPTION:
URL:https://mtgileadbc.org/event/bible-study-for-all-ages/2030-07-24/
CATEGORIES:Adult Ministry,All are Welcome,Kids Ministry,Women Ministry
END:VEVENT
BEGIN:VEVENT
DTSTART;TZID=America/Chicago:20300728T100000
DTEND;TZID=America/Chicago:20300728T110000
DTSTAMP:20260421T180252
CREATED:20260104T205141Z
LAST-MODIFIED:20260104T205141Z
UID:10002603-1911463200-1911466800@mtgileadbc.org
SUMMARY:Sunday School All-Ages
DESCRIPTION:
URL:https://mtgileadbc.org/event/sunday-school-all-ages/2030-07-28/
LOCATION:Mt Gilead Baptist Church\, 5751 Highway 104 N\, Cedar Grove\, TN\, 38321\, United States
CATEGORIES:Adult Ministry,All are Welcome,Kids Ministry,Women Ministry
END:VEVENT
BEGIN:VEVENT
DTSTART;TZID=America/Chicago:20300728T110000
DTEND;TZID=America/Chicago:20300728T120000
DTSTAMP:20260421T180252
CREATED:20260201T142652Z
LAST-MODIFIED:20260201T142753Z
UID:10002342-1911466800-1911470400@mtgileadbc.org
SUMMARY:Sunday Morning Service
DESCRIPTION:
URL:https://mtgileadbc.org/event/sunday-morning-service-2/2030-07-28/
CATEGORIES:Adult Ministry,All are Welcome,Kids Ministry,Women Ministry
END:VEVENT
BEGIN:VEVENT
DTSTART;TZID=America/Chicago:20300731T190000
DTEND;TZID=America/Chicago:20300731T200000
DTSTAMP:20260421T180252
CREATED:20260104T210101Z
LAST-MODIFIED:20260104T210101Z
UID:10003127-1911754800-1911758400@mtgileadbc.org
SUMMARY:Business Meeting
DESCRIPTION:
URL:https://mtgileadbc.org/event/business-meeting/2030-07-31/
CATEGORIES:Adult Ministry
END:VEVENT
BEGIN:VEVENT
DTSTART;TZID=America/Chicago:20300731T190000
DTEND;TZID=America/Chicago:20300731T200000
DTSTAMP:20260421T180252
CREATED:20260104T210248Z
LAST-MODIFIED:20260104T210248Z
UID:10003388-1911754800-1911758400@mtgileadbc.org
SUMMARY:Bible Study for All Ages
DESCRIPTION:
URL:https://mtgileadbc.org/event/bible-study-for-all-ages/2030-07-31/
CATEGORIES:Adult Ministry,All are Welcome,Kids Ministry,Women Ministry
END:VEVENT
BEGIN:VEVENT
DTSTART;TZID=America/Chicago:20300804T100000
DTEND;TZID=America/Chicago:20300804T110000
DTSTAMP:20260421T180252
CREATED:20260104T205141Z
LAST-MODIFIED:20260104T205141Z
UID:10002604-1912068000-1912071600@mtgileadbc.org
SUMMARY:Sunday School All-Ages
DESCRIPTION:
URL:https://mtgileadbc.org/event/sunday-school-all-ages/2030-08-04/
LOCATION:Mt Gilead Baptist Church\, 5751 Highway 104 N\, Cedar Grove\, TN\, 38321\, United States
CATEGORIES:Adult Ministry,All are Welcome,Kids Ministry,Women Ministry
END:VEVENT
BEGIN:VEVENT
DTSTART;TZID=America/Chicago:20300804T110000
DTEND;TZID=America/Chicago:20300804T120000
DTSTAMP:20260421T180252
CREATED:20260201T142652Z
LAST-MODIFIED:20260201T142753Z
UID:10002343-1912071600-1912075200@mtgileadbc.org
SUMMARY:Sunday Morning Service
DESCRIPTION:
URL:https://mtgileadbc.org/event/sunday-morning-service-2/2030-08-04/
CATEGORIES:Adult Ministry,All are Welcome,Kids Ministry,Women Ministry
END:VEVENT
BEGIN:VEVENT
DTSTART;TZID=America/Chicago:20300807T190000
DTEND;TZID=America/Chicago:20300807T200000
DTSTAMP:20260421T180252
CREATED:20260104T210101Z
LAST-MODIFIED:20260104T210101Z
UID:10003128-1912359600-1912363200@mtgileadbc.org
SUMMARY:Business Meeting
DESCRIPTION:
URL:https://mtgileadbc.org/event/business-meeting/2030-08-07/
CATEGORIES:Adult Ministry
END:VEVENT
BEGIN:VEVENT
DTSTART;TZID=America/Chicago:20300807T190000
DTEND;TZID=America/Chicago:20300807T200000
DTSTAMP:20260421T180252
CREATED:20260104T210248Z
LAST-MODIFIED:20260104T210248Z
UID:10003389-1912359600-1912363200@mtgileadbc.org
SUMMARY:Bible Study for All Ages
DESCRIPTION:
URL:https://mtgileadbc.org/event/bible-study-for-all-ages/2030-08-07/
CATEGORIES:Adult Ministry,All are Welcome,Kids Ministry,Women Ministry
END:VEVENT
BEGIN:VEVENT
DTSTART;TZID=America/Chicago:20300811T100000
DTEND;TZID=America/Chicago:20300811T110000
DTSTAMP:20260421T180252
CREATED:20260104T205141Z
LAST-MODIFIED:20260104T205141Z
UID:10002605-1912672800-1912676400@mtgileadbc.org
SUMMARY:Sunday School All-Ages
DESCRIPTION:
URL:https://mtgileadbc.org/event/sunday-school-all-ages/2030-08-11/
LOCATION:Mt Gilead Baptist Church\, 5751 Highway 104 N\, Cedar Grove\, TN\, 38321\, United States
CATEGORIES:Adult Ministry,All are Welcome,Kids Ministry,Women Ministry
END:VEVENT
BEGIN:VEVENT
DTSTART;TZID=America/Chicago:20300811T110000
DTEND;TZID=America/Chicago:20300811T120000
DTSTAMP:20260421T180252
CREATED:20260201T142652Z
LAST-MODIFIED:20260201T142753Z
UID:10002344-1912676400-1912680000@mtgileadbc.org
SUMMARY:Sunday Morning Service
DESCRIPTION:
URL:https://mtgileadbc.org/event/sunday-morning-service-2/2030-08-11/
CATEGORIES:Adult Ministry,All are Welcome,Kids Ministry,Women Ministry
END:VEVENT
BEGIN:VEVENT
DTSTART;TZID=America/Chicago:20300814T190000
DTEND;TZID=America/Chicago:20300814T200000
DTSTAMP:20260421T180252
CREATED:20260104T210101Z
LAST-MODIFIED:20260104T210101Z
UID:10003129-1912964400-1912968000@mtgileadbc.org
SUMMARY:Business Meeting
DESCRIPTION:
URL:https://mtgileadbc.org/event/business-meeting/2030-08-14/
CATEGORIES:Adult Ministry
END:VEVENT
BEGIN:VEVENT
DTSTART;TZID=America/Chicago:20300814T190000
DTEND;TZID=America/Chicago:20300814T200000
DTSTAMP:20260421T180252
CREATED:20260104T210248Z
LAST-MODIFIED:20260104T210248Z
UID:10003390-1912964400-1912968000@mtgileadbc.org
SUMMARY:Bible Study for All Ages
DESCRIPTION:
URL:https://mtgileadbc.org/event/bible-study-for-all-ages/2030-08-14/
CATEGORIES:Adult Ministry,All are Welcome,Kids Ministry,Women Ministry
END:VEVENT
BEGIN:VEVENT
DTSTART;TZID=America/Chicago:20300818T100000
DTEND;TZID=America/Chicago:20300818T110000
DTSTAMP:20260421T180252
CREATED:20260104T205141Z
LAST-MODIFIED:20260104T205141Z
UID:10002606-1913277600-1913281200@mtgileadbc.org
SUMMARY:Sunday School All-Ages
DESCRIPTION:
URL:https://mtgileadbc.org/event/sunday-school-all-ages/2030-08-18/
LOCATION:Mt Gilead Baptist Church\, 5751 Highway 104 N\, Cedar Grove\, TN\, 38321\, United States
CATEGORIES:Adult Ministry,All are Welcome,Kids Ministry,Women Ministry
END:VEVENT
BEGIN:VEVENT
DTSTART;TZID=America/Chicago:20300818T110000
DTEND;TZID=America/Chicago:20300818T120000
DTSTAMP:20260421T180252
CREATED:20260201T142652Z
LAST-MODIFIED:20260201T142753Z
UID:10002345-1913281200-1913284800@mtgileadbc.org
SUMMARY:Sunday Morning Service
DESCRIPTION:
URL:https://mtgileadbc.org/event/sunday-morning-service-2/2030-08-18/
CATEGORIES:Adult Ministry,All are Welcome,Kids Ministry,Women Ministry
END:VEVENT
BEGIN:VEVENT
DTSTART;TZID=America/Chicago:20300821T190000
DTEND;TZID=America/Chicago:20300821T200000
DTSTAMP:20260421T180252
CREATED:20260104T210101Z
LAST-MODIFIED:20260104T210101Z
UID:10003130-1913569200-1913572800@mtgileadbc.org
SUMMARY:Business Meeting
DESCRIPTION:
URL:https://mtgileadbc.org/event/business-meeting/2030-08-21/
CATEGORIES:Adult Ministry
END:VEVENT
BEGIN:VEVENT
DTSTART;TZID=America/Chicago:20300821T190000
DTEND;TZID=America/Chicago:20300821T200000
DTSTAMP:20260421T180252
CREATED:20260104T210248Z
LAST-MODIFIED:20260104T210248Z
UID:10003391-1913569200-1913572800@mtgileadbc.org
SUMMARY:Bible Study for All Ages
DESCRIPTION:
URL:https://mtgileadbc.org/event/bible-study-for-all-ages/2030-08-21/
CATEGORIES:Adult Ministry,All are Welcome,Kids Ministry,Women Ministry
END:VEVENT
BEGIN:VEVENT
DTSTART;TZID=America/Chicago:20300825T100000
DTEND;TZID=America/Chicago:20300825T110000
DTSTAMP:20260421T180252
CREATED:20260104T205141Z
LAST-MODIFIED:20260104T205141Z
UID:10002607-1913882400-1913886000@mtgileadbc.org
SUMMARY:Sunday School All-Ages
DESCRIPTION:
URL:https://mtgileadbc.org/event/sunday-school-all-ages/2030-08-25/
LOCATION:Mt Gilead Baptist Church\, 5751 Highway 104 N\, Cedar Grove\, TN\, 38321\, United States
CATEGORIES:Adult Ministry,All are Welcome,Kids Ministry,Women Ministry
END:VEVENT
BEGIN:VEVENT
DTSTART;TZID=America/Chicago:20300825T110000
DTEND;TZID=America/Chicago:20300825T120000
DTSTAMP:20260421T180252
CREATED:20260201T142652Z
LAST-MODIFIED:20260201T142753Z
UID:10002346-1913886000-1913889600@mtgileadbc.org
SUMMARY:Sunday Morning Service
DESCRIPTION:
URL:https://mtgileadbc.org/event/sunday-morning-service-2/2030-08-25/
CATEGORIES:Adult Ministry,All are Welcome,Kids Ministry,Women Ministry
END:VEVENT
BEGIN:VEVENT
DTSTART;TZID=America/Chicago:20300828T190000
DTEND;TZID=America/Chicago:20300828T200000
DTSTAMP:20260421T180252
CREATED:20260104T210101Z
LAST-MODIFIED:20260104T210101Z
UID:10003131-1914174000-1914177600@mtgileadbc.org
SUMMARY:Business Meeting
DESCRIPTION:
URL:https://mtgileadbc.org/event/business-meeting/2030-08-28/
CATEGORIES:Adult Ministry
END:VEVENT
BEGIN:VEVENT
DTSTART;TZID=America/Chicago:20300828T190000
DTEND;TZID=America/Chicago:20300828T200000
DTSTAMP:20260421T180252
CREATED:20260104T210248Z
LAST-MODIFIED:20260104T210248Z
UID:10003392-1914174000-1914177600@mtgileadbc.org
SUMMARY:Bible Study for All Ages
DESCRIPTION:
URL:https://mtgileadbc.org/event/bible-study-for-all-ages/2030-08-28/
CATEGORIES:Adult Ministry,All are Welcome,Kids Ministry,Women Ministry
END:VEVENT
BEGIN:VEVENT
DTSTART;TZID=America/Chicago:20300901T100000
DTEND;TZID=America/Chicago:20300901T110000
DTSTAMP:20260421T180252
CREATED:20260104T205141Z
LAST-MODIFIED:20260104T205141Z
UID:10002608-1914487200-1914490800@mtgileadbc.org
SUMMARY:Sunday School All-Ages
DESCRIPTION:
URL:https://mtgileadbc.org/event/sunday-school-all-ages/2030-09-01/
LOCATION:Mt Gilead Baptist Church\, 5751 Highway 104 N\, Cedar Grove\, TN\, 38321\, United States
CATEGORIES:Adult Ministry,All are Welcome,Kids Ministry,Women Ministry
END:VEVENT
BEGIN:VEVENT
DTSTART;TZID=America/Chicago:20300901T110000
DTEND;TZID=America/Chicago:20300901T120000
DTSTAMP:20260421T180252
CREATED:20260201T142652Z
LAST-MODIFIED:20260201T142753Z
UID:10002347-1914490800-1914494400@mtgileadbc.org
SUMMARY:Sunday Morning Service
DESCRIPTION:
URL:https://mtgileadbc.org/event/sunday-morning-service-2/2030-09-01/
CATEGORIES:Adult Ministry,All are Welcome,Kids Ministry,Women Ministry
END:VEVENT
BEGIN:VEVENT
DTSTART;TZID=America/Chicago:20300904T190000
DTEND;TZID=America/Chicago:20300904T200000
DTSTAMP:20260421T180252
CREATED:20260104T210101Z
LAST-MODIFIED:20260104T210101Z
UID:10003132-1914778800-1914782400@mtgileadbc.org
SUMMARY:Business Meeting
DESCRIPTION:
URL:https://mtgileadbc.org/event/business-meeting/2030-09-04/
CATEGORIES:Adult Ministry
END:VEVENT
BEGIN:VEVENT
DTSTART;TZID=America/Chicago:20300904T190000
DTEND;TZID=America/Chicago:20300904T200000
DTSTAMP:20260421T180252
CREATED:20260104T210248Z
LAST-MODIFIED:20260104T210248Z
UID:10003393-1914778800-1914782400@mtgileadbc.org
SUMMARY:Bible Study for All Ages
DESCRIPTION:
URL:https://mtgileadbc.org/event/bible-study-for-all-ages/2030-09-04/
CATEGORIES:Adult Ministry,All are Welcome,Kids Ministry,Women Ministry
END:VEVENT
BEGIN:VEVENT
DTSTART;TZID=America/Chicago:20300908T100000
DTEND;TZID=America/Chicago:20300908T110000
DTSTAMP:20260421T180252
CREATED:20260104T205141Z
LAST-MODIFIED:20260104T205141Z
UID:10002609-1915092000-1915095600@mtgileadbc.org
SUMMARY:Sunday School All-Ages
DESCRIPTION:
URL:https://mtgileadbc.org/event/sunday-school-all-ages/2030-09-08/
LOCATION:Mt Gilead Baptist Church\, 5751 Highway 104 N\, Cedar Grove\, TN\, 38321\, United States
CATEGORIES:Adult Ministry,All are Welcome,Kids Ministry,Women Ministry
END:VEVENT
BEGIN:VEVENT
DTSTART;TZID=America/Chicago:20300908T110000
DTEND;TZID=America/Chicago:20300908T120000
DTSTAMP:20260421T180252
CREATED:20260201T142652Z
LAST-MODIFIED:20260201T142753Z
UID:10002348-1915095600-1915099200@mtgileadbc.org
SUMMARY:Sunday Morning Service
DESCRIPTION:
URL:https://mtgileadbc.org/event/sunday-morning-service-2/2030-09-08/
CATEGORIES:Adult Ministry,All are Welcome,Kids Ministry,Women Ministry
END:VEVENT
BEGIN:VEVENT
DTSTART;TZID=America/Chicago:20300911T190000
DTEND;TZID=America/Chicago:20300911T200000
DTSTAMP:20260421T180252
CREATED:20260104T210101Z
LAST-MODIFIED:20260104T210101Z
UID:10003133-1915383600-1915387200@mtgileadbc.org
SUMMARY:Business Meeting
DESCRIPTION:
URL:https://mtgileadbc.org/event/business-meeting/2030-09-11/
CATEGORIES:Adult Ministry
END:VEVENT
BEGIN:VEVENT
DTSTART;TZID=America/Chicago:20300911T190000
DTEND;TZID=America/Chicago:20300911T200000
DTSTAMP:20260421T180252
CREATED:20260104T210248Z
LAST-MODIFIED:20260104T210248Z
UID:10003394-1915383600-1915387200@mtgileadbc.org
SUMMARY:Bible Study for All Ages
DESCRIPTION:
URL:https://mtgileadbc.org/event/bible-study-for-all-ages/2030-09-11/
CATEGORIES:Adult Ministry,All are Welcome,Kids Ministry,Women Ministry
END:VEVENT
END:VCALENDAR