BEGIN:VCALENDAR
VERSION:2.0
PRODID:-//Mt Gilead Baptist Church - ECPv6.15.15//NONSGML v1.0//EN
CALSCALE:GREGORIAN
METHOD:PUBLISH
X-ORIGINAL-URL:https://mtgileadbc.org
X-WR-CALDESC:Events for Mt Gilead Baptist Church
REFRESH-INTERVAL;VALUE=DURATION:PT1H
X-Robots-Tag:noindex
X-PUBLISHED-TTL:PT1H
BEGIN:VTIMEZONE
TZID:America/Chicago
BEGIN:DAYLIGHT
TZOFFSETFROM:-0600
TZOFFSETTO:-0500
TZNAME:CDT
DTSTART:20290311T080000
END:DAYLIGHT
BEGIN:STANDARD
TZOFFSETFROM:-0500
TZOFFSETTO:-0600
TZNAME:CST
DTSTART:20291104T070000
END:STANDARD
BEGIN:DAYLIGHT
TZOFFSETFROM:-0600
TZOFFSETTO:-0500
TZNAME:CDT
DTSTART:20300310T080000
END:DAYLIGHT
BEGIN:STANDARD
TZOFFSETFROM:-0500
TZOFFSETTO:-0600
TZNAME:CST
DTSTART:20301103T070000
END:STANDARD
BEGIN:DAYLIGHT
TZOFFSETFROM:-0600
TZOFFSETTO:-0500
TZNAME:CDT
DTSTART:20310309T080000
END:DAYLIGHT
BEGIN:STANDARD
TZOFFSETFROM:-0500
TZOFFSETTO:-0600
TZNAME:CST
DTSTART:20311102T070000
END:STANDARD
END:VTIMEZONE
BEGIN:VEVENT
DTSTART;TZID=America/Chicago:20300609T100000
DTEND;TZID=America/Chicago:20300609T110000
DTSTAMP:20260421T212835
CREATED:20260104T205141Z
LAST-MODIFIED:20260104T205141Z
UID:10002596-1907229600-1907233200@mtgileadbc.org
SUMMARY:Sunday School All-Ages
DESCRIPTION:
URL:https://mtgileadbc.org/event/sunday-school-all-ages/2030-06-09/
LOCATION:Mt Gilead Baptist Church\, 5751 Highway 104 N\, Cedar Grove\, TN\, 38321\, United States
CATEGORIES:Adult Ministry,All are Welcome,Kids Ministry,Women Ministry
END:VEVENT
BEGIN:VEVENT
DTSTART;TZID=America/Chicago:20300609T110000
DTEND;TZID=America/Chicago:20300609T120000
DTSTAMP:20260421T212835
CREATED:20260201T142652Z
LAST-MODIFIED:20260201T142753Z
UID:10002335-1907233200-1907236800@mtgileadbc.org
SUMMARY:Sunday Morning Service
DESCRIPTION:
URL:https://mtgileadbc.org/event/sunday-morning-service-2/2030-06-09/
CATEGORIES:Adult Ministry,All are Welcome,Kids Ministry,Women Ministry
END:VEVENT
BEGIN:VEVENT
DTSTART;TZID=America/Chicago:20300612T190000
DTEND;TZID=America/Chicago:20300612T200000
DTSTAMP:20260421T212835
CREATED:20260104T210101Z
LAST-MODIFIED:20260104T210101Z
UID:10003120-1907521200-1907524800@mtgileadbc.org
SUMMARY:Business Meeting
DESCRIPTION:
URL:https://mtgileadbc.org/event/business-meeting/2030-06-12/
CATEGORIES:Adult Ministry
END:VEVENT
BEGIN:VEVENT
DTSTART;TZID=America/Chicago:20300612T190000
DTEND;TZID=America/Chicago:20300612T200000
DTSTAMP:20260421T212835
CREATED:20260104T210248Z
LAST-MODIFIED:20260104T210248Z
UID:10003381-1907521200-1907524800@mtgileadbc.org
SUMMARY:Bible Study for All Ages
DESCRIPTION:
URL:https://mtgileadbc.org/event/bible-study-for-all-ages/2030-06-12/
CATEGORIES:Adult Ministry,All are Welcome,Kids Ministry,Women Ministry
END:VEVENT
BEGIN:VEVENT
DTSTART;TZID=America/Chicago:20300616T100000
DTEND;TZID=America/Chicago:20300616T110000
DTSTAMP:20260421T212835
CREATED:20260104T205141Z
LAST-MODIFIED:20260104T205141Z
UID:10002597-1907834400-1907838000@mtgileadbc.org
SUMMARY:Sunday School All-Ages
DESCRIPTION:
URL:https://mtgileadbc.org/event/sunday-school-all-ages/2030-06-16/
LOCATION:Mt Gilead Baptist Church\, 5751 Highway 104 N\, Cedar Grove\, TN\, 38321\, United States
CATEGORIES:Adult Ministry,All are Welcome,Kids Ministry,Women Ministry
END:VEVENT
BEGIN:VEVENT
DTSTART;TZID=America/Chicago:20300616T110000
DTEND;TZID=America/Chicago:20300616T120000
DTSTAMP:20260421T212835
CREATED:20260201T142652Z
LAST-MODIFIED:20260201T142753Z
UID:10002336-1907838000-1907841600@mtgileadbc.org
SUMMARY:Sunday Morning Service
DESCRIPTION:
URL:https://mtgileadbc.org/event/sunday-morning-service-2/2030-06-16/
CATEGORIES:Adult Ministry,All are Welcome,Kids Ministry,Women Ministry
END:VEVENT
BEGIN:VEVENT
DTSTART;TZID=America/Chicago:20300619T190000
DTEND;TZID=America/Chicago:20300619T200000
DTSTAMP:20260421T212835
CREATED:20260104T210101Z
LAST-MODIFIED:20260104T210101Z
UID:10003121-1908126000-1908129600@mtgileadbc.org
SUMMARY:Business Meeting
DESCRIPTION:
URL:https://mtgileadbc.org/event/business-meeting/2030-06-19/
CATEGORIES:Adult Ministry
END:VEVENT
BEGIN:VEVENT
DTSTART;TZID=America/Chicago:20300619T190000
DTEND;TZID=America/Chicago:20300619T200000
DTSTAMP:20260421T212835
CREATED:20260104T210248Z
LAST-MODIFIED:20260104T210248Z
UID:10003382-1908126000-1908129600@mtgileadbc.org
SUMMARY:Bible Study for All Ages
DESCRIPTION:
URL:https://mtgileadbc.org/event/bible-study-for-all-ages/2030-06-19/
CATEGORIES:Adult Ministry,All are Welcome,Kids Ministry,Women Ministry
END:VEVENT
BEGIN:VEVENT
DTSTART;TZID=America/Chicago:20300623T100000
DTEND;TZID=America/Chicago:20300623T110000
DTSTAMP:20260421T212835
CREATED:20260104T205141Z
LAST-MODIFIED:20260104T205141Z
UID:10002598-1908439200-1908442800@mtgileadbc.org
SUMMARY:Sunday School All-Ages
DESCRIPTION:
URL:https://mtgileadbc.org/event/sunday-school-all-ages/2030-06-23/
LOCATION:Mt Gilead Baptist Church\, 5751 Highway 104 N\, Cedar Grove\, TN\, 38321\, United States
CATEGORIES:Adult Ministry,All are Welcome,Kids Ministry,Women Ministry
END:VEVENT
BEGIN:VEVENT
DTSTART;TZID=America/Chicago:20300623T110000
DTEND;TZID=America/Chicago:20300623T120000
DTSTAMP:20260421T212835
CREATED:20260201T142652Z
LAST-MODIFIED:20260201T142753Z
UID:10002337-1908442800-1908446400@mtgileadbc.org
SUMMARY:Sunday Morning Service
DESCRIPTION:
URL:https://mtgileadbc.org/event/sunday-morning-service-2/2030-06-23/
CATEGORIES:Adult Ministry,All are Welcome,Kids Ministry,Women Ministry
END:VEVENT
BEGIN:VEVENT
DTSTART;TZID=America/Chicago:20300626T190000
DTEND;TZID=America/Chicago:20300626T200000
DTSTAMP:20260421T212835
CREATED:20260104T210101Z
LAST-MODIFIED:20260104T210101Z
UID:10003122-1908730800-1908734400@mtgileadbc.org
SUMMARY:Business Meeting
DESCRIPTION:
URL:https://mtgileadbc.org/event/business-meeting/2030-06-26/
CATEGORIES:Adult Ministry
END:VEVENT
BEGIN:VEVENT
DTSTART;TZID=America/Chicago:20300626T190000
DTEND;TZID=America/Chicago:20300626T200000
DTSTAMP:20260421T212835
CREATED:20260104T210248Z
LAST-MODIFIED:20260104T210248Z
UID:10003383-1908730800-1908734400@mtgileadbc.org
SUMMARY:Bible Study for All Ages
DESCRIPTION:
URL:https://mtgileadbc.org/event/bible-study-for-all-ages/2030-06-26/
CATEGORIES:Adult Ministry,All are Welcome,Kids Ministry,Women Ministry
END:VEVENT
BEGIN:VEVENT
DTSTART;TZID=America/Chicago:20300630T100000
DTEND;TZID=America/Chicago:20300630T110000
DTSTAMP:20260421T212835
CREATED:20260104T205141Z
LAST-MODIFIED:20260104T205141Z
UID:10002599-1909044000-1909047600@mtgileadbc.org
SUMMARY:Sunday School All-Ages
DESCRIPTION:
URL:https://mtgileadbc.org/event/sunday-school-all-ages/2030-06-30/
LOCATION:Mt Gilead Baptist Church\, 5751 Highway 104 N\, Cedar Grove\, TN\, 38321\, United States
CATEGORIES:Adult Ministry,All are Welcome,Kids Ministry,Women Ministry
END:VEVENT
BEGIN:VEVENT
DTSTART;TZID=America/Chicago:20300630T110000
DTEND;TZID=America/Chicago:20300630T120000
DTSTAMP:20260421T212835
CREATED:20260201T142652Z
LAST-MODIFIED:20260201T142753Z
UID:10002338-1909047600-1909051200@mtgileadbc.org
SUMMARY:Sunday Morning Service
DESCRIPTION:
URL:https://mtgileadbc.org/event/sunday-morning-service-2/2030-06-30/
CATEGORIES:Adult Ministry,All are Welcome,Kids Ministry,Women Ministry
END:VEVENT
BEGIN:VEVENT
DTSTART;TZID=America/Chicago:20300703T190000
DTEND;TZID=America/Chicago:20300703T200000
DTSTAMP:20260421T212835
CREATED:20260104T210101Z
LAST-MODIFIED:20260104T210101Z
UID:10003123-1909335600-1909339200@mtgileadbc.org
SUMMARY:Business Meeting
DESCRIPTION:
URL:https://mtgileadbc.org/event/business-meeting/2030-07-03/
CATEGORIES:Adult Ministry
END:VEVENT
BEGIN:VEVENT
DTSTART;TZID=America/Chicago:20300703T190000
DTEND;TZID=America/Chicago:20300703T200000
DTSTAMP:20260421T212836
CREATED:20260104T210248Z
LAST-MODIFIED:20260104T210248Z
UID:10003384-1909335600-1909339200@mtgileadbc.org
SUMMARY:Bible Study for All Ages
DESCRIPTION:
URL:https://mtgileadbc.org/event/bible-study-for-all-ages/2030-07-03/
CATEGORIES:Adult Ministry,All are Welcome,Kids Ministry,Women Ministry
END:VEVENT
BEGIN:VEVENT
DTSTART;TZID=America/Chicago:20300707T100000
DTEND;TZID=America/Chicago:20300707T110000
DTSTAMP:20260421T212836
CREATED:20260104T205141Z
LAST-MODIFIED:20260104T205141Z
UID:10002600-1909648800-1909652400@mtgileadbc.org
SUMMARY:Sunday School All-Ages
DESCRIPTION:
URL:https://mtgileadbc.org/event/sunday-school-all-ages/2030-07-07/
LOCATION:Mt Gilead Baptist Church\, 5751 Highway 104 N\, Cedar Grove\, TN\, 38321\, United States
CATEGORIES:Adult Ministry,All are Welcome,Kids Ministry,Women Ministry
END:VEVENT
BEGIN:VEVENT
DTSTART;TZID=America/Chicago:20300707T110000
DTEND;TZID=America/Chicago:20300707T120000
DTSTAMP:20260421T212836
CREATED:20260201T142652Z
LAST-MODIFIED:20260201T142753Z
UID:10002339-1909652400-1909656000@mtgileadbc.org
SUMMARY:Sunday Morning Service
DESCRIPTION:
URL:https://mtgileadbc.org/event/sunday-morning-service-2/2030-07-07/
CATEGORIES:Adult Ministry,All are Welcome,Kids Ministry,Women Ministry
END:VEVENT
BEGIN:VEVENT
DTSTART;TZID=America/Chicago:20300710T190000
DTEND;TZID=America/Chicago:20300710T200000
DTSTAMP:20260421T212836
CREATED:20260104T210101Z
LAST-MODIFIED:20260104T210101Z
UID:10003124-1909940400-1909944000@mtgileadbc.org
SUMMARY:Business Meeting
DESCRIPTION:
URL:https://mtgileadbc.org/event/business-meeting/2030-07-10/
CATEGORIES:Adult Ministry
END:VEVENT
BEGIN:VEVENT
DTSTART;TZID=America/Chicago:20300710T190000
DTEND;TZID=America/Chicago:20300710T200000
DTSTAMP:20260421T212836
CREATED:20260104T210248Z
LAST-MODIFIED:20260104T210248Z
UID:10003385-1909940400-1909944000@mtgileadbc.org
SUMMARY:Bible Study for All Ages
DESCRIPTION:
URL:https://mtgileadbc.org/event/bible-study-for-all-ages/2030-07-10/
CATEGORIES:Adult Ministry,All are Welcome,Kids Ministry,Women Ministry
END:VEVENT
BEGIN:VEVENT
DTSTART;TZID=America/Chicago:20300714T100000
DTEND;TZID=America/Chicago:20300714T110000
DTSTAMP:20260421T212836
CREATED:20260104T205141Z
LAST-MODIFIED:20260104T205141Z
UID:10002601-1910253600-1910257200@mtgileadbc.org
SUMMARY:Sunday School All-Ages
DESCRIPTION:
URL:https://mtgileadbc.org/event/sunday-school-all-ages/2030-07-14/
LOCATION:Mt Gilead Baptist Church\, 5751 Highway 104 N\, Cedar Grove\, TN\, 38321\, United States
CATEGORIES:Adult Ministry,All are Welcome,Kids Ministry,Women Ministry
END:VEVENT
BEGIN:VEVENT
DTSTART;TZID=America/Chicago:20300714T110000
DTEND;TZID=America/Chicago:20300714T120000
DTSTAMP:20260421T212836
CREATED:20260201T142652Z
LAST-MODIFIED:20260201T142753Z
UID:10002340-1910257200-1910260800@mtgileadbc.org
SUMMARY:Sunday Morning Service
DESCRIPTION:
URL:https://mtgileadbc.org/event/sunday-morning-service-2/2030-07-14/
CATEGORIES:Adult Ministry,All are Welcome,Kids Ministry,Women Ministry
END:VEVENT
BEGIN:VEVENT
DTSTART;TZID=America/Chicago:20300717T190000
DTEND;TZID=America/Chicago:20300717T200000
DTSTAMP:20260421T212836
CREATED:20260104T210101Z
LAST-MODIFIED:20260104T210101Z
UID:10003125-1910545200-1910548800@mtgileadbc.org
SUMMARY:Business Meeting
DESCRIPTION:
URL:https://mtgileadbc.org/event/business-meeting/2030-07-17/
CATEGORIES:Adult Ministry
END:VEVENT
BEGIN:VEVENT
DTSTART;TZID=America/Chicago:20300717T190000
DTEND;TZID=America/Chicago:20300717T200000
DTSTAMP:20260421T212836
CREATED:20260104T210248Z
LAST-MODIFIED:20260104T210248Z
UID:10003386-1910545200-1910548800@mtgileadbc.org
SUMMARY:Bible Study for All Ages
DESCRIPTION:
URL:https://mtgileadbc.org/event/bible-study-for-all-ages/2030-07-17/
CATEGORIES:Adult Ministry,All are Welcome,Kids Ministry,Women Ministry
END:VEVENT
BEGIN:VEVENT
DTSTART;TZID=America/Chicago:20300721T100000
DTEND;TZID=America/Chicago:20300721T110000
DTSTAMP:20260421T212836
CREATED:20260104T205141Z
LAST-MODIFIED:20260104T205141Z
UID:10002602-1910858400-1910862000@mtgileadbc.org
SUMMARY:Sunday School All-Ages
DESCRIPTION:
URL:https://mtgileadbc.org/event/sunday-school-all-ages/2030-07-21/
LOCATION:Mt Gilead Baptist Church\, 5751 Highway 104 N\, Cedar Grove\, TN\, 38321\, United States
CATEGORIES:Adult Ministry,All are Welcome,Kids Ministry,Women Ministry
END:VEVENT
BEGIN:VEVENT
DTSTART;TZID=America/Chicago:20300721T110000
DTEND;TZID=America/Chicago:20300721T120000
DTSTAMP:20260421T212836
CREATED:20260201T142652Z
LAST-MODIFIED:20260201T142753Z
UID:10002341-1910862000-1910865600@mtgileadbc.org
SUMMARY:Sunday Morning Service
DESCRIPTION:
URL:https://mtgileadbc.org/event/sunday-morning-service-2/2030-07-21/
CATEGORIES:Adult Ministry,All are Welcome,Kids Ministry,Women Ministry
END:VEVENT
BEGIN:VEVENT
DTSTART;TZID=America/Chicago:20300724T190000
DTEND;TZID=America/Chicago:20300724T200000
DTSTAMP:20260421T212836
CREATED:20260104T210101Z
LAST-MODIFIED:20260104T210101Z
UID:10003126-1911150000-1911153600@mtgileadbc.org
SUMMARY:Business Meeting
DESCRIPTION:
URL:https://mtgileadbc.org/event/business-meeting/2030-07-24/
CATEGORIES:Adult Ministry
END:VEVENT
BEGIN:VEVENT
DTSTART;TZID=America/Chicago:20300724T190000
DTEND;TZID=America/Chicago:20300724T200000
DTSTAMP:20260421T212836
CREATED:20260104T210248Z
LAST-MODIFIED:20260104T210248Z
UID:10003387-1911150000-1911153600@mtgileadbc.org
SUMMARY:Bible Study for All Ages
DESCRIPTION:
URL:https://mtgileadbc.org/event/bible-study-for-all-ages/2030-07-24/
CATEGORIES:Adult Ministry,All are Welcome,Kids Ministry,Women Ministry
END:VEVENT
BEGIN:VEVENT
DTSTART;TZID=America/Chicago:20300728T100000
DTEND;TZID=America/Chicago:20300728T110000
DTSTAMP:20260421T212836
CREATED:20260104T205141Z
LAST-MODIFIED:20260104T205141Z
UID:10002603-1911463200-1911466800@mtgileadbc.org
SUMMARY:Sunday School All-Ages
DESCRIPTION:
URL:https://mtgileadbc.org/event/sunday-school-all-ages/2030-07-28/
LOCATION:Mt Gilead Baptist Church\, 5751 Highway 104 N\, Cedar Grove\, TN\, 38321\, United States
CATEGORIES:Adult Ministry,All are Welcome,Kids Ministry,Women Ministry
END:VEVENT
BEGIN:VEVENT
DTSTART;TZID=America/Chicago:20300728T110000
DTEND;TZID=America/Chicago:20300728T120000
DTSTAMP:20260421T212836
CREATED:20260201T142652Z
LAST-MODIFIED:20260201T142753Z
UID:10002342-1911466800-1911470400@mtgileadbc.org
SUMMARY:Sunday Morning Service
DESCRIPTION:
URL:https://mtgileadbc.org/event/sunday-morning-service-2/2030-07-28/
CATEGORIES:Adult Ministry,All are Welcome,Kids Ministry,Women Ministry
END:VEVENT
END:VCALENDAR