BEGIN:VCALENDAR
VERSION:2.0
PRODID:-//Mt Gilead Baptist Church - ECPv6.15.15//NONSGML v1.0//EN
CALSCALE:GREGORIAN
METHOD:PUBLISH
X-ORIGINAL-URL:https://mtgileadbc.org
X-WR-CALDESC:Events for Mt Gilead Baptist Church
REFRESH-INTERVAL;VALUE=DURATION:PT1H
X-Robots-Tag:noindex
X-PUBLISHED-TTL:PT1H
BEGIN:VTIMEZONE
TZID:America/Chicago
BEGIN:DAYLIGHT
TZOFFSETFROM:-0600
TZOFFSETTO:-0500
TZNAME:CDT
DTSTART:20290311T080000
END:DAYLIGHT
BEGIN:STANDARD
TZOFFSETFROM:-0500
TZOFFSETTO:-0600
TZNAME:CST
DTSTART:20291104T070000
END:STANDARD
BEGIN:DAYLIGHT
TZOFFSETFROM:-0600
TZOFFSETTO:-0500
TZNAME:CDT
DTSTART:20300310T080000
END:DAYLIGHT
BEGIN:STANDARD
TZOFFSETFROM:-0500
TZOFFSETTO:-0600
TZNAME:CST
DTSTART:20301103T070000
END:STANDARD
BEGIN:DAYLIGHT
TZOFFSETFROM:-0600
TZOFFSETTO:-0500
TZNAME:CDT
DTSTART:20310309T080000
END:DAYLIGHT
BEGIN:STANDARD
TZOFFSETFROM:-0500
TZOFFSETTO:-0600
TZNAME:CST
DTSTART:20311102T070000
END:STANDARD
BEGIN:DAYLIGHT
TZOFFSETFROM:-0600
TZOFFSETTO:-0500
TZNAME:CDT
DTSTART:20320314T080000
END:DAYLIGHT
BEGIN:STANDARD
TZOFFSETFROM:-0500
TZOFFSETTO:-0600
TZNAME:CST
DTSTART:20321107T070000
END:STANDARD
END:VTIMEZONE
BEGIN:VEVENT
DTSTART;TZID=America/Chicago:20301127T190000
DTEND;TZID=America/Chicago:20301127T200000
DTSTAMP:20260422T043754
CREATED:20260104T210101Z
LAST-MODIFIED:20260104T210101Z
UID:10003144-1922036400-1922040000@mtgileadbc.org
SUMMARY:Business Meeting
DESCRIPTION:
URL:https://mtgileadbc.org/event/business-meeting/2030-11-27/
CATEGORIES:Adult Ministry
END:VEVENT
BEGIN:VEVENT
DTSTART;TZID=America/Chicago:20301127T190000
DTEND;TZID=America/Chicago:20301127T200000
DTSTAMP:20260422T043754
CREATED:20260104T210248Z
LAST-MODIFIED:20260104T210248Z
UID:10003405-1922036400-1922040000@mtgileadbc.org
SUMMARY:Bible Study for All Ages
DESCRIPTION:
URL:https://mtgileadbc.org/event/bible-study-for-all-ages/2030-11-27/
CATEGORIES:Adult Ministry,All are Welcome,Kids Ministry,Women Ministry
END:VEVENT
BEGIN:VEVENT
DTSTART;TZID=America/Chicago:20301201T100000
DTEND;TZID=America/Chicago:20301201T110000
DTSTAMP:20260422T043754
CREATED:20260104T205141Z
LAST-MODIFIED:20260104T205141Z
UID:10002621-1922349600-1922353200@mtgileadbc.org
SUMMARY:Sunday School All-Ages
DESCRIPTION:
URL:https://mtgileadbc.org/event/sunday-school-all-ages/2030-12-01/
LOCATION:Mt Gilead Baptist Church\, 5751 Highway 104 N\, Cedar Grove\, TN\, 38321\, United States
CATEGORIES:Adult Ministry,All are Welcome,Kids Ministry,Women Ministry
END:VEVENT
BEGIN:VEVENT
DTSTART;TZID=America/Chicago:20301201T110000
DTEND;TZID=America/Chicago:20301201T120000
DTSTAMP:20260422T043754
CREATED:20260201T142652Z
LAST-MODIFIED:20260201T142753Z
UID:10002360-1922353200-1922356800@mtgileadbc.org
SUMMARY:Sunday Morning Service
DESCRIPTION:
URL:https://mtgileadbc.org/event/sunday-morning-service-2/2030-12-01/
CATEGORIES:Adult Ministry,All are Welcome,Kids Ministry,Women Ministry
END:VEVENT
BEGIN:VEVENT
DTSTART;TZID=America/Chicago:20301204T190000
DTEND;TZID=America/Chicago:20301204T200000
DTSTAMP:20260422T043754
CREATED:20260104T210101Z
LAST-MODIFIED:20260104T210101Z
UID:10003145-1922641200-1922644800@mtgileadbc.org
SUMMARY:Business Meeting
DESCRIPTION:
URL:https://mtgileadbc.org/event/business-meeting/2030-12-04/
CATEGORIES:Adult Ministry
END:VEVENT
BEGIN:VEVENT
DTSTART;TZID=America/Chicago:20301204T190000
DTEND;TZID=America/Chicago:20301204T200000
DTSTAMP:20260422T043754
CREATED:20260104T210248Z
LAST-MODIFIED:20260104T210248Z
UID:10003406-1922641200-1922644800@mtgileadbc.org
SUMMARY:Bible Study for All Ages
DESCRIPTION:
URL:https://mtgileadbc.org/event/bible-study-for-all-ages/2030-12-04/
CATEGORIES:Adult Ministry,All are Welcome,Kids Ministry,Women Ministry
END:VEVENT
BEGIN:VEVENT
DTSTART;TZID=America/Chicago:20301208T100000
DTEND;TZID=America/Chicago:20301208T110000
DTSTAMP:20260422T043754
CREATED:20260104T205141Z
LAST-MODIFIED:20260104T205141Z
UID:10002622-1922954400-1922958000@mtgileadbc.org
SUMMARY:Sunday School All-Ages
DESCRIPTION:
URL:https://mtgileadbc.org/event/sunday-school-all-ages/2030-12-08/
LOCATION:Mt Gilead Baptist Church\, 5751 Highway 104 N\, Cedar Grove\, TN\, 38321\, United States
CATEGORIES:Adult Ministry,All are Welcome,Kids Ministry,Women Ministry
END:VEVENT
BEGIN:VEVENT
DTSTART;TZID=America/Chicago:20301208T110000
DTEND;TZID=America/Chicago:20301208T120000
DTSTAMP:20260422T043754
CREATED:20260201T142652Z
LAST-MODIFIED:20260201T142753Z
UID:10002361-1922958000-1922961600@mtgileadbc.org
SUMMARY:Sunday Morning Service
DESCRIPTION:
URL:https://mtgileadbc.org/event/sunday-morning-service-2/2030-12-08/
CATEGORIES:Adult Ministry,All are Welcome,Kids Ministry,Women Ministry
END:VEVENT
BEGIN:VEVENT
DTSTART;TZID=America/Chicago:20301211T190000
DTEND;TZID=America/Chicago:20301211T200000
DTSTAMP:20260422T043754
CREATED:20260104T210101Z
LAST-MODIFIED:20260104T210101Z
UID:10003146-1923246000-1923249600@mtgileadbc.org
SUMMARY:Business Meeting
DESCRIPTION:
URL:https://mtgileadbc.org/event/business-meeting/2030-12-11/
CATEGORIES:Adult Ministry
END:VEVENT
BEGIN:VEVENT
DTSTART;TZID=America/Chicago:20301211T190000
DTEND;TZID=America/Chicago:20301211T200000
DTSTAMP:20260422T043754
CREATED:20260104T210248Z
LAST-MODIFIED:20260104T210248Z
UID:10003407-1923246000-1923249600@mtgileadbc.org
SUMMARY:Bible Study for All Ages
DESCRIPTION:
URL:https://mtgileadbc.org/event/bible-study-for-all-ages/2030-12-11/
CATEGORIES:Adult Ministry,All are Welcome,Kids Ministry,Women Ministry
END:VEVENT
BEGIN:VEVENT
DTSTART;TZID=America/Chicago:20301215T100000
DTEND;TZID=America/Chicago:20301215T110000
DTSTAMP:20260422T043754
CREATED:20260104T205141Z
LAST-MODIFIED:20260104T205141Z
UID:10002623-1923559200-1923562800@mtgileadbc.org
SUMMARY:Sunday School All-Ages
DESCRIPTION:
URL:https://mtgileadbc.org/event/sunday-school-all-ages/2030-12-15/
LOCATION:Mt Gilead Baptist Church\, 5751 Highway 104 N\, Cedar Grove\, TN\, 38321\, United States
CATEGORIES:Adult Ministry,All are Welcome,Kids Ministry,Women Ministry
END:VEVENT
BEGIN:VEVENT
DTSTART;TZID=America/Chicago:20301215T110000
DTEND;TZID=America/Chicago:20301215T120000
DTSTAMP:20260422T043754
CREATED:20260201T142652Z
LAST-MODIFIED:20260201T142753Z
UID:10002362-1923562800-1923566400@mtgileadbc.org
SUMMARY:Sunday Morning Service
DESCRIPTION:
URL:https://mtgileadbc.org/event/sunday-morning-service-2/2030-12-15/
CATEGORIES:Adult Ministry,All are Welcome,Kids Ministry,Women Ministry
END:VEVENT
BEGIN:VEVENT
DTSTART;TZID=America/Chicago:20301218T190000
DTEND;TZID=America/Chicago:20301218T200000
DTSTAMP:20260422T043754
CREATED:20260104T210101Z
LAST-MODIFIED:20260104T210101Z
UID:10003147-1923850800-1923854400@mtgileadbc.org
SUMMARY:Business Meeting
DESCRIPTION:
URL:https://mtgileadbc.org/event/business-meeting/2030-12-18/
CATEGORIES:Adult Ministry
END:VEVENT
BEGIN:VEVENT
DTSTART;TZID=America/Chicago:20301218T190000
DTEND;TZID=America/Chicago:20301218T200000
DTSTAMP:20260422T043754
CREATED:20260104T210248Z
LAST-MODIFIED:20260104T210248Z
UID:10003408-1923850800-1923854400@mtgileadbc.org
SUMMARY:Bible Study for All Ages
DESCRIPTION:
URL:https://mtgileadbc.org/event/bible-study-for-all-ages/2030-12-18/
CATEGORIES:Adult Ministry,All are Welcome,Kids Ministry,Women Ministry
END:VEVENT
BEGIN:VEVENT
DTSTART;TZID=America/Chicago:20301222T100000
DTEND;TZID=America/Chicago:20301222T110000
DTSTAMP:20260422T043754
CREATED:20260104T205141Z
LAST-MODIFIED:20260104T205141Z
UID:10002624-1924164000-1924167600@mtgileadbc.org
SUMMARY:Sunday School All-Ages
DESCRIPTION:
URL:https://mtgileadbc.org/event/sunday-school-all-ages/2030-12-22/
LOCATION:Mt Gilead Baptist Church\, 5751 Highway 104 N\, Cedar Grove\, TN\, 38321\, United States
CATEGORIES:Adult Ministry,All are Welcome,Kids Ministry,Women Ministry
END:VEVENT
BEGIN:VEVENT
DTSTART;TZID=America/Chicago:20301222T110000
DTEND;TZID=America/Chicago:20301222T120000
DTSTAMP:20260422T043754
CREATED:20260201T142652Z
LAST-MODIFIED:20260201T142753Z
UID:10002363-1924167600-1924171200@mtgileadbc.org
SUMMARY:Sunday Morning Service
DESCRIPTION:
URL:https://mtgileadbc.org/event/sunday-morning-service-2/2030-12-22/
CATEGORIES:Adult Ministry,All are Welcome,Kids Ministry,Women Ministry
END:VEVENT
BEGIN:VEVENT
DTSTART;TZID=America/Chicago:20301225T190000
DTEND;TZID=America/Chicago:20301225T200000
DTSTAMP:20260422T043754
CREATED:20260104T210101Z
LAST-MODIFIED:20260104T210101Z
UID:10003148-1924455600-1924459200@mtgileadbc.org
SUMMARY:Business Meeting
DESCRIPTION:
URL:https://mtgileadbc.org/event/business-meeting/2030-12-25/
CATEGORIES:Adult Ministry
END:VEVENT
BEGIN:VEVENT
DTSTART;TZID=America/Chicago:20301225T190000
DTEND;TZID=America/Chicago:20301225T200000
DTSTAMP:20260422T043754
CREATED:20260104T210248Z
LAST-MODIFIED:20260104T210248Z
UID:10003409-1924455600-1924459200@mtgileadbc.org
SUMMARY:Bible Study for All Ages
DESCRIPTION:
URL:https://mtgileadbc.org/event/bible-study-for-all-ages/2030-12-25/
CATEGORIES:Adult Ministry,All are Welcome,Kids Ministry,Women Ministry
END:VEVENT
BEGIN:VEVENT
DTSTART;TZID=America/Chicago:20301229T100000
DTEND;TZID=America/Chicago:20301229T110000
DTSTAMP:20260422T043754
CREATED:20260104T205141Z
LAST-MODIFIED:20260104T205141Z
UID:10002625-1924768800-1924772400@mtgileadbc.org
SUMMARY:Sunday School All-Ages
DESCRIPTION:
URL:https://mtgileadbc.org/event/sunday-school-all-ages/2030-12-29/
LOCATION:Mt Gilead Baptist Church\, 5751 Highway 104 N\, Cedar Grove\, TN\, 38321\, United States
CATEGORIES:Adult Ministry,All are Welcome,Kids Ministry,Women Ministry
END:VEVENT
BEGIN:VEVENT
DTSTART;TZID=America/Chicago:20301229T110000
DTEND;TZID=America/Chicago:20301229T120000
DTSTAMP:20260422T043754
CREATED:20260201T142652Z
LAST-MODIFIED:20260201T142753Z
UID:10002364-1924772400-1924776000@mtgileadbc.org
SUMMARY:Sunday Morning Service
DESCRIPTION:
URL:https://mtgileadbc.org/event/sunday-morning-service-2/2030-12-29/
CATEGORIES:Adult Ministry,All are Welcome,Kids Ministry,Women Ministry
END:VEVENT
BEGIN:VEVENT
DTSTART;TZID=America/Chicago:20310101T190000
DTEND;TZID=America/Chicago:20310101T200000
DTSTAMP:20260422T043754
CREATED:20260104T210101Z
LAST-MODIFIED:20260104T210101Z
UID:10003149-1925060400-1925064000@mtgileadbc.org
SUMMARY:Business Meeting
DESCRIPTION:
URL:https://mtgileadbc.org/event/business-meeting/2031-01-01/
CATEGORIES:Adult Ministry
END:VEVENT
BEGIN:VEVENT
DTSTART;TZID=America/Chicago:20310101T190000
DTEND;TZID=America/Chicago:20310101T200000
DTSTAMP:20260422T043754
CREATED:20260104T210248Z
LAST-MODIFIED:20260104T210248Z
UID:10003410-1925060400-1925064000@mtgileadbc.org
SUMMARY:Bible Study for All Ages
DESCRIPTION:
URL:https://mtgileadbc.org/event/bible-study-for-all-ages/2031-01-01/
CATEGORIES:Adult Ministry,All are Welcome,Kids Ministry,Women Ministry
END:VEVENT
BEGIN:VEVENT
DTSTART;TZID=America/Chicago:20310105T100000
DTEND;TZID=America/Chicago:20310105T110000
DTSTAMP:20260422T043754
CREATED:20260104T205141Z
LAST-MODIFIED:20260104T205141Z
UID:10003419-1925373600-1925377200@mtgileadbc.org
SUMMARY:Sunday School All-Ages
DESCRIPTION:
URL:https://mtgileadbc.org/event/sunday-school-all-ages/2031-01-05/
LOCATION:Mt Gilead Baptist Church\, 5751 Highway 104 N\, Cedar Grove\, TN\, 38321\, United States
CATEGORIES:Adult Ministry,All are Welcome,Kids Ministry,Women Ministry
END:VEVENT
BEGIN:VEVENT
DTSTART;TZID=America/Chicago:20310105T110000
DTEND;TZID=America/Chicago:20310105T120000
DTSTAMP:20260422T043754
CREATED:20260201T142652Z
LAST-MODIFIED:20260201T142753Z
UID:10003411-1925377200-1925380800@mtgileadbc.org
SUMMARY:Sunday Morning Service
DESCRIPTION:
URL:https://mtgileadbc.org/event/sunday-morning-service-2/2031-01-05/
CATEGORIES:Adult Ministry,All are Welcome,Kids Ministry,Women Ministry
END:VEVENT
BEGIN:VEVENT
DTSTART;TZID=America/Chicago:20310108T190000
DTEND;TZID=America/Chicago:20310108T200000
DTSTAMP:20260422T043754
CREATED:20260104T210101Z
LAST-MODIFIED:20260104T210101Z
UID:10003443-1925665200-1925668800@mtgileadbc.org
SUMMARY:Business Meeting
DESCRIPTION:
URL:https://mtgileadbc.org/event/business-meeting/2031-01-08/
CATEGORIES:Adult Ministry
END:VEVENT
BEGIN:VEVENT
DTSTART;TZID=America/Chicago:20310108T190000
DTEND;TZID=America/Chicago:20310108T200000
DTSTAMP:20260422T043754
CREATED:20260104T210248Z
LAST-MODIFIED:20260104T210248Z
UID:10003448-1925665200-1925668800@mtgileadbc.org
SUMMARY:Bible Study for All Ages
DESCRIPTION:
URL:https://mtgileadbc.org/event/bible-study-for-all-ages/2031-01-08/
CATEGORIES:Adult Ministry,All are Welcome,Kids Ministry,Women Ministry
END:VEVENT
BEGIN:VEVENT
DTSTART;TZID=America/Chicago:20310112T100000
DTEND;TZID=America/Chicago:20310112T110000
DTSTAMP:20260422T043754
CREATED:20260104T205141Z
LAST-MODIFIED:20260104T205141Z
UID:10003420-1925978400-1925982000@mtgileadbc.org
SUMMARY:Sunday School All-Ages
DESCRIPTION:
URL:https://mtgileadbc.org/event/sunday-school-all-ages/2031-01-12/
LOCATION:Mt Gilead Baptist Church\, 5751 Highway 104 N\, Cedar Grove\, TN\, 38321\, United States
CATEGORIES:Adult Ministry,All are Welcome,Kids Ministry,Women Ministry
END:VEVENT
BEGIN:VEVENT
DTSTART;TZID=America/Chicago:20310112T110000
DTEND;TZID=America/Chicago:20310112T120000
DTSTAMP:20260422T043754
CREATED:20260201T142652Z
LAST-MODIFIED:20260201T142753Z
UID:10003412-1925982000-1925985600@mtgileadbc.org
SUMMARY:Sunday Morning Service
DESCRIPTION:
URL:https://mtgileadbc.org/event/sunday-morning-service-2/2031-01-12/
CATEGORIES:Adult Ministry,All are Welcome,Kids Ministry,Women Ministry
END:VEVENT
BEGIN:VEVENT
DTSTART;TZID=America/Chicago:20310115T190000
DTEND;TZID=America/Chicago:20310115T200000
DTSTAMP:20260422T043754
CREATED:20260104T210101Z
LAST-MODIFIED:20260104T210101Z
UID:10003444-1926270000-1926273600@mtgileadbc.org
SUMMARY:Business Meeting
DESCRIPTION:
URL:https://mtgileadbc.org/event/business-meeting/2031-01-15/
CATEGORIES:Adult Ministry
END:VEVENT
BEGIN:VEVENT
DTSTART;TZID=America/Chicago:20310115T190000
DTEND;TZID=America/Chicago:20310115T200000
DTSTAMP:20260422T043754
CREATED:20260104T210248Z
LAST-MODIFIED:20260104T210248Z
UID:10003449-1926270000-1926273600@mtgileadbc.org
SUMMARY:Bible Study for All Ages
DESCRIPTION:
URL:https://mtgileadbc.org/event/bible-study-for-all-ages/2031-01-15/
CATEGORIES:Adult Ministry,All are Welcome,Kids Ministry,Women Ministry
END:VEVENT
END:VCALENDAR