BEGIN:VCALENDAR
VERSION:2.0
PRODID:-//Mt Gilead Baptist Church - ECPv6.15.15//NONSGML v1.0//EN
CALSCALE:GREGORIAN
METHOD:PUBLISH
X-ORIGINAL-URL:https://mtgileadbc.org
X-WR-CALDESC:Events for Mt Gilead Baptist Church
REFRESH-INTERVAL;VALUE=DURATION:PT1H
X-Robots-Tag:noindex
X-PUBLISHED-TTL:PT1H
BEGIN:VTIMEZONE
TZID:America/Chicago
BEGIN:DAYLIGHT
TZOFFSETFROM:-0600
TZOFFSETTO:-0500
TZNAME:CDT
DTSTART:20300310T080000
END:DAYLIGHT
BEGIN:STANDARD
TZOFFSETFROM:-0500
TZOFFSETTO:-0600
TZNAME:CST
DTSTART:20301103T070000
END:STANDARD
BEGIN:DAYLIGHT
TZOFFSETFROM:-0600
TZOFFSETTO:-0500
TZNAME:CDT
DTSTART:20310309T080000
END:DAYLIGHT
BEGIN:STANDARD
TZOFFSETFROM:-0500
TZOFFSETTO:-0600
TZNAME:CST
DTSTART:20311102T070000
END:STANDARD
BEGIN:DAYLIGHT
TZOFFSETFROM:-0600
TZOFFSETTO:-0500
TZNAME:CDT
DTSTART:20320314T080000
END:DAYLIGHT
BEGIN:STANDARD
TZOFFSETFROM:-0500
TZOFFSETTO:-0600
TZNAME:CST
DTSTART:20321107T070000
END:STANDARD
END:VTIMEZONE
BEGIN:VEVENT
DTSTART;TZID=America/Chicago:20310330T100000
DTEND;TZID=America/Chicago:20310330T110000
DTSTAMP:20260422T195107
CREATED:20260104T205141Z
LAST-MODIFIED:20260104T205141Z
UID:10003511-1932631200-1932634800@mtgileadbc.org
SUMMARY:Sunday School All-Ages
DESCRIPTION:
URL:https://mtgileadbc.org/event/sunday-school-all-ages/2031-03-30/
LOCATION:Mt Gilead Baptist Church\, 5751 Highway 104 N\, Cedar Grove\, TN\, 38321\, United States
CATEGORIES:Adult Ministry,All are Welcome,Kids Ministry,Women Ministry
END:VEVENT
BEGIN:VEVENT
DTSTART;TZID=America/Chicago:20310330T110000
DTEND;TZID=America/Chicago:20310330T120000
DTSTAMP:20260422T195107
CREATED:20260201T142652Z
LAST-MODIFIED:20260201T142753Z
UID:10003512-1932634800-1932638400@mtgileadbc.org
SUMMARY:Sunday Morning Service
DESCRIPTION:
URL:https://mtgileadbc.org/event/sunday-morning-service-2/2031-03-30/
CATEGORIES:Adult Ministry,All are Welcome,Kids Ministry,Women Ministry
END:VEVENT
BEGIN:VEVENT
DTSTART;TZID=America/Chicago:20310402T190000
DTEND;TZID=America/Chicago:20310402T200000
DTSTAMP:20260422T195107
CREATED:20260104T210101Z
LAST-MODIFIED:20260104T210101Z
UID:10003515-1932922800-1932926400@mtgileadbc.org
SUMMARY:Business Meeting
DESCRIPTION:
URL:https://mtgileadbc.org/event/business-meeting/2031-04-02/
CATEGORIES:Adult Ministry
END:VEVENT
BEGIN:VEVENT
DTSTART;TZID=America/Chicago:20310402T190000
DTEND;TZID=America/Chicago:20310402T200000
DTSTAMP:20260422T195107
CREATED:20260104T210248Z
LAST-MODIFIED:20260104T210248Z
UID:10003516-1932922800-1932926400@mtgileadbc.org
SUMMARY:Bible Study for All Ages
DESCRIPTION:
URL:https://mtgileadbc.org/event/bible-study-for-all-ages/2031-04-02/
CATEGORIES:Adult Ministry,All are Welcome,Kids Ministry,Women Ministry
END:VEVENT
BEGIN:VEVENT
DTSTART;TZID=America/Chicago:20310406T100000
DTEND;TZID=America/Chicago:20310406T110000
DTSTAMP:20260422T195107
CREATED:20260104T205141Z
LAST-MODIFIED:20260104T205141Z
UID:10003517-1933236000-1933239600@mtgileadbc.org
SUMMARY:Sunday School All-Ages
DESCRIPTION:
URL:https://mtgileadbc.org/event/sunday-school-all-ages/2031-04-06/
LOCATION:Mt Gilead Baptist Church\, 5751 Highway 104 N\, Cedar Grove\, TN\, 38321\, United States
CATEGORIES:Adult Ministry,All are Welcome,Kids Ministry,Women Ministry
END:VEVENT
BEGIN:VEVENT
DTSTART;TZID=America/Chicago:20310406T110000
DTEND;TZID=America/Chicago:20310406T120000
DTSTAMP:20260422T195107
CREATED:20260201T142652Z
LAST-MODIFIED:20260201T142753Z
UID:10003518-1933239600-1933243200@mtgileadbc.org
SUMMARY:Sunday Morning Service
DESCRIPTION:
URL:https://mtgileadbc.org/event/sunday-morning-service-2/2031-04-06/
CATEGORIES:Adult Ministry,All are Welcome,Kids Ministry,Women Ministry
END:VEVENT
BEGIN:VEVENT
DTSTART;TZID=America/Chicago:20310409T190000
DTEND;TZID=America/Chicago:20310409T200000
DTSTAMP:20260422T195107
CREATED:20260104T210101Z
LAST-MODIFIED:20260104T210101Z
UID:10003521-1933527600-1933531200@mtgileadbc.org
SUMMARY:Business Meeting
DESCRIPTION:
URL:https://mtgileadbc.org/event/business-meeting/2031-04-09/
CATEGORIES:Adult Ministry
END:VEVENT
BEGIN:VEVENT
DTSTART;TZID=America/Chicago:20310409T190000
DTEND;TZID=America/Chicago:20310409T200000
DTSTAMP:20260422T195107
CREATED:20260104T210248Z
LAST-MODIFIED:20260104T210248Z
UID:10003522-1933527600-1933531200@mtgileadbc.org
SUMMARY:Bible Study for All Ages
DESCRIPTION:
URL:https://mtgileadbc.org/event/bible-study-for-all-ages/2031-04-09/
CATEGORIES:Adult Ministry,All are Welcome,Kids Ministry,Women Ministry
END:VEVENT
BEGIN:VEVENT
DTSTART;TZID=America/Chicago:20310413T100000
DTEND;TZID=America/Chicago:20310413T110000
DTSTAMP:20260422T195107
CREATED:20260104T205141Z
LAST-MODIFIED:20260104T205141Z
UID:10003523-1933840800-1933844400@mtgileadbc.org
SUMMARY:Sunday School All-Ages
DESCRIPTION:
URL:https://mtgileadbc.org/event/sunday-school-all-ages/2031-04-13/
LOCATION:Mt Gilead Baptist Church\, 5751 Highway 104 N\, Cedar Grove\, TN\, 38321\, United States
CATEGORIES:Adult Ministry,All are Welcome,Kids Ministry,Women Ministry
END:VEVENT
BEGIN:VEVENT
DTSTART;TZID=America/Chicago:20310413T110000
DTEND;TZID=America/Chicago:20310413T120000
DTSTAMP:20260422T195107
CREATED:20260201T142652Z
LAST-MODIFIED:20260201T142753Z
UID:10003524-1933844400-1933848000@mtgileadbc.org
SUMMARY:Sunday Morning Service
DESCRIPTION:
URL:https://mtgileadbc.org/event/sunday-morning-service-2/2031-04-13/
CATEGORIES:Adult Ministry,All are Welcome,Kids Ministry,Women Ministry
END:VEVENT
BEGIN:VEVENT
DTSTART;TZID=America/Chicago:20310416T190000
DTEND;TZID=America/Chicago:20310416T200000
DTSTAMP:20260422T195107
CREATED:20260104T210101Z
LAST-MODIFIED:20260104T210101Z
UID:10003527-1934132400-1934136000@mtgileadbc.org
SUMMARY:Business Meeting
DESCRIPTION:
URL:https://mtgileadbc.org/event/business-meeting/2031-04-16/
CATEGORIES:Adult Ministry
END:VEVENT
BEGIN:VEVENT
DTSTART;TZID=America/Chicago:20310416T190000
DTEND;TZID=America/Chicago:20310416T200000
DTSTAMP:20260422T195107
CREATED:20260104T210248Z
LAST-MODIFIED:20260104T210248Z
UID:10003528-1934132400-1934136000@mtgileadbc.org
SUMMARY:Bible Study for All Ages
DESCRIPTION:
URL:https://mtgileadbc.org/event/bible-study-for-all-ages/2031-04-16/
CATEGORIES:Adult Ministry,All are Welcome,Kids Ministry,Women Ministry
END:VEVENT
BEGIN:VEVENT
DTSTART;TZID=America/Chicago:20310420T100000
DTEND;TZID=America/Chicago:20310420T110000
DTSTAMP:20260422T195107
CREATED:20260104T205141Z
LAST-MODIFIED:20260104T205141Z
UID:10003529-1934445600-1934449200@mtgileadbc.org
SUMMARY:Sunday School All-Ages
DESCRIPTION:
URL:https://mtgileadbc.org/event/sunday-school-all-ages/2031-04-20/
LOCATION:Mt Gilead Baptist Church\, 5751 Highway 104 N\, Cedar Grove\, TN\, 38321\, United States
CATEGORIES:Adult Ministry,All are Welcome,Kids Ministry,Women Ministry
END:VEVENT
BEGIN:VEVENT
DTSTART;TZID=America/Chicago:20310420T110000
DTEND;TZID=America/Chicago:20310420T120000
DTSTAMP:20260422T195107
CREATED:20260201T142652Z
LAST-MODIFIED:20260201T142753Z
UID:10003530-1934449200-1934452800@mtgileadbc.org
SUMMARY:Sunday Morning Service
DESCRIPTION:
URL:https://mtgileadbc.org/event/sunday-morning-service-2/2031-04-20/
CATEGORIES:Adult Ministry,All are Welcome,Kids Ministry,Women Ministry
END:VEVENT
END:VCALENDAR