BEGIN:VCALENDAR
VERSION:2.0
PRODID:-//Mt Gilead Baptist Church - ECPv6.15.15//NONSGML v1.0//EN
CALSCALE:GREGORIAN
METHOD:PUBLISH
X-WR-CALNAME:Mt Gilead Baptist Church
X-ORIGINAL-URL:https://mtgileadbc.org
X-WR-CALDESC:Events for Mt Gilead Baptist Church
REFRESH-INTERVAL;VALUE=DURATION:PT1H
X-Robots-Tag:noindex
X-PUBLISHED-TTL:PT1H
BEGIN:VTIMEZONE
TZID:America/Chicago
BEGIN:DAYLIGHT
TZOFFSETFROM:-0600
TZOFFSETTO:-0500
TZNAME:CDT
DTSTART:20280312T080000
END:DAYLIGHT
BEGIN:STANDARD
TZOFFSETFROM:-0500
TZOFFSETTO:-0600
TZNAME:CST
DTSTART:20281105T070000
END:STANDARD
BEGIN:DAYLIGHT
TZOFFSETFROM:-0600
TZOFFSETTO:-0500
TZNAME:CDT
DTSTART:20290311T080000
END:DAYLIGHT
BEGIN:STANDARD
TZOFFSETFROM:-0500
TZOFFSETTO:-0600
TZNAME:CST
DTSTART:20291104T070000
END:STANDARD
BEGIN:DAYLIGHT
TZOFFSETFROM:-0600
TZOFFSETTO:-0500
TZNAME:CDT
DTSTART:20300310T080000
END:DAYLIGHT
BEGIN:STANDARD
TZOFFSETFROM:-0500
TZOFFSETTO:-0600
TZNAME:CST
DTSTART:20301103T070000
END:STANDARD
END:VTIMEZONE
BEGIN:VEVENT
DTSTART;TZID=America/Chicago:20290117T190000
DTEND;TZID=America/Chicago:20290117T200000
DTSTAMP:20260420T015419
CREATED:20260104T210101Z
LAST-MODIFIED:20260104T210101Z
UID:10003047-1863370800-1863374400@mtgileadbc.org
SUMMARY:Business Meeting
DESCRIPTION:
URL:https://mtgileadbc.org/event/business-meeting/2029-01-17/
CATEGORIES:Adult Ministry
END:VEVENT
BEGIN:VEVENT
DTSTART;TZID=America/Chicago:20290117T190000
DTEND;TZID=America/Chicago:20290117T200000
DTSTAMP:20260420T015419
CREATED:20260104T210248Z
LAST-MODIFIED:20260104T210248Z
UID:10003308-1863370800-1863374400@mtgileadbc.org
SUMMARY:Bible Study for All Ages
DESCRIPTION:
URL:https://mtgileadbc.org/event/bible-study-for-all-ages/2029-01-17/
CATEGORIES:Adult Ministry,All are Welcome,Kids Ministry,Women Ministry
END:VEVENT
BEGIN:VEVENT
DTSTART;TZID=America/Chicago:20290121T100000
DTEND;TZID=America/Chicago:20290121T110000
DTSTAMP:20260420T015419
CREATED:20260104T205141Z
LAST-MODIFIED:20260104T205141Z
UID:10002524-1863684000-1863687600@mtgileadbc.org
SUMMARY:Sunday School All-Ages
DESCRIPTION:
URL:https://mtgileadbc.org/event/sunday-school-all-ages/2029-01-21/
LOCATION:Mt Gilead Baptist Church\, 5751 Highway 104 N\, Cedar Grove\, TN\, 38321\, United States
CATEGORIES:Adult Ministry,All are Welcome,Kids Ministry,Women Ministry
END:VEVENT
BEGIN:VEVENT
DTSTART;TZID=America/Chicago:20290121T110000
DTEND;TZID=America/Chicago:20290121T120000
DTSTAMP:20260420T015419
CREATED:20260201T142652Z
LAST-MODIFIED:20260201T142753Z
UID:10002263-1863687600-1863691200@mtgileadbc.org
SUMMARY:Sunday Morning Service
DESCRIPTION:
URL:https://mtgileadbc.org/event/sunday-morning-service-2/2029-01-21/
CATEGORIES:Adult Ministry,All are Welcome,Kids Ministry,Women Ministry
END:VEVENT
BEGIN:VEVENT
DTSTART;TZID=America/Chicago:20290124T190000
DTEND;TZID=America/Chicago:20290124T200000
DTSTAMP:20260420T015419
CREATED:20260104T210101Z
LAST-MODIFIED:20260104T210101Z
UID:10003048-1863975600-1863979200@mtgileadbc.org
SUMMARY:Business Meeting
DESCRIPTION:
URL:https://mtgileadbc.org/event/business-meeting/2029-01-24/
CATEGORIES:Adult Ministry
END:VEVENT
BEGIN:VEVENT
DTSTART;TZID=America/Chicago:20290124T190000
DTEND;TZID=America/Chicago:20290124T200000
DTSTAMP:20260420T015419
CREATED:20260104T210248Z
LAST-MODIFIED:20260104T210248Z
UID:10003309-1863975600-1863979200@mtgileadbc.org
SUMMARY:Bible Study for All Ages
DESCRIPTION:
URL:https://mtgileadbc.org/event/bible-study-for-all-ages/2029-01-24/
CATEGORIES:Adult Ministry,All are Welcome,Kids Ministry,Women Ministry
END:VEVENT
BEGIN:VEVENT
DTSTART;TZID=America/Chicago:20290128T100000
DTEND;TZID=America/Chicago:20290128T110000
DTSTAMP:20260420T015419
CREATED:20260104T205141Z
LAST-MODIFIED:20260104T205141Z
UID:10002525-1864288800-1864292400@mtgileadbc.org
SUMMARY:Sunday School All-Ages
DESCRIPTION:
URL:https://mtgileadbc.org/event/sunday-school-all-ages/2029-01-28/
LOCATION:Mt Gilead Baptist Church\, 5751 Highway 104 N\, Cedar Grove\, TN\, 38321\, United States
CATEGORIES:Adult Ministry,All are Welcome,Kids Ministry,Women Ministry
END:VEVENT
BEGIN:VEVENT
DTSTART;TZID=America/Chicago:20290128T110000
DTEND;TZID=America/Chicago:20290128T120000
DTSTAMP:20260420T015419
CREATED:20260201T142652Z
LAST-MODIFIED:20260201T142753Z
UID:10002264-1864292400-1864296000@mtgileadbc.org
SUMMARY:Sunday Morning Service
DESCRIPTION:
URL:https://mtgileadbc.org/event/sunday-morning-service-2/2029-01-28/
CATEGORIES:Adult Ministry,All are Welcome,Kids Ministry,Women Ministry
END:VEVENT
BEGIN:VEVENT
DTSTART;TZID=America/Chicago:20290131T190000
DTEND;TZID=America/Chicago:20290131T200000
DTSTAMP:20260420T015419
CREATED:20260104T210101Z
LAST-MODIFIED:20260104T210101Z
UID:10003049-1864580400-1864584000@mtgileadbc.org
SUMMARY:Business Meeting
DESCRIPTION:
URL:https://mtgileadbc.org/event/business-meeting/2029-01-31/
CATEGORIES:Adult Ministry
END:VEVENT
BEGIN:VEVENT
DTSTART;TZID=America/Chicago:20290131T190000
DTEND;TZID=America/Chicago:20290131T200000
DTSTAMP:20260420T015419
CREATED:20260104T210248Z
LAST-MODIFIED:20260104T210248Z
UID:10003310-1864580400-1864584000@mtgileadbc.org
SUMMARY:Bible Study for All Ages
DESCRIPTION:
URL:https://mtgileadbc.org/event/bible-study-for-all-ages/2029-01-31/
CATEGORIES:Adult Ministry,All are Welcome,Kids Ministry,Women Ministry
END:VEVENT
BEGIN:VEVENT
DTSTART;TZID=America/Chicago:20290204T100000
DTEND;TZID=America/Chicago:20290204T110000
DTSTAMP:20260420T015419
CREATED:20260104T205141Z
LAST-MODIFIED:20260104T205141Z
UID:10002526-1864893600-1864897200@mtgileadbc.org
SUMMARY:Sunday School All-Ages
DESCRIPTION:
URL:https://mtgileadbc.org/event/sunday-school-all-ages/2029-02-04/
LOCATION:Mt Gilead Baptist Church\, 5751 Highway 104 N\, Cedar Grove\, TN\, 38321\, United States
CATEGORIES:Adult Ministry,All are Welcome,Kids Ministry,Women Ministry
END:VEVENT
BEGIN:VEVENT
DTSTART;TZID=America/Chicago:20290204T110000
DTEND;TZID=America/Chicago:20290204T120000
DTSTAMP:20260420T015419
CREATED:20260201T142652Z
LAST-MODIFIED:20260201T142753Z
UID:10002265-1864897200-1864900800@mtgileadbc.org
SUMMARY:Sunday Morning Service
DESCRIPTION:
URL:https://mtgileadbc.org/event/sunday-morning-service-2/2029-02-04/
CATEGORIES:Adult Ministry,All are Welcome,Kids Ministry,Women Ministry
END:VEVENT
BEGIN:VEVENT
DTSTART;TZID=America/Chicago:20290207T190000
DTEND;TZID=America/Chicago:20290207T200000
DTSTAMP:20260420T015419
CREATED:20260104T210101Z
LAST-MODIFIED:20260104T210101Z
UID:10003050-1865185200-1865188800@mtgileadbc.org
SUMMARY:Business Meeting
DESCRIPTION:
URL:https://mtgileadbc.org/event/business-meeting/2029-02-07/
CATEGORIES:Adult Ministry
END:VEVENT
BEGIN:VEVENT
DTSTART;TZID=America/Chicago:20290207T190000
DTEND;TZID=America/Chicago:20290207T200000
DTSTAMP:20260420T015419
CREATED:20260104T210248Z
LAST-MODIFIED:20260104T210248Z
UID:10003311-1865185200-1865188800@mtgileadbc.org
SUMMARY:Bible Study for All Ages
DESCRIPTION:
URL:https://mtgileadbc.org/event/bible-study-for-all-ages/2029-02-07/
CATEGORIES:Adult Ministry,All are Welcome,Kids Ministry,Women Ministry
END:VEVENT
BEGIN:VEVENT
DTSTART;TZID=America/Chicago:20290211T100000
DTEND;TZID=America/Chicago:20290211T110000
DTSTAMP:20260420T015419
CREATED:20260104T205141Z
LAST-MODIFIED:20260104T205141Z
UID:10002527-1865498400-1865502000@mtgileadbc.org
SUMMARY:Sunday School All-Ages
DESCRIPTION:
URL:https://mtgileadbc.org/event/sunday-school-all-ages/2029-02-11/
LOCATION:Mt Gilead Baptist Church\, 5751 Highway 104 N\, Cedar Grove\, TN\, 38321\, United States
CATEGORIES:Adult Ministry,All are Welcome,Kids Ministry,Women Ministry
END:VEVENT
BEGIN:VEVENT
DTSTART;TZID=America/Chicago:20290211T110000
DTEND;TZID=America/Chicago:20290211T120000
DTSTAMP:20260420T015419
CREATED:20260201T142652Z
LAST-MODIFIED:20260201T142753Z
UID:10002266-1865502000-1865505600@mtgileadbc.org
SUMMARY:Sunday Morning Service
DESCRIPTION:
URL:https://mtgileadbc.org/event/sunday-morning-service-2/2029-02-11/
CATEGORIES:Adult Ministry,All are Welcome,Kids Ministry,Women Ministry
END:VEVENT
BEGIN:VEVENT
DTSTART;TZID=America/Chicago:20290214T190000
DTEND;TZID=America/Chicago:20290214T200000
DTSTAMP:20260420T015419
CREATED:20260104T210101Z
LAST-MODIFIED:20260104T210101Z
UID:10003051-1865790000-1865793600@mtgileadbc.org
SUMMARY:Business Meeting
DESCRIPTION:
URL:https://mtgileadbc.org/event/business-meeting/2029-02-14/
CATEGORIES:Adult Ministry
END:VEVENT
BEGIN:VEVENT
DTSTART;TZID=America/Chicago:20290214T190000
DTEND;TZID=America/Chicago:20290214T200000
DTSTAMP:20260420T015419
CREATED:20260104T210248Z
LAST-MODIFIED:20260104T210248Z
UID:10003312-1865790000-1865793600@mtgileadbc.org
SUMMARY:Bible Study for All Ages
DESCRIPTION:
URL:https://mtgileadbc.org/event/bible-study-for-all-ages/2029-02-14/
CATEGORIES:Adult Ministry,All are Welcome,Kids Ministry,Women Ministry
END:VEVENT
BEGIN:VEVENT
DTSTART;TZID=America/Chicago:20290218T100000
DTEND;TZID=America/Chicago:20290218T110000
DTSTAMP:20260420T015419
CREATED:20260104T205141Z
LAST-MODIFIED:20260104T205141Z
UID:10002528-1866103200-1866106800@mtgileadbc.org
SUMMARY:Sunday School All-Ages
DESCRIPTION:
URL:https://mtgileadbc.org/event/sunday-school-all-ages/2029-02-18/
LOCATION:Mt Gilead Baptist Church\, 5751 Highway 104 N\, Cedar Grove\, TN\, 38321\, United States
CATEGORIES:Adult Ministry,All are Welcome,Kids Ministry,Women Ministry
END:VEVENT
BEGIN:VEVENT
DTSTART;TZID=America/Chicago:20290218T110000
DTEND;TZID=America/Chicago:20290218T120000
DTSTAMP:20260420T015419
CREATED:20260201T142652Z
LAST-MODIFIED:20260201T142753Z
UID:10002267-1866106800-1866110400@mtgileadbc.org
SUMMARY:Sunday Morning Service
DESCRIPTION:
URL:https://mtgileadbc.org/event/sunday-morning-service-2/2029-02-18/
CATEGORIES:Adult Ministry,All are Welcome,Kids Ministry,Women Ministry
END:VEVENT
BEGIN:VEVENT
DTSTART;TZID=America/Chicago:20290221T190000
DTEND;TZID=America/Chicago:20290221T200000
DTSTAMP:20260420T015419
CREATED:20260104T210101Z
LAST-MODIFIED:20260104T210101Z
UID:10003052-1866394800-1866398400@mtgileadbc.org
SUMMARY:Business Meeting
DESCRIPTION:
URL:https://mtgileadbc.org/event/business-meeting/2029-02-21/
CATEGORIES:Adult Ministry
END:VEVENT
BEGIN:VEVENT
DTSTART;TZID=America/Chicago:20290221T190000
DTEND;TZID=America/Chicago:20290221T200000
DTSTAMP:20260420T015419
CREATED:20260104T210248Z
LAST-MODIFIED:20260104T210248Z
UID:10003313-1866394800-1866398400@mtgileadbc.org
SUMMARY:Bible Study for All Ages
DESCRIPTION:
URL:https://mtgileadbc.org/event/bible-study-for-all-ages/2029-02-21/
CATEGORIES:Adult Ministry,All are Welcome,Kids Ministry,Women Ministry
END:VEVENT
BEGIN:VEVENT
DTSTART;TZID=America/Chicago:20290225T100000
DTEND;TZID=America/Chicago:20290225T110000
DTSTAMP:20260420T015419
CREATED:20260104T205141Z
LAST-MODIFIED:20260104T205141Z
UID:10002529-1866708000-1866711600@mtgileadbc.org
SUMMARY:Sunday School All-Ages
DESCRIPTION:
URL:https://mtgileadbc.org/event/sunday-school-all-ages/2029-02-25/
LOCATION:Mt Gilead Baptist Church\, 5751 Highway 104 N\, Cedar Grove\, TN\, 38321\, United States
CATEGORIES:Adult Ministry,All are Welcome,Kids Ministry,Women Ministry
END:VEVENT
BEGIN:VEVENT
DTSTART;TZID=America/Chicago:20290225T110000
DTEND;TZID=America/Chicago:20290225T120000
DTSTAMP:20260420T015419
CREATED:20260201T142652Z
LAST-MODIFIED:20260201T142753Z
UID:10002268-1866711600-1866715200@mtgileadbc.org
SUMMARY:Sunday Morning Service
DESCRIPTION:
URL:https://mtgileadbc.org/event/sunday-morning-service-2/2029-02-25/
CATEGORIES:Adult Ministry,All are Welcome,Kids Ministry,Women Ministry
END:VEVENT
BEGIN:VEVENT
DTSTART;TZID=America/Chicago:20290228T190000
DTEND;TZID=America/Chicago:20290228T200000
DTSTAMP:20260420T015419
CREATED:20260104T210101Z
LAST-MODIFIED:20260104T210101Z
UID:10003053-1866999600-1867003200@mtgileadbc.org
SUMMARY:Business Meeting
DESCRIPTION:
URL:https://mtgileadbc.org/event/business-meeting/2029-02-28/
CATEGORIES:Adult Ministry
END:VEVENT
BEGIN:VEVENT
DTSTART;TZID=America/Chicago:20290228T190000
DTEND;TZID=America/Chicago:20290228T200000
DTSTAMP:20260420T015419
CREATED:20260104T210248Z
LAST-MODIFIED:20260104T210248Z
UID:10003314-1866999600-1867003200@mtgileadbc.org
SUMMARY:Bible Study for All Ages
DESCRIPTION:
URL:https://mtgileadbc.org/event/bible-study-for-all-ages/2029-02-28/
CATEGORIES:Adult Ministry,All are Welcome,Kids Ministry,Women Ministry
END:VEVENT
BEGIN:VEVENT
DTSTART;TZID=America/Chicago:20290304T100000
DTEND;TZID=America/Chicago:20290304T110000
DTSTAMP:20260420T015419
CREATED:20260104T205141Z
LAST-MODIFIED:20260104T205141Z
UID:10002530-1867312800-1867316400@mtgileadbc.org
SUMMARY:Sunday School All-Ages
DESCRIPTION:
URL:https://mtgileadbc.org/event/sunday-school-all-ages/2029-03-04/
LOCATION:Mt Gilead Baptist Church\, 5751 Highway 104 N\, Cedar Grove\, TN\, 38321\, United States
CATEGORIES:Adult Ministry,All are Welcome,Kids Ministry,Women Ministry
END:VEVENT
BEGIN:VEVENT
DTSTART;TZID=America/Chicago:20290304T110000
DTEND;TZID=America/Chicago:20290304T120000
DTSTAMP:20260420T015419
CREATED:20260201T142652Z
LAST-MODIFIED:20260201T142753Z
UID:10002269-1867316400-1867320000@mtgileadbc.org
SUMMARY:Sunday Morning Service
DESCRIPTION:
URL:https://mtgileadbc.org/event/sunday-morning-service-2/2029-03-04/
CATEGORIES:Adult Ministry,All are Welcome,Kids Ministry,Women Ministry
END:VEVENT
BEGIN:VEVENT
DTSTART;TZID=America/Chicago:20290307T190000
DTEND;TZID=America/Chicago:20290307T200000
DTSTAMP:20260420T015419
CREATED:20260104T210101Z
LAST-MODIFIED:20260104T210101Z
UID:10003054-1867604400-1867608000@mtgileadbc.org
SUMMARY:Business Meeting
DESCRIPTION:
URL:https://mtgileadbc.org/event/business-meeting/2029-03-07/
CATEGORIES:Adult Ministry
END:VEVENT
BEGIN:VEVENT
DTSTART;TZID=America/Chicago:20290307T190000
DTEND;TZID=America/Chicago:20290307T200000
DTSTAMP:20260420T015419
CREATED:20260104T210248Z
LAST-MODIFIED:20260104T210248Z
UID:10003315-1867604400-1867608000@mtgileadbc.org
SUMMARY:Bible Study for All Ages
DESCRIPTION:
URL:https://mtgileadbc.org/event/bible-study-for-all-ages/2029-03-07/
CATEGORIES:Adult Ministry,All are Welcome,Kids Ministry,Women Ministry
END:VEVENT
END:VCALENDAR