BEGIN:VCALENDAR
VERSION:2.0
PRODID:-//Mt Gilead Baptist Church - ECPv6.15.15//NONSGML v1.0//EN
CALSCALE:GREGORIAN
METHOD:PUBLISH
X-WR-CALNAME:Mt Gilead Baptist Church
X-ORIGINAL-URL:https://mtgileadbc.org
X-WR-CALDESC:Events for Mt Gilead Baptist Church
REFRESH-INTERVAL;VALUE=DURATION:PT1H
X-Robots-Tag:noindex
X-PUBLISHED-TTL:PT1H
BEGIN:VTIMEZONE
TZID:America/Chicago
BEGIN:DAYLIGHT
TZOFFSETFROM:-0600
TZOFFSETTO:-0500
TZNAME:CDT
DTSTART:20280312T080000
END:DAYLIGHT
BEGIN:STANDARD
TZOFFSETFROM:-0500
TZOFFSETTO:-0600
TZNAME:CST
DTSTART:20281105T070000
END:STANDARD
BEGIN:DAYLIGHT
TZOFFSETFROM:-0600
TZOFFSETTO:-0500
TZNAME:CDT
DTSTART:20290311T080000
END:DAYLIGHT
BEGIN:STANDARD
TZOFFSETFROM:-0500
TZOFFSETTO:-0600
TZNAME:CST
DTSTART:20291104T070000
END:STANDARD
BEGIN:DAYLIGHT
TZOFFSETFROM:-0600
TZOFFSETTO:-0500
TZNAME:CDT
DTSTART:20300310T080000
END:DAYLIGHT
BEGIN:STANDARD
TZOFFSETFROM:-0500
TZOFFSETTO:-0600
TZNAME:CST
DTSTART:20301103T070000
END:STANDARD
END:VTIMEZONE
BEGIN:VEVENT
DTSTART;TZID=America/Chicago:20290606T190000
DTEND;TZID=America/Chicago:20290606T200000
DTSTAMP:20260421T120115
CREATED:20260104T210248Z
LAST-MODIFIED:20260104T210248Z
UID:10003328-1875466800-1875470400@mtgileadbc.org
SUMMARY:Bible Study for All Ages
DESCRIPTION:
URL:https://mtgileadbc.org/event/bible-study-for-all-ages/2029-06-06/
CATEGORIES:Adult Ministry,All are Welcome,Kids Ministry,Women Ministry
END:VEVENT
BEGIN:VEVENT
DTSTART;TZID=America/Chicago:20290610T100000
DTEND;TZID=America/Chicago:20290610T110000
DTSTAMP:20260421T120115
CREATED:20260104T205141Z
LAST-MODIFIED:20260104T205141Z
UID:10002544-1875780000-1875783600@mtgileadbc.org
SUMMARY:Sunday School All-Ages
DESCRIPTION:
URL:https://mtgileadbc.org/event/sunday-school-all-ages/2029-06-10/
LOCATION:Mt Gilead Baptist Church\, 5751 Highway 104 N\, Cedar Grove\, TN\, 38321\, United States
CATEGORIES:Adult Ministry,All are Welcome,Kids Ministry,Women Ministry
END:VEVENT
BEGIN:VEVENT
DTSTART;TZID=America/Chicago:20290610T110000
DTEND;TZID=America/Chicago:20290610T120000
DTSTAMP:20260421T120115
CREATED:20260201T142652Z
LAST-MODIFIED:20260201T142753Z
UID:10002283-1875783600-1875787200@mtgileadbc.org
SUMMARY:Sunday Morning Service
DESCRIPTION:
URL:https://mtgileadbc.org/event/sunday-morning-service-2/2029-06-10/
CATEGORIES:Adult Ministry,All are Welcome,Kids Ministry,Women Ministry
END:VEVENT
BEGIN:VEVENT
DTSTART;TZID=America/Chicago:20290610T180000
DTEND;TZID=America/Chicago:20290610T190000
DTSTAMP:20260421T120115
CREATED:20260201T143349Z
LAST-MODIFIED:20260201T143350Z
UID:10002022-1875808800-1875812400@mtgileadbc.org
SUMMARY:Sunday Evening Service
DESCRIPTION:
URL:https://mtgileadbc.org/event/sunday-evening-service-2/2029-06-10/
CATEGORIES:All are Welcome
END:VEVENT
BEGIN:VEVENT
DTSTART;TZID=America/Chicago:20290613T180000
DTEND;TZID=America/Chicago:20290613T190000
DTSTAMP:20260421T120115
CREATED:20260104T205947Z
LAST-MODIFIED:20260104T205947Z
UID:10002807-1876068000-1876071600@mtgileadbc.org
SUMMARY:Youth Fellowship & Meal
DESCRIPTION:
URL:https://mtgileadbc.org/event/youth-fellowship-meal/2029-06-13/
CATEGORIES:All are Welcome
END:VEVENT
BEGIN:VEVENT
DTSTART;TZID=America/Chicago:20290613T190000
DTEND;TZID=America/Chicago:20290613T200000
DTSTAMP:20260421T120115
CREATED:20260104T210248Z
LAST-MODIFIED:20260104T210248Z
UID:10003329-1876071600-1876075200@mtgileadbc.org
SUMMARY:Bible Study for All Ages
DESCRIPTION:
URL:https://mtgileadbc.org/event/bible-study-for-all-ages/2029-06-13/
CATEGORIES:Adult Ministry,All are Welcome,Kids Ministry,Women Ministry
END:VEVENT
BEGIN:VEVENT
DTSTART;TZID=America/Chicago:20290617T100000
DTEND;TZID=America/Chicago:20290617T110000
DTSTAMP:20260421T120115
CREATED:20260104T205141Z
LAST-MODIFIED:20260104T205141Z
UID:10002545-1876384800-1876388400@mtgileadbc.org
SUMMARY:Sunday School All-Ages
DESCRIPTION:
URL:https://mtgileadbc.org/event/sunday-school-all-ages/2029-06-17/
LOCATION:Mt Gilead Baptist Church\, 5751 Highway 104 N\, Cedar Grove\, TN\, 38321\, United States
CATEGORIES:Adult Ministry,All are Welcome,Kids Ministry,Women Ministry
END:VEVENT
BEGIN:VEVENT
DTSTART;TZID=America/Chicago:20290617T110000
DTEND;TZID=America/Chicago:20290617T120000
DTSTAMP:20260421T120115
CREATED:20260201T142652Z
LAST-MODIFIED:20260201T142753Z
UID:10002284-1876388400-1876392000@mtgileadbc.org
SUMMARY:Sunday Morning Service
DESCRIPTION:
URL:https://mtgileadbc.org/event/sunday-morning-service-2/2029-06-17/
CATEGORIES:Adult Ministry,All are Welcome,Kids Ministry,Women Ministry
END:VEVENT
BEGIN:VEVENT
DTSTART;TZID=America/Chicago:20290617T180000
DTEND;TZID=America/Chicago:20290617T190000
DTSTAMP:20260421T120115
CREATED:20260201T143349Z
LAST-MODIFIED:20260201T143350Z
UID:10002023-1876413600-1876417200@mtgileadbc.org
SUMMARY:Sunday Evening Service
DESCRIPTION:
URL:https://mtgileadbc.org/event/sunday-evening-service-2/2029-06-17/
CATEGORIES:All are Welcome
END:VEVENT
BEGIN:VEVENT
DTSTART;TZID=America/Chicago:20290620T180000
DTEND;TZID=America/Chicago:20290620T190000
DTSTAMP:20260421T120115
CREATED:20260104T205947Z
LAST-MODIFIED:20260104T205947Z
UID:10002808-1876672800-1876676400@mtgileadbc.org
SUMMARY:Youth Fellowship & Meal
DESCRIPTION:
URL:https://mtgileadbc.org/event/youth-fellowship-meal/2029-06-20/
CATEGORIES:All are Welcome
END:VEVENT
BEGIN:VEVENT
DTSTART;TZID=America/Chicago:20290620T190000
DTEND;TZID=America/Chicago:20290620T200000
DTSTAMP:20260421T120115
CREATED:20260104T210248Z
LAST-MODIFIED:20260104T210248Z
UID:10003330-1876676400-1876680000@mtgileadbc.org
SUMMARY:Bible Study for All Ages
DESCRIPTION:
URL:https://mtgileadbc.org/event/bible-study-for-all-ages/2029-06-20/
CATEGORIES:Adult Ministry,All are Welcome,Kids Ministry,Women Ministry
END:VEVENT
BEGIN:VEVENT
DTSTART;TZID=America/Chicago:20290624T100000
DTEND;TZID=America/Chicago:20290624T110000
DTSTAMP:20260421T120115
CREATED:20260104T205141Z
LAST-MODIFIED:20260104T205141Z
UID:10002546-1876989600-1876993200@mtgileadbc.org
SUMMARY:Sunday School All-Ages
DESCRIPTION:
URL:https://mtgileadbc.org/event/sunday-school-all-ages/2029-06-24/
LOCATION:Mt Gilead Baptist Church\, 5751 Highway 104 N\, Cedar Grove\, TN\, 38321\, United States
CATEGORIES:Adult Ministry,All are Welcome,Kids Ministry,Women Ministry
END:VEVENT
BEGIN:VEVENT
DTSTART;TZID=America/Chicago:20290624T110000
DTEND;TZID=America/Chicago:20290624T120000
DTSTAMP:20260421T120115
CREATED:20260201T142652Z
LAST-MODIFIED:20260201T142753Z
UID:10002285-1876993200-1876996800@mtgileadbc.org
SUMMARY:Sunday Morning Service
DESCRIPTION:
URL:https://mtgileadbc.org/event/sunday-morning-service-2/2029-06-24/
CATEGORIES:Adult Ministry,All are Welcome,Kids Ministry,Women Ministry
END:VEVENT
BEGIN:VEVENT
DTSTART;TZID=America/Chicago:20290624T180000
DTEND;TZID=America/Chicago:20290624T190000
DTSTAMP:20260421T120115
CREATED:20260201T143349Z
LAST-MODIFIED:20260201T143350Z
UID:10002024-1877018400-1877022000@mtgileadbc.org
SUMMARY:Sunday Evening Service
DESCRIPTION:
URL:https://mtgileadbc.org/event/sunday-evening-service-2/2029-06-24/
CATEGORIES:All are Welcome
END:VEVENT
BEGIN:VEVENT
DTSTART;TZID=America/Chicago:20290627T180000
DTEND;TZID=America/Chicago:20290627T190000
DTSTAMP:20260421T120115
CREATED:20260104T205947Z
LAST-MODIFIED:20260104T205947Z
UID:10002809-1877277600-1877281200@mtgileadbc.org
SUMMARY:Youth Fellowship & Meal
DESCRIPTION:
URL:https://mtgileadbc.org/event/youth-fellowship-meal/2029-06-27/
CATEGORIES:All are Welcome
END:VEVENT
BEGIN:VEVENT
DTSTART;TZID=America/Chicago:20290627T190000
DTEND;TZID=America/Chicago:20290627T200000
DTSTAMP:20260421T120115
CREATED:20260104T210248Z
LAST-MODIFIED:20260104T210248Z
UID:10003331-1877281200-1877284800@mtgileadbc.org
SUMMARY:Bible Study for All Ages
DESCRIPTION:
URL:https://mtgileadbc.org/event/bible-study-for-all-ages/2029-06-27/
CATEGORIES:Adult Ministry,All are Welcome,Kids Ministry,Women Ministry
END:VEVENT
BEGIN:VEVENT
DTSTART;TZID=America/Chicago:20290701T100000
DTEND;TZID=America/Chicago:20290701T110000
DTSTAMP:20260421T120115
CREATED:20260104T205141Z
LAST-MODIFIED:20260104T205141Z
UID:10002547-1877594400-1877598000@mtgileadbc.org
SUMMARY:Sunday School All-Ages
DESCRIPTION:
URL:https://mtgileadbc.org/event/sunday-school-all-ages/2029-07-01/
LOCATION:Mt Gilead Baptist Church\, 5751 Highway 104 N\, Cedar Grove\, TN\, 38321\, United States
CATEGORIES:Adult Ministry,All are Welcome,Kids Ministry,Women Ministry
END:VEVENT
BEGIN:VEVENT
DTSTART;TZID=America/Chicago:20290701T110000
DTEND;TZID=America/Chicago:20290701T120000
DTSTAMP:20260421T120115
CREATED:20260201T142652Z
LAST-MODIFIED:20260201T142753Z
UID:10002286-1877598000-1877601600@mtgileadbc.org
SUMMARY:Sunday Morning Service
DESCRIPTION:
URL:https://mtgileadbc.org/event/sunday-morning-service-2/2029-07-01/
CATEGORIES:Adult Ministry,All are Welcome,Kids Ministry,Women Ministry
END:VEVENT
BEGIN:VEVENT
DTSTART;TZID=America/Chicago:20290701T180000
DTEND;TZID=America/Chicago:20290701T190000
DTSTAMP:20260421T120115
CREATED:20260201T143349Z
LAST-MODIFIED:20260201T143350Z
UID:10002025-1877623200-1877626800@mtgileadbc.org
SUMMARY:Sunday Evening Service
DESCRIPTION:
URL:https://mtgileadbc.org/event/sunday-evening-service-2/2029-07-01/
CATEGORIES:All are Welcome
END:VEVENT
BEGIN:VEVENT
DTSTART;TZID=America/Chicago:20290704T180000
DTEND;TZID=America/Chicago:20290704T190000
DTSTAMP:20260421T120115
CREATED:20260104T205947Z
LAST-MODIFIED:20260104T205947Z
UID:10002810-1877882400-1877886000@mtgileadbc.org
SUMMARY:Youth Fellowship & Meal
DESCRIPTION:
URL:https://mtgileadbc.org/event/youth-fellowship-meal/2029-07-04/
CATEGORIES:All are Welcome
END:VEVENT
BEGIN:VEVENT
DTSTART;TZID=America/Chicago:20290704T190000
DTEND;TZID=America/Chicago:20290704T200000
DTSTAMP:20260421T120115
CREATED:20260104T210248Z
LAST-MODIFIED:20260104T210248Z
UID:10003332-1877886000-1877889600@mtgileadbc.org
SUMMARY:Bible Study for All Ages
DESCRIPTION:
URL:https://mtgileadbc.org/event/bible-study-for-all-ages/2029-07-04/
CATEGORIES:Adult Ministry,All are Welcome,Kids Ministry,Women Ministry
END:VEVENT
BEGIN:VEVENT
DTSTART;TZID=America/Chicago:20290708T100000
DTEND;TZID=America/Chicago:20290708T110000
DTSTAMP:20260421T120115
CREATED:20260104T205141Z
LAST-MODIFIED:20260104T205141Z
UID:10002548-1878199200-1878202800@mtgileadbc.org
SUMMARY:Sunday School All-Ages
DESCRIPTION:
URL:https://mtgileadbc.org/event/sunday-school-all-ages/2029-07-08/
LOCATION:Mt Gilead Baptist Church\, 5751 Highway 104 N\, Cedar Grove\, TN\, 38321\, United States
CATEGORIES:Adult Ministry,All are Welcome,Kids Ministry,Women Ministry
END:VEVENT
BEGIN:VEVENT
DTSTART;TZID=America/Chicago:20290708T110000
DTEND;TZID=America/Chicago:20290708T120000
DTSTAMP:20260421T120115
CREATED:20260201T142652Z
LAST-MODIFIED:20260201T142753Z
UID:10002287-1878202800-1878206400@mtgileadbc.org
SUMMARY:Sunday Morning Service
DESCRIPTION:
URL:https://mtgileadbc.org/event/sunday-morning-service-2/2029-07-08/
CATEGORIES:Adult Ministry,All are Welcome,Kids Ministry,Women Ministry
END:VEVENT
BEGIN:VEVENT
DTSTART;TZID=America/Chicago:20290708T180000
DTEND;TZID=America/Chicago:20290708T190000
DTSTAMP:20260421T120115
CREATED:20260201T143349Z
LAST-MODIFIED:20260201T143350Z
UID:10002026-1878228000-1878231600@mtgileadbc.org
SUMMARY:Sunday Evening Service
DESCRIPTION:
URL:https://mtgileadbc.org/event/sunday-evening-service-2/2029-07-08/
CATEGORIES:All are Welcome
END:VEVENT
BEGIN:VEVENT
DTSTART;TZID=America/Chicago:20290711T180000
DTEND;TZID=America/Chicago:20290711T190000
DTSTAMP:20260421T120115
CREATED:20260104T205947Z
LAST-MODIFIED:20260104T205947Z
UID:10002811-1878487200-1878490800@mtgileadbc.org
SUMMARY:Youth Fellowship & Meal
DESCRIPTION:
URL:https://mtgileadbc.org/event/youth-fellowship-meal/2029-07-11/
CATEGORIES:All are Welcome
END:VEVENT
BEGIN:VEVENT
DTSTART;TZID=America/Chicago:20290711T190000
DTEND;TZID=America/Chicago:20290711T200000
DTSTAMP:20260421T120115
CREATED:20260104T210248Z
LAST-MODIFIED:20260104T210248Z
UID:10003333-1878490800-1878494400@mtgileadbc.org
SUMMARY:Bible Study for All Ages
DESCRIPTION:
URL:https://mtgileadbc.org/event/bible-study-for-all-ages/2029-07-11/
CATEGORIES:Adult Ministry,All are Welcome,Kids Ministry,Women Ministry
END:VEVENT
BEGIN:VEVENT
DTSTART;TZID=America/Chicago:20290715T100000
DTEND;TZID=America/Chicago:20290715T110000
DTSTAMP:20260421T120115
CREATED:20260104T205141Z
LAST-MODIFIED:20260104T205141Z
UID:10002549-1878804000-1878807600@mtgileadbc.org
SUMMARY:Sunday School All-Ages
DESCRIPTION:
URL:https://mtgileadbc.org/event/sunday-school-all-ages/2029-07-15/
LOCATION:Mt Gilead Baptist Church\, 5751 Highway 104 N\, Cedar Grove\, TN\, 38321\, United States
CATEGORIES:Adult Ministry,All are Welcome,Kids Ministry,Women Ministry
END:VEVENT
BEGIN:VEVENT
DTSTART;TZID=America/Chicago:20290715T110000
DTEND;TZID=America/Chicago:20290715T120000
DTSTAMP:20260421T120115
CREATED:20260201T142652Z
LAST-MODIFIED:20260201T142753Z
UID:10002288-1878807600-1878811200@mtgileadbc.org
SUMMARY:Sunday Morning Service
DESCRIPTION:
URL:https://mtgileadbc.org/event/sunday-morning-service-2/2029-07-15/
CATEGORIES:Adult Ministry,All are Welcome,Kids Ministry,Women Ministry
END:VEVENT
BEGIN:VEVENT
DTSTART;TZID=America/Chicago:20290715T180000
DTEND;TZID=America/Chicago:20290715T190000
DTSTAMP:20260421T120115
CREATED:20260201T143349Z
LAST-MODIFIED:20260201T143350Z
UID:10002027-1878832800-1878836400@mtgileadbc.org
SUMMARY:Sunday Evening Service
DESCRIPTION:
URL:https://mtgileadbc.org/event/sunday-evening-service-2/2029-07-15/
CATEGORIES:All are Welcome
END:VEVENT
BEGIN:VEVENT
DTSTART;TZID=America/Chicago:20290718T180000
DTEND;TZID=America/Chicago:20290718T190000
DTSTAMP:20260421T120115
CREATED:20260104T205947Z
LAST-MODIFIED:20260104T205947Z
UID:10002812-1879092000-1879095600@mtgileadbc.org
SUMMARY:Youth Fellowship & Meal
DESCRIPTION:
URL:https://mtgileadbc.org/event/youth-fellowship-meal/2029-07-18/
CATEGORIES:All are Welcome
END:VEVENT
END:VCALENDAR