BEGIN:VCALENDAR
VERSION:2.0
PRODID:-//Mt Gilead Baptist Church - ECPv6.15.15//NONSGML v1.0//EN
CALSCALE:GREGORIAN
METHOD:PUBLISH
X-ORIGINAL-URL:https://mtgileadbc.org
X-WR-CALDESC:Events for Mt Gilead Baptist Church
REFRESH-INTERVAL;VALUE=DURATION:PT1H
X-Robots-Tag:noindex
X-PUBLISHED-TTL:PT1H
BEGIN:VTIMEZONE
TZID:America/Chicago
BEGIN:DAYLIGHT
TZOFFSETFROM:-0600
TZOFFSETTO:-0500
TZNAME:CDT
DTSTART:20290311T080000
END:DAYLIGHT
BEGIN:STANDARD
TZOFFSETFROM:-0500
TZOFFSETTO:-0600
TZNAME:CST
DTSTART:20291104T070000
END:STANDARD
BEGIN:DAYLIGHT
TZOFFSETFROM:-0600
TZOFFSETTO:-0500
TZNAME:CDT
DTSTART:20300310T080000
END:DAYLIGHT
BEGIN:STANDARD
TZOFFSETFROM:-0500
TZOFFSETTO:-0600
TZNAME:CST
DTSTART:20301103T070000
END:STANDARD
BEGIN:DAYLIGHT
TZOFFSETFROM:-0600
TZOFFSETTO:-0500
TZNAME:CDT
DTSTART:20310309T080000
END:DAYLIGHT
BEGIN:STANDARD
TZOFFSETFROM:-0500
TZOFFSETTO:-0600
TZNAME:CST
DTSTART:20311102T070000
END:STANDARD
END:VTIMEZONE
BEGIN:VEVENT
DTSTART;TZID=America/Chicago:20300407T100000
DTEND;TZID=America/Chicago:20300407T110000
DTSTAMP:20260422T175636
CREATED:20260104T205141Z
LAST-MODIFIED:20260104T205141Z
UID:10002587-1901786400-1901790000@mtgileadbc.org
SUMMARY:Sunday School All-Ages
DESCRIPTION:
URL:https://mtgileadbc.org/event/sunday-school-all-ages/2030-04-07/
LOCATION:Mt Gilead Baptist Church\, 5751 Highway 104 N\, Cedar Grove\, TN\, 38321\, United States
CATEGORIES:Adult Ministry,All are Welcome,Kids Ministry,Women Ministry
END:VEVENT
BEGIN:VEVENT
DTSTART;TZID=America/Chicago:20300407T110000
DTEND;TZID=America/Chicago:20300407T120000
DTSTAMP:20260422T175636
CREATED:20260201T142652Z
LAST-MODIFIED:20260201T142753Z
UID:10002326-1901790000-1901793600@mtgileadbc.org
SUMMARY:Sunday Morning Service
DESCRIPTION:
URL:https://mtgileadbc.org/event/sunday-morning-service-2/2030-04-07/
CATEGORIES:Adult Ministry,All are Welcome,Kids Ministry,Women Ministry
END:VEVENT
BEGIN:VEVENT
DTSTART;TZID=America/Chicago:20300407T180000
DTEND;TZID=America/Chicago:20300407T190000
DTSTAMP:20260422T175636
CREATED:20260201T143349Z
LAST-MODIFIED:20260201T143350Z
UID:10002065-1901815200-1901818800@mtgileadbc.org
SUMMARY:Sunday Evening Service
DESCRIPTION:
URL:https://mtgileadbc.org/event/sunday-evening-service-2/2030-04-07/
CATEGORIES:All are Welcome
END:VEVENT
BEGIN:VEVENT
DTSTART;TZID=America/Chicago:20300410T180000
DTEND;TZID=America/Chicago:20300410T190000
DTSTAMP:20260422T175636
CREATED:20260104T205947Z
LAST-MODIFIED:20260104T205947Z
UID:10002850-1902074400-1902078000@mtgileadbc.org
SUMMARY:Youth Fellowship & Meal
DESCRIPTION:
URL:https://mtgileadbc.org/event/youth-fellowship-meal/2030-04-10/
CATEGORIES:All are Welcome
END:VEVENT
BEGIN:VEVENT
DTSTART;TZID=America/Chicago:20300410T190000
DTEND;TZID=America/Chicago:20300410T200000
DTSTAMP:20260422T175636
CREATED:20260104T210248Z
LAST-MODIFIED:20260104T210248Z
UID:10003372-1902078000-1902081600@mtgileadbc.org
SUMMARY:Bible Study for All Ages
DESCRIPTION:
URL:https://mtgileadbc.org/event/bible-study-for-all-ages/2030-04-10/
CATEGORIES:Adult Ministry,All are Welcome,Kids Ministry,Women Ministry
END:VEVENT
BEGIN:VEVENT
DTSTART;TZID=America/Chicago:20300414T100000
DTEND;TZID=America/Chicago:20300414T110000
DTSTAMP:20260422T175636
CREATED:20260104T205141Z
LAST-MODIFIED:20260104T205141Z
UID:10002588-1902391200-1902394800@mtgileadbc.org
SUMMARY:Sunday School All-Ages
DESCRIPTION:
URL:https://mtgileadbc.org/event/sunday-school-all-ages/2030-04-14/
LOCATION:Mt Gilead Baptist Church\, 5751 Highway 104 N\, Cedar Grove\, TN\, 38321\, United States
CATEGORIES:Adult Ministry,All are Welcome,Kids Ministry,Women Ministry
END:VEVENT
BEGIN:VEVENT
DTSTART;TZID=America/Chicago:20300414T110000
DTEND;TZID=America/Chicago:20300414T120000
DTSTAMP:20260422T175636
CREATED:20260201T142652Z
LAST-MODIFIED:20260201T142753Z
UID:10002327-1902394800-1902398400@mtgileadbc.org
SUMMARY:Sunday Morning Service
DESCRIPTION:
URL:https://mtgileadbc.org/event/sunday-morning-service-2/2030-04-14/
CATEGORIES:Adult Ministry,All are Welcome,Kids Ministry,Women Ministry
END:VEVENT
BEGIN:VEVENT
DTSTART;TZID=America/Chicago:20300414T180000
DTEND;TZID=America/Chicago:20300414T190000
DTSTAMP:20260422T175636
CREATED:20260201T143349Z
LAST-MODIFIED:20260201T143350Z
UID:10002066-1902420000-1902423600@mtgileadbc.org
SUMMARY:Sunday Evening Service
DESCRIPTION:
URL:https://mtgileadbc.org/event/sunday-evening-service-2/2030-04-14/
CATEGORIES:All are Welcome
END:VEVENT
BEGIN:VEVENT
DTSTART;TZID=America/Chicago:20300417T180000
DTEND;TZID=America/Chicago:20300417T190000
DTSTAMP:20260422T175636
CREATED:20260104T205947Z
LAST-MODIFIED:20260104T205947Z
UID:10002851-1902679200-1902682800@mtgileadbc.org
SUMMARY:Youth Fellowship & Meal
DESCRIPTION:
URL:https://mtgileadbc.org/event/youth-fellowship-meal/2030-04-17/
CATEGORIES:All are Welcome
END:VEVENT
BEGIN:VEVENT
DTSTART;TZID=America/Chicago:20300417T190000
DTEND;TZID=America/Chicago:20300417T200000
DTSTAMP:20260422T175636
CREATED:20260104T210248Z
LAST-MODIFIED:20260104T210248Z
UID:10003373-1902682800-1902686400@mtgileadbc.org
SUMMARY:Bible Study for All Ages
DESCRIPTION:
URL:https://mtgileadbc.org/event/bible-study-for-all-ages/2030-04-17/
CATEGORIES:Adult Ministry,All are Welcome,Kids Ministry,Women Ministry
END:VEVENT
BEGIN:VEVENT
DTSTART;TZID=America/Chicago:20300421T100000
DTEND;TZID=America/Chicago:20300421T110000
DTSTAMP:20260422T175636
CREATED:20260104T205141Z
LAST-MODIFIED:20260104T205141Z
UID:10002589-1902996000-1902999600@mtgileadbc.org
SUMMARY:Sunday School All-Ages
DESCRIPTION:
URL:https://mtgileadbc.org/event/sunday-school-all-ages/2030-04-21/
LOCATION:Mt Gilead Baptist Church\, 5751 Highway 104 N\, Cedar Grove\, TN\, 38321\, United States
CATEGORIES:Adult Ministry,All are Welcome,Kids Ministry,Women Ministry
END:VEVENT
BEGIN:VEVENT
DTSTART;TZID=America/Chicago:20300421T110000
DTEND;TZID=America/Chicago:20300421T120000
DTSTAMP:20260422T175636
CREATED:20260201T142652Z
LAST-MODIFIED:20260201T142753Z
UID:10002328-1902999600-1903003200@mtgileadbc.org
SUMMARY:Sunday Morning Service
DESCRIPTION:
URL:https://mtgileadbc.org/event/sunday-morning-service-2/2030-04-21/
CATEGORIES:Adult Ministry,All are Welcome,Kids Ministry,Women Ministry
END:VEVENT
BEGIN:VEVENT
DTSTART;TZID=America/Chicago:20300421T180000
DTEND;TZID=America/Chicago:20300421T190000
DTSTAMP:20260422T175636
CREATED:20260201T143349Z
LAST-MODIFIED:20260201T143350Z
UID:10002067-1903024800-1903028400@mtgileadbc.org
SUMMARY:Sunday Evening Service
DESCRIPTION:
URL:https://mtgileadbc.org/event/sunday-evening-service-2/2030-04-21/
CATEGORIES:All are Welcome
END:VEVENT
BEGIN:VEVENT
DTSTART;TZID=America/Chicago:20300424T180000
DTEND;TZID=America/Chicago:20300424T190000
DTSTAMP:20260422T175636
CREATED:20260104T205947Z
LAST-MODIFIED:20260104T205947Z
UID:10002852-1903284000-1903287600@mtgileadbc.org
SUMMARY:Youth Fellowship & Meal
DESCRIPTION:
URL:https://mtgileadbc.org/event/youth-fellowship-meal/2030-04-24/
CATEGORIES:All are Welcome
END:VEVENT
BEGIN:VEVENT
DTSTART;TZID=America/Chicago:20300424T190000
DTEND;TZID=America/Chicago:20300424T200000
DTSTAMP:20260422T175636
CREATED:20260104T210248Z
LAST-MODIFIED:20260104T210248Z
UID:10003374-1903287600-1903291200@mtgileadbc.org
SUMMARY:Bible Study for All Ages
DESCRIPTION:
URL:https://mtgileadbc.org/event/bible-study-for-all-ages/2030-04-24/
CATEGORIES:Adult Ministry,All are Welcome,Kids Ministry,Women Ministry
END:VEVENT
BEGIN:VEVENT
DTSTART;TZID=America/Chicago:20300428T100000
DTEND;TZID=America/Chicago:20300428T110000
DTSTAMP:20260422T175636
CREATED:20260104T205141Z
LAST-MODIFIED:20260104T205141Z
UID:10002590-1903600800-1903604400@mtgileadbc.org
SUMMARY:Sunday School All-Ages
DESCRIPTION:
URL:https://mtgileadbc.org/event/sunday-school-all-ages/2030-04-28/
LOCATION:Mt Gilead Baptist Church\, 5751 Highway 104 N\, Cedar Grove\, TN\, 38321\, United States
CATEGORIES:Adult Ministry,All are Welcome,Kids Ministry,Women Ministry
END:VEVENT
BEGIN:VEVENT
DTSTART;TZID=America/Chicago:20300428T110000
DTEND;TZID=America/Chicago:20300428T120000
DTSTAMP:20260422T175636
CREATED:20260201T142652Z
LAST-MODIFIED:20260201T142753Z
UID:10002329-1903604400-1903608000@mtgileadbc.org
SUMMARY:Sunday Morning Service
DESCRIPTION:
URL:https://mtgileadbc.org/event/sunday-morning-service-2/2030-04-28/
CATEGORIES:Adult Ministry,All are Welcome,Kids Ministry,Women Ministry
END:VEVENT
BEGIN:VEVENT
DTSTART;TZID=America/Chicago:20300428T180000
DTEND;TZID=America/Chicago:20300428T190000
DTSTAMP:20260422T175636
CREATED:20260201T143349Z
LAST-MODIFIED:20260201T143350Z
UID:10002068-1903629600-1903633200@mtgileadbc.org
SUMMARY:Sunday Evening Service
DESCRIPTION:
URL:https://mtgileadbc.org/event/sunday-evening-service-2/2030-04-28/
CATEGORIES:All are Welcome
END:VEVENT
BEGIN:VEVENT
DTSTART;TZID=America/Chicago:20300501T180000
DTEND;TZID=America/Chicago:20300501T190000
DTSTAMP:20260422T175636
CREATED:20260104T205947Z
LAST-MODIFIED:20260104T205947Z
UID:10002853-1903888800-1903892400@mtgileadbc.org
SUMMARY:Youth Fellowship & Meal
DESCRIPTION:
URL:https://mtgileadbc.org/event/youth-fellowship-meal/2030-05-01/
CATEGORIES:All are Welcome
END:VEVENT
BEGIN:VEVENT
DTSTART;TZID=America/Chicago:20300501T190000
DTEND;TZID=America/Chicago:20300501T200000
DTSTAMP:20260422T175636
CREATED:20260104T210248Z
LAST-MODIFIED:20260104T210248Z
UID:10003375-1903892400-1903896000@mtgileadbc.org
SUMMARY:Bible Study for All Ages
DESCRIPTION:
URL:https://mtgileadbc.org/event/bible-study-for-all-ages/2030-05-01/
CATEGORIES:Adult Ministry,All are Welcome,Kids Ministry,Women Ministry
END:VEVENT
BEGIN:VEVENT
DTSTART;TZID=America/Chicago:20300505T100000
DTEND;TZID=America/Chicago:20300505T110000
DTSTAMP:20260422T175636
CREATED:20260104T205141Z
LAST-MODIFIED:20260104T205141Z
UID:10002591-1904205600-1904209200@mtgileadbc.org
SUMMARY:Sunday School All-Ages
DESCRIPTION:
URL:https://mtgileadbc.org/event/sunday-school-all-ages/2030-05-05/
LOCATION:Mt Gilead Baptist Church\, 5751 Highway 104 N\, Cedar Grove\, TN\, 38321\, United States
CATEGORIES:Adult Ministry,All are Welcome,Kids Ministry,Women Ministry
END:VEVENT
BEGIN:VEVENT
DTSTART;TZID=America/Chicago:20300505T110000
DTEND;TZID=America/Chicago:20300505T120000
DTSTAMP:20260422T175636
CREATED:20260201T142652Z
LAST-MODIFIED:20260201T142753Z
UID:10002330-1904209200-1904212800@mtgileadbc.org
SUMMARY:Sunday Morning Service
DESCRIPTION:
URL:https://mtgileadbc.org/event/sunday-morning-service-2/2030-05-05/
CATEGORIES:Adult Ministry,All are Welcome,Kids Ministry,Women Ministry
END:VEVENT
BEGIN:VEVENT
DTSTART;TZID=America/Chicago:20300505T180000
DTEND;TZID=America/Chicago:20300505T190000
DTSTAMP:20260422T175636
CREATED:20260201T143349Z
LAST-MODIFIED:20260201T143350Z
UID:10002069-1904234400-1904238000@mtgileadbc.org
SUMMARY:Sunday Evening Service
DESCRIPTION:
URL:https://mtgileadbc.org/event/sunday-evening-service-2/2030-05-05/
CATEGORIES:All are Welcome
END:VEVENT
BEGIN:VEVENT
DTSTART;TZID=America/Chicago:20300508T180000
DTEND;TZID=America/Chicago:20300508T190000
DTSTAMP:20260422T175636
CREATED:20260104T205947Z
LAST-MODIFIED:20260104T205947Z
UID:10002854-1904493600-1904497200@mtgileadbc.org
SUMMARY:Youth Fellowship & Meal
DESCRIPTION:
URL:https://mtgileadbc.org/event/youth-fellowship-meal/2030-05-08/
CATEGORIES:All are Welcome
END:VEVENT
BEGIN:VEVENT
DTSTART;TZID=America/Chicago:20300508T190000
DTEND;TZID=America/Chicago:20300508T200000
DTSTAMP:20260422T175636
CREATED:20260104T210248Z
LAST-MODIFIED:20260104T210248Z
UID:10003376-1904497200-1904500800@mtgileadbc.org
SUMMARY:Bible Study for All Ages
DESCRIPTION:
URL:https://mtgileadbc.org/event/bible-study-for-all-ages/2030-05-08/
CATEGORIES:Adult Ministry,All are Welcome,Kids Ministry,Women Ministry
END:VEVENT
BEGIN:VEVENT
DTSTART;TZID=America/Chicago:20300512T100000
DTEND;TZID=America/Chicago:20300512T110000
DTSTAMP:20260422T175636
CREATED:20260104T205141Z
LAST-MODIFIED:20260104T205141Z
UID:10002592-1904810400-1904814000@mtgileadbc.org
SUMMARY:Sunday School All-Ages
DESCRIPTION:
URL:https://mtgileadbc.org/event/sunday-school-all-ages/2030-05-12/
LOCATION:Mt Gilead Baptist Church\, 5751 Highway 104 N\, Cedar Grove\, TN\, 38321\, United States
CATEGORIES:Adult Ministry,All are Welcome,Kids Ministry,Women Ministry
END:VEVENT
BEGIN:VEVENT
DTSTART;TZID=America/Chicago:20300512T110000
DTEND;TZID=America/Chicago:20300512T120000
DTSTAMP:20260422T175636
CREATED:20260201T142652Z
LAST-MODIFIED:20260201T142753Z
UID:10002331-1904814000-1904817600@mtgileadbc.org
SUMMARY:Sunday Morning Service
DESCRIPTION:
URL:https://mtgileadbc.org/event/sunday-morning-service-2/2030-05-12/
CATEGORIES:Adult Ministry,All are Welcome,Kids Ministry,Women Ministry
END:VEVENT
BEGIN:VEVENT
DTSTART;TZID=America/Chicago:20300512T180000
DTEND;TZID=America/Chicago:20300512T190000
DTSTAMP:20260422T175636
CREATED:20260201T143349Z
LAST-MODIFIED:20260201T143350Z
UID:10002070-1904839200-1904842800@mtgileadbc.org
SUMMARY:Sunday Evening Service
DESCRIPTION:
URL:https://mtgileadbc.org/event/sunday-evening-service-2/2030-05-12/
CATEGORIES:All are Welcome
END:VEVENT
BEGIN:VEVENT
DTSTART;TZID=America/Chicago:20300515T180000
DTEND;TZID=America/Chicago:20300515T190000
DTSTAMP:20260422T175636
CREATED:20260104T205947Z
LAST-MODIFIED:20260104T205947Z
UID:10002855-1905098400-1905102000@mtgileadbc.org
SUMMARY:Youth Fellowship & Meal
DESCRIPTION:
URL:https://mtgileadbc.org/event/youth-fellowship-meal/2030-05-15/
CATEGORIES:All are Welcome
END:VEVENT
BEGIN:VEVENT
DTSTART;TZID=America/Chicago:20300515T190000
DTEND;TZID=America/Chicago:20300515T200000
DTSTAMP:20260422T175636
CREATED:20260104T210248Z
LAST-MODIFIED:20260104T210248Z
UID:10003377-1905102000-1905105600@mtgileadbc.org
SUMMARY:Bible Study for All Ages
DESCRIPTION:
URL:https://mtgileadbc.org/event/bible-study-for-all-ages/2030-05-15/
CATEGORIES:Adult Ministry,All are Welcome,Kids Ministry,Women Ministry
END:VEVENT
END:VCALENDAR