BEGIN:VCALENDAR
VERSION:2.0
PRODID:-//Mt Gilead Baptist Church - ECPv6.15.15//NONSGML v1.0//EN
CALSCALE:GREGORIAN
METHOD:PUBLISH
X-WR-CALNAME:Mt Gilead Baptist Church
X-ORIGINAL-URL:https://mtgileadbc.org
X-WR-CALDESC:Events for Mt Gilead Baptist Church
REFRESH-INTERVAL;VALUE=DURATION:PT1H
X-Robots-Tag:noindex
X-PUBLISHED-TTL:PT1H
BEGIN:VTIMEZONE
TZID:America/Chicago
BEGIN:DAYLIGHT
TZOFFSETFROM:-0600
TZOFFSETTO:-0500
TZNAME:CDT
DTSTART:20290311T080000
END:DAYLIGHT
BEGIN:STANDARD
TZOFFSETFROM:-0500
TZOFFSETTO:-0600
TZNAME:CST
DTSTART:20291104T070000
END:STANDARD
BEGIN:DAYLIGHT
TZOFFSETFROM:-0600
TZOFFSETTO:-0500
TZNAME:CDT
DTSTART:20300310T080000
END:DAYLIGHT
BEGIN:STANDARD
TZOFFSETFROM:-0500
TZOFFSETTO:-0600
TZNAME:CST
DTSTART:20301103T070000
END:STANDARD
BEGIN:DAYLIGHT
TZOFFSETFROM:-0600
TZOFFSETTO:-0500
TZNAME:CDT
DTSTART:20310309T080000
END:DAYLIGHT
BEGIN:STANDARD
TZOFFSETFROM:-0500
TZOFFSETTO:-0600
TZNAME:CST
DTSTART:20311102T070000
END:STANDARD
BEGIN:DAYLIGHT
TZOFFSETFROM:-0600
TZOFFSETTO:-0500
TZNAME:CDT
DTSTART:20320314T080000
END:DAYLIGHT
BEGIN:STANDARD
TZOFFSETFROM:-0500
TZOFFSETTO:-0600
TZNAME:CST
DTSTART:20321107T070000
END:STANDARD
END:VTIMEZONE
BEGIN:VEVENT
DTSTART;TZID=America/Chicago:20301222T100000
DTEND;TZID=America/Chicago:20301222T110000
DTSTAMP:20260423T201139
CREATED:20260104T205141Z
LAST-MODIFIED:20260104T205141Z
UID:10002624-1924164000-1924167600@mtgileadbc.org
SUMMARY:Sunday School All-Ages
DESCRIPTION:
URL:https://mtgileadbc.org/event/sunday-school-all-ages/2030-12-22/
LOCATION:Mt Gilead Baptist Church\, 5751 Highway 104 N\, Cedar Grove\, TN\, 38321\, United States
CATEGORIES:Adult Ministry,All are Welcome,Kids Ministry,Women Ministry
END:VEVENT
BEGIN:VEVENT
DTSTART;TZID=America/Chicago:20301222T110000
DTEND;TZID=America/Chicago:20301222T120000
DTSTAMP:20260423T201139
CREATED:20260201T142652Z
LAST-MODIFIED:20260201T142753Z
UID:10002363-1924167600-1924171200@mtgileadbc.org
SUMMARY:Sunday Morning Service
DESCRIPTION:
URL:https://mtgileadbc.org/event/sunday-morning-service-2/2030-12-22/
CATEGORIES:Adult Ministry,All are Welcome,Kids Ministry,Women Ministry
END:VEVENT
BEGIN:VEVENT
DTSTART;TZID=America/Chicago:20301222T180000
DTEND;TZID=America/Chicago:20301222T190000
DTSTAMP:20260423T201139
CREATED:20260201T143349Z
LAST-MODIFIED:20260201T143350Z
UID:10002102-1924192800-1924196400@mtgileadbc.org
SUMMARY:Sunday Evening Service
DESCRIPTION:
URL:https://mtgileadbc.org/event/sunday-evening-service-2/2030-12-22/
CATEGORIES:All are Welcome
END:VEVENT
BEGIN:VEVENT
DTSTART;TZID=America/Chicago:20301225T180000
DTEND;TZID=America/Chicago:20301225T190000
DTSTAMP:20260423T201139
CREATED:20260104T205947Z
LAST-MODIFIED:20260104T205947Z
UID:10002887-1924452000-1924455600@mtgileadbc.org
SUMMARY:Youth Fellowship & Meal
DESCRIPTION:
URL:https://mtgileadbc.org/event/youth-fellowship-meal/2030-12-25/
CATEGORIES:All are Welcome
END:VEVENT
BEGIN:VEVENT
DTSTART;TZID=America/Chicago:20301225T190000
DTEND;TZID=America/Chicago:20301225T200000
DTSTAMP:20260423T201139
CREATED:20260104T210248Z
LAST-MODIFIED:20260104T210248Z
UID:10003409-1924455600-1924459200@mtgileadbc.org
SUMMARY:Bible Study for All Ages
DESCRIPTION:
URL:https://mtgileadbc.org/event/bible-study-for-all-ages/2030-12-25/
CATEGORIES:Adult Ministry,All are Welcome,Kids Ministry,Women Ministry
END:VEVENT
BEGIN:VEVENT
DTSTART;TZID=America/Chicago:20301229T100000
DTEND;TZID=America/Chicago:20301229T110000
DTSTAMP:20260423T201139
CREATED:20260104T205141Z
LAST-MODIFIED:20260104T205141Z
UID:10002625-1924768800-1924772400@mtgileadbc.org
SUMMARY:Sunday School All-Ages
DESCRIPTION:
URL:https://mtgileadbc.org/event/sunday-school-all-ages/2030-12-29/
LOCATION:Mt Gilead Baptist Church\, 5751 Highway 104 N\, Cedar Grove\, TN\, 38321\, United States
CATEGORIES:Adult Ministry,All are Welcome,Kids Ministry,Women Ministry
END:VEVENT
BEGIN:VEVENT
DTSTART;TZID=America/Chicago:20301229T110000
DTEND;TZID=America/Chicago:20301229T120000
DTSTAMP:20260423T201139
CREATED:20260201T142652Z
LAST-MODIFIED:20260201T142753Z
UID:10002364-1924772400-1924776000@mtgileadbc.org
SUMMARY:Sunday Morning Service
DESCRIPTION:
URL:https://mtgileadbc.org/event/sunday-morning-service-2/2030-12-29/
CATEGORIES:Adult Ministry,All are Welcome,Kids Ministry,Women Ministry
END:VEVENT
BEGIN:VEVENT
DTSTART;TZID=America/Chicago:20301229T180000
DTEND;TZID=America/Chicago:20301229T190000
DTSTAMP:20260423T201139
CREATED:20260201T143349Z
LAST-MODIFIED:20260201T143350Z
UID:10002103-1924797600-1924801200@mtgileadbc.org
SUMMARY:Sunday Evening Service
DESCRIPTION:
URL:https://mtgileadbc.org/event/sunday-evening-service-2/2030-12-29/
CATEGORIES:All are Welcome
END:VEVENT
BEGIN:VEVENT
DTSTART;TZID=America/Chicago:20310101T180000
DTEND;TZID=America/Chicago:20310101T190000
DTSTAMP:20260423T201139
CREATED:20260104T205947Z
LAST-MODIFIED:20260104T205947Z
UID:10002888-1925056800-1925060400@mtgileadbc.org
SUMMARY:Youth Fellowship & Meal
DESCRIPTION:
URL:https://mtgileadbc.org/event/youth-fellowship-meal/2031-01-01/
CATEGORIES:All are Welcome
END:VEVENT
BEGIN:VEVENT
DTSTART;TZID=America/Chicago:20310101T190000
DTEND;TZID=America/Chicago:20310101T200000
DTSTAMP:20260423T201139
CREATED:20260104T210248Z
LAST-MODIFIED:20260104T210248Z
UID:10003410-1925060400-1925064000@mtgileadbc.org
SUMMARY:Bible Study for All Ages
DESCRIPTION:
URL:https://mtgileadbc.org/event/bible-study-for-all-ages/2031-01-01/
CATEGORIES:Adult Ministry,All are Welcome,Kids Ministry,Women Ministry
END:VEVENT
BEGIN:VEVENT
DTSTART;TZID=America/Chicago:20310105T100000
DTEND;TZID=America/Chicago:20310105T110000
DTSTAMP:20260423T201139
CREATED:20260104T205141Z
LAST-MODIFIED:20260104T205141Z
UID:10003419-1925373600-1925377200@mtgileadbc.org
SUMMARY:Sunday School All-Ages
DESCRIPTION:
URL:https://mtgileadbc.org/event/sunday-school-all-ages/2031-01-05/
LOCATION:Mt Gilead Baptist Church\, 5751 Highway 104 N\, Cedar Grove\, TN\, 38321\, United States
CATEGORIES:Adult Ministry,All are Welcome,Kids Ministry,Women Ministry
END:VEVENT
BEGIN:VEVENT
DTSTART;TZID=America/Chicago:20310105T110000
DTEND;TZID=America/Chicago:20310105T120000
DTSTAMP:20260423T201139
CREATED:20260201T142652Z
LAST-MODIFIED:20260201T142753Z
UID:10003411-1925377200-1925380800@mtgileadbc.org
SUMMARY:Sunday Morning Service
DESCRIPTION:
URL:https://mtgileadbc.org/event/sunday-morning-service-2/2031-01-05/
CATEGORIES:Adult Ministry,All are Welcome,Kids Ministry,Women Ministry
END:VEVENT
BEGIN:VEVENT
DTSTART;TZID=America/Chicago:20310105T180000
DTEND;TZID=America/Chicago:20310105T190000
DTSTAMP:20260423T201139
CREATED:20260201T143349Z
LAST-MODIFIED:20260201T143350Z
UID:10003428-1925402400-1925406000@mtgileadbc.org
SUMMARY:Sunday Evening Service
DESCRIPTION:
URL:https://mtgileadbc.org/event/sunday-evening-service-2/2031-01-05/
CATEGORIES:All are Welcome
END:VEVENT
BEGIN:VEVENT
DTSTART;TZID=America/Chicago:20310108T180000
DTEND;TZID=America/Chicago:20310108T190000
DTSTAMP:20260423T201139
CREATED:20260104T205947Z
LAST-MODIFIED:20260104T205947Z
UID:10003438-1925661600-1925665200@mtgileadbc.org
SUMMARY:Youth Fellowship & Meal
DESCRIPTION:
URL:https://mtgileadbc.org/event/youth-fellowship-meal/2031-01-08/
CATEGORIES:All are Welcome
END:VEVENT
BEGIN:VEVENT
DTSTART;TZID=America/Chicago:20310108T190000
DTEND;TZID=America/Chicago:20310108T200000
DTSTAMP:20260423T201139
CREATED:20260104T210248Z
LAST-MODIFIED:20260104T210248Z
UID:10003448-1925665200-1925668800@mtgileadbc.org
SUMMARY:Bible Study for All Ages
DESCRIPTION:
URL:https://mtgileadbc.org/event/bible-study-for-all-ages/2031-01-08/
CATEGORIES:Adult Ministry,All are Welcome,Kids Ministry,Women Ministry
END:VEVENT
BEGIN:VEVENT
DTSTART;TZID=America/Chicago:20310112T100000
DTEND;TZID=America/Chicago:20310112T110000
DTSTAMP:20260423T201139
CREATED:20260104T205141Z
LAST-MODIFIED:20260104T205141Z
UID:10003420-1925978400-1925982000@mtgileadbc.org
SUMMARY:Sunday School All-Ages
DESCRIPTION:
URL:https://mtgileadbc.org/event/sunday-school-all-ages/2031-01-12/
LOCATION:Mt Gilead Baptist Church\, 5751 Highway 104 N\, Cedar Grove\, TN\, 38321\, United States
CATEGORIES:Adult Ministry,All are Welcome,Kids Ministry,Women Ministry
END:VEVENT
BEGIN:VEVENT
DTSTART;TZID=America/Chicago:20310112T110000
DTEND;TZID=America/Chicago:20310112T120000
DTSTAMP:20260423T201139
CREATED:20260201T142652Z
LAST-MODIFIED:20260201T142753Z
UID:10003412-1925982000-1925985600@mtgileadbc.org
SUMMARY:Sunday Morning Service
DESCRIPTION:
URL:https://mtgileadbc.org/event/sunday-morning-service-2/2031-01-12/
CATEGORIES:Adult Ministry,All are Welcome,Kids Ministry,Women Ministry
END:VEVENT
BEGIN:VEVENT
DTSTART;TZID=America/Chicago:20310112T180000
DTEND;TZID=America/Chicago:20310112T190000
DTSTAMP:20260423T201139
CREATED:20260201T143349Z
LAST-MODIFIED:20260201T143350Z
UID:10003429-1926007200-1926010800@mtgileadbc.org
SUMMARY:Sunday Evening Service
DESCRIPTION:
URL:https://mtgileadbc.org/event/sunday-evening-service-2/2031-01-12/
CATEGORIES:All are Welcome
END:VEVENT
BEGIN:VEVENT
DTSTART;TZID=America/Chicago:20310115T180000
DTEND;TZID=America/Chicago:20310115T190000
DTSTAMP:20260423T201139
CREATED:20260104T205947Z
LAST-MODIFIED:20260104T205947Z
UID:10003439-1926266400-1926270000@mtgileadbc.org
SUMMARY:Youth Fellowship & Meal
DESCRIPTION:
URL:https://mtgileadbc.org/event/youth-fellowship-meal/2031-01-15/
CATEGORIES:All are Welcome
END:VEVENT
BEGIN:VEVENT
DTSTART;TZID=America/Chicago:20310115T190000
DTEND;TZID=America/Chicago:20310115T200000
DTSTAMP:20260423T201139
CREATED:20260104T210248Z
LAST-MODIFIED:20260104T210248Z
UID:10003449-1926270000-1926273600@mtgileadbc.org
SUMMARY:Bible Study for All Ages
DESCRIPTION:
URL:https://mtgileadbc.org/event/bible-study-for-all-ages/2031-01-15/
CATEGORIES:Adult Ministry,All are Welcome,Kids Ministry,Women Ministry
END:VEVENT
BEGIN:VEVENT
DTSTART;TZID=America/Chicago:20310119T100000
DTEND;TZID=America/Chicago:20310119T110000
DTSTAMP:20260423T201139
CREATED:20260104T205141Z
LAST-MODIFIED:20260104T205141Z
UID:10003421-1926583200-1926586800@mtgileadbc.org
SUMMARY:Sunday School All-Ages
DESCRIPTION:
URL:https://mtgileadbc.org/event/sunday-school-all-ages/2031-01-19/
LOCATION:Mt Gilead Baptist Church\, 5751 Highway 104 N\, Cedar Grove\, TN\, 38321\, United States
CATEGORIES:Adult Ministry,All are Welcome,Kids Ministry,Women Ministry
END:VEVENT
BEGIN:VEVENT
DTSTART;TZID=America/Chicago:20310119T110000
DTEND;TZID=America/Chicago:20310119T120000
DTSTAMP:20260423T201139
CREATED:20260201T142652Z
LAST-MODIFIED:20260201T142753Z
UID:10003413-1926586800-1926590400@mtgileadbc.org
SUMMARY:Sunday Morning Service
DESCRIPTION:
URL:https://mtgileadbc.org/event/sunday-morning-service-2/2031-01-19/
CATEGORIES:Adult Ministry,All are Welcome,Kids Ministry,Women Ministry
END:VEVENT
BEGIN:VEVENT
DTSTART;TZID=America/Chicago:20310119T180000
DTEND;TZID=America/Chicago:20310119T190000
DTSTAMP:20260423T201139
CREATED:20260201T143349Z
LAST-MODIFIED:20260201T143350Z
UID:10003430-1926612000-1926615600@mtgileadbc.org
SUMMARY:Sunday Evening Service
DESCRIPTION:
URL:https://mtgileadbc.org/event/sunday-evening-service-2/2031-01-19/
CATEGORIES:All are Welcome
END:VEVENT
BEGIN:VEVENT
DTSTART;TZID=America/Chicago:20310122T180000
DTEND;TZID=America/Chicago:20310122T190000
DTSTAMP:20260423T201139
CREATED:20260104T205947Z
LAST-MODIFIED:20260104T205947Z
UID:10003440-1926871200-1926874800@mtgileadbc.org
SUMMARY:Youth Fellowship & Meal
DESCRIPTION:
URL:https://mtgileadbc.org/event/youth-fellowship-meal/2031-01-22/
CATEGORIES:All are Welcome
END:VEVENT
BEGIN:VEVENT
DTSTART;TZID=America/Chicago:20310122T190000
DTEND;TZID=America/Chicago:20310122T200000
DTSTAMP:20260423T201139
CREATED:20260104T210248Z
LAST-MODIFIED:20260104T210248Z
UID:10003450-1926874800-1926878400@mtgileadbc.org
SUMMARY:Bible Study for All Ages
DESCRIPTION:
URL:https://mtgileadbc.org/event/bible-study-for-all-ages/2031-01-22/
CATEGORIES:Adult Ministry,All are Welcome,Kids Ministry,Women Ministry
END:VEVENT
BEGIN:VEVENT
DTSTART;TZID=America/Chicago:20310126T100000
DTEND;TZID=America/Chicago:20310126T110000
DTSTAMP:20260423T201139
CREATED:20260104T205141Z
LAST-MODIFIED:20260104T205141Z
UID:10003422-1927188000-1927191600@mtgileadbc.org
SUMMARY:Sunday School All-Ages
DESCRIPTION:
URL:https://mtgileadbc.org/event/sunday-school-all-ages/2031-01-26/
LOCATION:Mt Gilead Baptist Church\, 5751 Highway 104 N\, Cedar Grove\, TN\, 38321\, United States
CATEGORIES:Adult Ministry,All are Welcome,Kids Ministry,Women Ministry
END:VEVENT
BEGIN:VEVENT
DTSTART;TZID=America/Chicago:20310126T110000
DTEND;TZID=America/Chicago:20310126T120000
DTSTAMP:20260423T201139
CREATED:20260201T142652Z
LAST-MODIFIED:20260201T142753Z
UID:10003414-1927191600-1927195200@mtgileadbc.org
SUMMARY:Sunday Morning Service
DESCRIPTION:
URL:https://mtgileadbc.org/event/sunday-morning-service-2/2031-01-26/
CATEGORIES:Adult Ministry,All are Welcome,Kids Ministry,Women Ministry
END:VEVENT
BEGIN:VEVENT
DTSTART;TZID=America/Chicago:20310126T180000
DTEND;TZID=America/Chicago:20310126T190000
DTSTAMP:20260423T201139
CREATED:20260201T143349Z
LAST-MODIFIED:20260201T143350Z
UID:10003431-1927216800-1927220400@mtgileadbc.org
SUMMARY:Sunday Evening Service
DESCRIPTION:
URL:https://mtgileadbc.org/event/sunday-evening-service-2/2031-01-26/
CATEGORIES:All are Welcome
END:VEVENT
BEGIN:VEVENT
DTSTART;TZID=America/Chicago:20310129T180000
DTEND;TZID=America/Chicago:20310129T190000
DTSTAMP:20260423T201139
CREATED:20260104T205947Z
LAST-MODIFIED:20260104T205947Z
UID:10003441-1927476000-1927479600@mtgileadbc.org
SUMMARY:Youth Fellowship & Meal
DESCRIPTION:
URL:https://mtgileadbc.org/event/youth-fellowship-meal/2031-01-29/
CATEGORIES:All are Welcome
END:VEVENT
BEGIN:VEVENT
DTSTART;TZID=America/Chicago:20310129T190000
DTEND;TZID=America/Chicago:20310129T200000
DTSTAMP:20260423T201139
CREATED:20260104T210248Z
LAST-MODIFIED:20260104T210248Z
UID:10003451-1927479600-1927483200@mtgileadbc.org
SUMMARY:Bible Study for All Ages
DESCRIPTION:
URL:https://mtgileadbc.org/event/bible-study-for-all-ages/2031-01-29/
CATEGORIES:Adult Ministry,All are Welcome,Kids Ministry,Women Ministry
END:VEVENT
END:VCALENDAR